BEGIN:VCALENDAR
VERSION:2.0
PRODID:-//Gemeinde Kropp - ECPv6.15.20//NONSGML v1.0//EN
CALSCALE:GREGORIAN
METHOD:PUBLISH
X-WR-CALNAME:Gemeinde Kropp
X-ORIGINAL-URL:https://kropp.de
X-WR-CALDESC:Veranstaltungen für Gemeinde Kropp
REFRESH-INTERVAL;VALUE=DURATION:PT1H
X-Robots-Tag:noindex
X-PUBLISHED-TTL:PT1H
BEGIN:VTIMEZONE
TZID:Europe/Berlin
BEGIN:DAYLIGHT
TZOFFSETFROM:+0100
TZOFFSETTO:+0200
TZNAME:CEST
DTSTART:20240331T010000
END:DAYLIGHT
BEGIN:STANDARD
TZOFFSETFROM:+0200
TZOFFSETTO:+0100
TZNAME:CET
DTSTART:20241027T010000
END:STANDARD
BEGIN:DAYLIGHT
TZOFFSETFROM:+0100
TZOFFSETTO:+0200
TZNAME:CEST
DTSTART:20250330T010000
END:DAYLIGHT
BEGIN:STANDARD
TZOFFSETFROM:+0200
TZOFFSETTO:+0100
TZNAME:CET
DTSTART:20251026T010000
END:STANDARD
BEGIN:DAYLIGHT
TZOFFSETFROM:+0100
TZOFFSETTO:+0200
TZNAME:CEST
DTSTART:20260329T010000
END:DAYLIGHT
BEGIN:STANDARD
TZOFFSETFROM:+0200
TZOFFSETTO:+0100
TZNAME:CET
DTSTART:20261025T010000
END:STANDARD
BEGIN:DAYLIGHT
TZOFFSETFROM:+0100
TZOFFSETTO:+0200
TZNAME:CEST
DTSTART:20270328T010000
END:DAYLIGHT
BEGIN:STANDARD
TZOFFSETFROM:+0200
TZOFFSETTO:+0100
TZNAME:CET
DTSTART:20271031T010000
END:STANDARD
END:VTIMEZONE
BEGIN:VEVENT
DTSTART;TZID=Europe/Berlin:20260203T190000
DTEND;TZID=Europe/Berlin:20260203T210000
DTSTAMP:20260423T112736
CREATED:20251113T131214Z
LAST-MODIFIED:20251118T113330Z
UID:10000805-1770145200-1770152400@kropp.de
SUMMARY:Proben der Big Band FFW Kropp
DESCRIPTION:Interessierte Musikerinnen und Musiker sind herzlich Willkommen. Einfach vorbei schauen
URL:https://kropp.de/veranstaltung/proben-der-big-band-ffw-kropp/2026-02-03/
LOCATION:Rettungszentrum Mölensoll Kropp\, Möhlensoll 1\, Kropp\, 24848\, Germany
ATTACH;FMTTYPE=image/jpeg:https://kropp.de/wp-content/uploads/2025/11/Big_Band_FFW_Kropp.jpg
END:VEVENT
BEGIN:VEVENT
DTSTART;TZID=Europe/Berlin:20260127T190000
DTEND;TZID=Europe/Berlin:20260127T210000
DTSTAMP:20260423T112736
CREATED:20251113T131214Z
LAST-MODIFIED:20251118T113330Z
UID:10000804-1769540400-1769547600@kropp.de
SUMMARY:Proben der Big Band FFW Kropp
DESCRIPTION:Interessierte Musikerinnen und Musiker sind herzlich Willkommen. Einfach vorbei schauen
URL:https://kropp.de/veranstaltung/proben-der-big-band-ffw-kropp/2026-01-27/
LOCATION:Rettungszentrum Mölensoll Kropp\, Möhlensoll 1\, Kropp\, 24848\, Germany
ATTACH;FMTTYPE=image/jpeg:https://kropp.de/wp-content/uploads/2025/11/Big_Band_FFW_Kropp.jpg
END:VEVENT
BEGIN:VEVENT
DTSTART;TZID=Europe/Berlin:20260120T190000
DTEND;TZID=Europe/Berlin:20260120T210000
DTSTAMP:20260423T112736
CREATED:20251113T131214Z
LAST-MODIFIED:20251118T113330Z
UID:10000803-1768935600-1768942800@kropp.de
SUMMARY:Proben der Big Band FFW Kropp
DESCRIPTION:Interessierte Musikerinnen und Musiker sind herzlich Willkommen. Einfach vorbei schauen
URL:https://kropp.de/veranstaltung/proben-der-big-band-ffw-kropp/2026-01-20/
LOCATION:Rettungszentrum Mölensoll Kropp\, Möhlensoll 1\, Kropp\, 24848\, Germany
ATTACH;FMTTYPE=image/jpeg:https://kropp.de/wp-content/uploads/2025/11/Big_Band_FFW_Kropp.jpg
END:VEVENT
BEGIN:VEVENT
DTSTART;TZID=Europe/Berlin:20260113T190000
DTEND;TZID=Europe/Berlin:20260113T210000
DTSTAMP:20260423T112736
CREATED:20251113T131214Z
LAST-MODIFIED:20251118T113330Z
UID:10000802-1768330800-1768338000@kropp.de
SUMMARY:Proben der Big Band FFW Kropp
DESCRIPTION:Interessierte Musikerinnen und Musiker sind herzlich Willkommen. Einfach vorbei schauen
URL:https://kropp.de/veranstaltung/proben-der-big-band-ffw-kropp/2026-01-13/
LOCATION:Rettungszentrum Mölensoll Kropp\, Möhlensoll 1\, Kropp\, 24848\, Germany
ATTACH;FMTTYPE=image/jpeg:https://kropp.de/wp-content/uploads/2025/11/Big_Band_FFW_Kropp.jpg
END:VEVENT
BEGIN:VEVENT
DTSTART;TZID=Europe/Berlin:20260106T190000
DTEND;TZID=Europe/Berlin:20260106T210000
DTSTAMP:20260423T112736
CREATED:20251113T131214Z
LAST-MODIFIED:20251118T113330Z
UID:10000801-1767726000-1767733200@kropp.de
SUMMARY:Proben der Big Band FFW Kropp
DESCRIPTION:Interessierte Musikerinnen und Musiker sind herzlich Willkommen. Einfach vorbei schauen
URL:https://kropp.de/veranstaltung/proben-der-big-band-ffw-kropp/2026-01-06/
LOCATION:Rettungszentrum Mölensoll Kropp\, Möhlensoll 1\, Kropp\, 24848\, Germany
ATTACH;FMTTYPE=image/jpeg:https://kropp.de/wp-content/uploads/2025/11/Big_Band_FFW_Kropp.jpg
END:VEVENT
BEGIN:VEVENT
DTSTART;TZID=Europe/Berlin:20251230T190000
DTEND;TZID=Europe/Berlin:20251230T210000
DTSTAMP:20260423T112736
CREATED:20251113T131214Z
LAST-MODIFIED:20251118T113330Z
UID:10000800-1767121200-1767128400@kropp.de
SUMMARY:Proben der Big Band FFW Kropp
DESCRIPTION:Interessierte Musikerinnen und Musiker sind herzlich Willkommen. Einfach vorbei schauen
URL:https://kropp.de/veranstaltung/proben-der-big-band-ffw-kropp/2025-12-30/
LOCATION:Rettungszentrum Mölensoll Kropp\, Möhlensoll 1\, Kropp\, 24848\, Germany
ATTACH;FMTTYPE=image/jpeg:https://kropp.de/wp-content/uploads/2025/11/Big_Band_FFW_Kropp.jpg
END:VEVENT
BEGIN:VEVENT
DTSTART;TZID=Europe/Berlin:20251223T190000
DTEND;TZID=Europe/Berlin:20251223T210000
DTSTAMP:20260423T112736
CREATED:20251113T131214Z
LAST-MODIFIED:20251118T113330Z
UID:10000799-1766516400-1766523600@kropp.de
SUMMARY:Proben der Big Band FFW Kropp
DESCRIPTION:Interessierte Musikerinnen und Musiker sind herzlich Willkommen. Einfach vorbei schauen
URL:https://kropp.de/veranstaltung/proben-der-big-band-ffw-kropp/2025-12-23/
LOCATION:Rettungszentrum Mölensoll Kropp\, Möhlensoll 1\, Kropp\, 24848\, Germany
ATTACH;FMTTYPE=image/jpeg:https://kropp.de/wp-content/uploads/2025/11/Big_Band_FFW_Kropp.jpg
END:VEVENT
BEGIN:VEVENT
DTSTART;TZID=Europe/Berlin:20251216T190000
DTEND;TZID=Europe/Berlin:20251216T210000
DTSTAMP:20260423T112736
CREATED:20251113T131214Z
LAST-MODIFIED:20251118T113330Z
UID:10000798-1765911600-1765918800@kropp.de
SUMMARY:Proben der Big Band FFW Kropp
DESCRIPTION:Interessierte Musikerinnen und Musiker sind herzlich Willkommen. Einfach vorbei schauen
URL:https://kropp.de/veranstaltung/proben-der-big-band-ffw-kropp/2025-12-16/
LOCATION:Rettungszentrum Mölensoll Kropp\, Möhlensoll 1\, Kropp\, 24848\, Germany
ATTACH;FMTTYPE=image/jpeg:https://kropp.de/wp-content/uploads/2025/11/Big_Band_FFW_Kropp.jpg
END:VEVENT
BEGIN:VEVENT
DTSTART;TZID=Europe/Berlin:20251209T190000
DTEND;TZID=Europe/Berlin:20251209T210000
DTSTAMP:20260423T112736
CREATED:20251113T131214Z
LAST-MODIFIED:20251118T113330Z
UID:10000797-1765306800-1765314000@kropp.de
SUMMARY:Proben der Big Band FFW Kropp
DESCRIPTION:Interessierte Musikerinnen und Musiker sind herzlich Willkommen. Einfach vorbei schauen
URL:https://kropp.de/veranstaltung/proben-der-big-band-ffw-kropp/2025-12-09/
LOCATION:Rettungszentrum Mölensoll Kropp\, Möhlensoll 1\, Kropp\, 24848\, Germany
ATTACH;FMTTYPE=image/jpeg:https://kropp.de/wp-content/uploads/2025/11/Big_Band_FFW_Kropp.jpg
END:VEVENT
BEGIN:VEVENT
DTSTART;TZID=Europe/Berlin:20251202T190000
DTEND;TZID=Europe/Berlin:20251202T210000
DTSTAMP:20260423T112736
CREATED:20251113T131214Z
LAST-MODIFIED:20251118T113330Z
UID:10000796-1764702000-1764709200@kropp.de
SUMMARY:Proben der Big Band FFW Kropp
DESCRIPTION:Interessierte Musikerinnen und Musiker sind herzlich Willkommen. Einfach vorbei schauen
URL:https://kropp.de/veranstaltung/proben-der-big-band-ffw-kropp/2025-12-02/
LOCATION:Rettungszentrum Mölensoll Kropp\, Möhlensoll 1\, Kropp\, 24848\, Germany
ATTACH;FMTTYPE=image/jpeg:https://kropp.de/wp-content/uploads/2025/11/Big_Band_FFW_Kropp.jpg
END:VEVENT
BEGIN:VEVENT
DTSTART;TZID=Europe/Berlin:20251125T190000
DTEND;TZID=Europe/Berlin:20251125T210000
DTSTAMP:20260423T112736
CREATED:20251113T131214Z
LAST-MODIFIED:20251118T113330Z
UID:10000795-1764097200-1764104400@kropp.de
SUMMARY:Proben der Big Band FFW Kropp
DESCRIPTION:Interessierte Musikerinnen und Musiker sind herzlich Willkommen. Einfach vorbei schauen
URL:https://kropp.de/veranstaltung/proben-der-big-band-ffw-kropp/2025-11-25/
LOCATION:Rettungszentrum Mölensoll Kropp\, Möhlensoll 1\, Kropp\, 24848\, Germany
ATTACH;FMTTYPE=image/jpeg:https://kropp.de/wp-content/uploads/2025/11/Big_Band_FFW_Kropp.jpg
END:VEVENT
BEGIN:VEVENT
DTSTART;TZID=Europe/Berlin:20251118T190000
DTEND;TZID=Europe/Berlin:20251118T210000
DTSTAMP:20260423T112736
CREATED:20251113T131214Z
LAST-MODIFIED:20251118T113330Z
UID:10000794-1763492400-1763499600@kropp.de
SUMMARY:Proben der Big Band FFW Kropp
DESCRIPTION:Interessierte Musikerinnen und Musiker sind herzlich Willkommen. Einfach vorbei schauen
URL:https://kropp.de/veranstaltung/proben-der-big-band-ffw-kropp/2025-11-18/
LOCATION:Rettungszentrum Mölensoll Kropp\, Möhlensoll 1\, Kropp\, 24848\, Germany
ATTACH;FMTTYPE=image/jpeg:https://kropp.de/wp-content/uploads/2025/11/Big_Band_FFW_Kropp.jpg
END:VEVENT
END:VCALENDAR