BEGIN:VCALENDAR
VERSION:2.0
PRODID:-//Gemeinde Kropp - ECPv6.15.20//NONSGML v1.0//EN
CALSCALE:GREGORIAN
METHOD:PUBLISH
X-ORIGINAL-URL:https://kropp.de
X-WR-CALDESC:Veranstaltungen für Gemeinde Kropp
REFRESH-INTERVAL;VALUE=DURATION:PT1H
X-Robots-Tag:noindex
X-PUBLISHED-TTL:PT1H
BEGIN:VTIMEZONE
TZID:Europe/Berlin
BEGIN:DAYLIGHT
TZOFFSETFROM:+0100
TZOFFSETTO:+0200
TZNAME:CEST
DTSTART:20250330T010000
END:DAYLIGHT
BEGIN:STANDARD
TZOFFSETFROM:+0200
TZOFFSETTO:+0100
TZNAME:CET
DTSTART:20251026T010000
END:STANDARD
BEGIN:DAYLIGHT
TZOFFSETFROM:+0100
TZOFFSETTO:+0200
TZNAME:CEST
DTSTART:20260329T010000
END:DAYLIGHT
BEGIN:STANDARD
TZOFFSETFROM:+0200
TZOFFSETTO:+0100
TZNAME:CET
DTSTART:20261025T010000
END:STANDARD
BEGIN:DAYLIGHT
TZOFFSETFROM:+0100
TZOFFSETTO:+0200
TZNAME:CEST
DTSTART:20270328T010000
END:DAYLIGHT
BEGIN:STANDARD
TZOFFSETFROM:+0200
TZOFFSETTO:+0100
TZNAME:CET
DTSTART:20271031T010000
END:STANDARD
BEGIN:DAYLIGHT
TZOFFSETFROM:+0100
TZOFFSETTO:+0200
TZNAME:CEST
DTSTART:20280326T010000
END:DAYLIGHT
BEGIN:STANDARD
TZOFFSETFROM:+0200
TZOFFSETTO:+0100
TZNAME:CET
DTSTART:20281029T010000
END:STANDARD
END:VTIMEZONE
BEGIN:VEVENT
DTSTART;TZID=Europe/Berlin:20260714T190000
DTEND;TZID=Europe/Berlin:20260714T210000
DTSTAMP:20260421T114049
CREATED:20251113T131214Z
LAST-MODIFIED:20251118T113330Z
UID:10000828-1784055600-1784062800@kropp.de
SUMMARY:Proben der Big Band FFW Kropp
DESCRIPTION:Interessierte Musikerinnen und Musiker sind herzlich Willkommen. Einfach vorbei schauen
URL:https://kropp.de/veranstaltung/proben-der-big-band-ffw-kropp/2026-07-14/
LOCATION:Rettungszentrum Mölensoll Kropp\, Möhlensoll 1\, Kropp\, 24848\, Germany
ATTACH;FMTTYPE=image/jpeg:https://kropp.de/wp-content/uploads/2025/11/Big_Band_FFW_Kropp.jpg
END:VEVENT
BEGIN:VEVENT
DTSTART;TZID=Europe/Berlin:20260721T190000
DTEND;TZID=Europe/Berlin:20260721T210000
DTSTAMP:20260421T114049
CREATED:20251113T131214Z
LAST-MODIFIED:20251118T113330Z
UID:10000829-1784660400-1784667600@kropp.de
SUMMARY:Proben der Big Band FFW Kropp
DESCRIPTION:Interessierte Musikerinnen und Musiker sind herzlich Willkommen. Einfach vorbei schauen
URL:https://kropp.de/veranstaltung/proben-der-big-band-ffw-kropp/2026-07-21/
LOCATION:Rettungszentrum Mölensoll Kropp\, Möhlensoll 1\, Kropp\, 24848\, Germany
ATTACH;FMTTYPE=image/jpeg:https://kropp.de/wp-content/uploads/2025/11/Big_Band_FFW_Kropp.jpg
END:VEVENT
BEGIN:VEVENT
DTSTART;TZID=Europe/Berlin:20260728T190000
DTEND;TZID=Europe/Berlin:20260728T210000
DTSTAMP:20260421T114049
CREATED:20251113T131214Z
LAST-MODIFIED:20251118T113330Z
UID:10000830-1785265200-1785272400@kropp.de
SUMMARY:Proben der Big Band FFW Kropp
DESCRIPTION:Interessierte Musikerinnen und Musiker sind herzlich Willkommen. Einfach vorbei schauen
URL:https://kropp.de/veranstaltung/proben-der-big-band-ffw-kropp/2026-07-28/
LOCATION:Rettungszentrum Mölensoll Kropp\, Möhlensoll 1\, Kropp\, 24848\, Germany
ATTACH;FMTTYPE=image/jpeg:https://kropp.de/wp-content/uploads/2025/11/Big_Band_FFW_Kropp.jpg
END:VEVENT
BEGIN:VEVENT
DTSTART;TZID=Europe/Berlin:20260804T190000
DTEND;TZID=Europe/Berlin:20260804T210000
DTSTAMP:20260421T114049
CREATED:20251113T131214Z
LAST-MODIFIED:20251118T113330Z
UID:10000831-1785870000-1785877200@kropp.de
SUMMARY:Proben der Big Band FFW Kropp
DESCRIPTION:Interessierte Musikerinnen und Musiker sind herzlich Willkommen. Einfach vorbei schauen
URL:https://kropp.de/veranstaltung/proben-der-big-band-ffw-kropp/2026-08-04/
LOCATION:Rettungszentrum Mölensoll Kropp\, Möhlensoll 1\, Kropp\, 24848\, Germany
ATTACH;FMTTYPE=image/jpeg:https://kropp.de/wp-content/uploads/2025/11/Big_Band_FFW_Kropp.jpg
END:VEVENT
BEGIN:VEVENT
DTSTART;TZID=Europe/Berlin:20260811T190000
DTEND;TZID=Europe/Berlin:20260811T210000
DTSTAMP:20260421T114049
CREATED:20251113T131214Z
LAST-MODIFIED:20251118T113330Z
UID:10000832-1786474800-1786482000@kropp.de
SUMMARY:Proben der Big Band FFW Kropp
DESCRIPTION:Interessierte Musikerinnen und Musiker sind herzlich Willkommen. Einfach vorbei schauen
URL:https://kropp.de/veranstaltung/proben-der-big-band-ffw-kropp/2026-08-11/
LOCATION:Rettungszentrum Mölensoll Kropp\, Möhlensoll 1\, Kropp\, 24848\, Germany
ATTACH;FMTTYPE=image/jpeg:https://kropp.de/wp-content/uploads/2025/11/Big_Band_FFW_Kropp.jpg
END:VEVENT
BEGIN:VEVENT
DTSTART;TZID=Europe/Berlin:20260818T190000
DTEND;TZID=Europe/Berlin:20260818T210000
DTSTAMP:20260421T114049
CREATED:20251113T131214Z
LAST-MODIFIED:20251118T113330Z
UID:10000833-1787079600-1787086800@kropp.de
SUMMARY:Proben der Big Band FFW Kropp
DESCRIPTION:Interessierte Musikerinnen und Musiker sind herzlich Willkommen. Einfach vorbei schauen
URL:https://kropp.de/veranstaltung/proben-der-big-band-ffw-kropp/2026-08-18/
LOCATION:Rettungszentrum Mölensoll Kropp\, Möhlensoll 1\, Kropp\, 24848\, Germany
ATTACH;FMTTYPE=image/jpeg:https://kropp.de/wp-content/uploads/2025/11/Big_Band_FFW_Kropp.jpg
END:VEVENT
BEGIN:VEVENT
DTSTART;TZID=Europe/Berlin:20260825T190000
DTEND;TZID=Europe/Berlin:20260825T210000
DTSTAMP:20260421T114049
CREATED:20251113T131214Z
LAST-MODIFIED:20251118T113330Z
UID:10000834-1787684400-1787691600@kropp.de
SUMMARY:Proben der Big Band FFW Kropp
DESCRIPTION:Interessierte Musikerinnen und Musiker sind herzlich Willkommen. Einfach vorbei schauen
URL:https://kropp.de/veranstaltung/proben-der-big-band-ffw-kropp/2026-08-25/
LOCATION:Rettungszentrum Mölensoll Kropp\, Möhlensoll 1\, Kropp\, 24848\, Germany
ATTACH;FMTTYPE=image/jpeg:https://kropp.de/wp-content/uploads/2025/11/Big_Band_FFW_Kropp.jpg
END:VEVENT
BEGIN:VEVENT
DTSTART;TZID=Europe/Berlin:20260901T190000
DTEND;TZID=Europe/Berlin:20260901T210000
DTSTAMP:20260421T114049
CREATED:20251113T131214Z
LAST-MODIFIED:20251118T113330Z
UID:10000835-1788289200-1788296400@kropp.de
SUMMARY:Proben der Big Band FFW Kropp
DESCRIPTION:Interessierte Musikerinnen und Musiker sind herzlich Willkommen. Einfach vorbei schauen
URL:https://kropp.de/veranstaltung/proben-der-big-band-ffw-kropp/2026-09-01/
LOCATION:Rettungszentrum Mölensoll Kropp\, Möhlensoll 1\, Kropp\, 24848\, Germany
ATTACH;FMTTYPE=image/jpeg:https://kropp.de/wp-content/uploads/2025/11/Big_Band_FFW_Kropp.jpg
END:VEVENT
BEGIN:VEVENT
DTSTART;TZID=Europe/Berlin:20260908T190000
DTEND;TZID=Europe/Berlin:20260908T210000
DTSTAMP:20260421T114049
CREATED:20251113T131214Z
LAST-MODIFIED:20251118T113330Z
UID:10000836-1788894000-1788901200@kropp.de
SUMMARY:Proben der Big Band FFW Kropp
DESCRIPTION:Interessierte Musikerinnen und Musiker sind herzlich Willkommen. Einfach vorbei schauen
URL:https://kropp.de/veranstaltung/proben-der-big-band-ffw-kropp/2026-09-08/
LOCATION:Rettungszentrum Mölensoll Kropp\, Möhlensoll 1\, Kropp\, 24848\, Germany
ATTACH;FMTTYPE=image/jpeg:https://kropp.de/wp-content/uploads/2025/11/Big_Band_FFW_Kropp.jpg
END:VEVENT
BEGIN:VEVENT
DTSTART;TZID=Europe/Berlin:20260915T190000
DTEND;TZID=Europe/Berlin:20260915T210000
DTSTAMP:20260421T114049
CREATED:20251113T131214Z
LAST-MODIFIED:20251118T113330Z
UID:10000837-1789498800-1789506000@kropp.de
SUMMARY:Proben der Big Band FFW Kropp
DESCRIPTION:Interessierte Musikerinnen und Musiker sind herzlich Willkommen. Einfach vorbei schauen
URL:https://kropp.de/veranstaltung/proben-der-big-band-ffw-kropp/2026-09-15/
LOCATION:Rettungszentrum Mölensoll Kropp\, Möhlensoll 1\, Kropp\, 24848\, Germany
ATTACH;FMTTYPE=image/jpeg:https://kropp.de/wp-content/uploads/2025/11/Big_Band_FFW_Kropp.jpg
END:VEVENT
BEGIN:VEVENT
DTSTART;TZID=Europe/Berlin:20260922T190000
DTEND;TZID=Europe/Berlin:20260922T210000
DTSTAMP:20260421T114049
CREATED:20251113T131214Z
LAST-MODIFIED:20251118T113330Z
UID:10000838-1790103600-1790110800@kropp.de
SUMMARY:Proben der Big Band FFW Kropp
DESCRIPTION:Interessierte Musikerinnen und Musiker sind herzlich Willkommen. Einfach vorbei schauen
URL:https://kropp.de/veranstaltung/proben-der-big-band-ffw-kropp/2026-09-22/
LOCATION:Rettungszentrum Mölensoll Kropp\, Möhlensoll 1\, Kropp\, 24848\, Germany
ATTACH;FMTTYPE=image/jpeg:https://kropp.de/wp-content/uploads/2025/11/Big_Band_FFW_Kropp.jpg
END:VEVENT
BEGIN:VEVENT
DTSTART;TZID=Europe/Berlin:20260929T190000
DTEND;TZID=Europe/Berlin:20260929T210000
DTSTAMP:20260421T114049
CREATED:20251113T131214Z
LAST-MODIFIED:20251118T113330Z
UID:10000839-1790708400-1790715600@kropp.de
SUMMARY:Proben der Big Band FFW Kropp
DESCRIPTION:Interessierte Musikerinnen und Musiker sind herzlich Willkommen. Einfach vorbei schauen
URL:https://kropp.de/veranstaltung/proben-der-big-band-ffw-kropp/2026-09-29/
LOCATION:Rettungszentrum Mölensoll Kropp\, Möhlensoll 1\, Kropp\, 24848\, Germany
ATTACH;FMTTYPE=image/jpeg:https://kropp.de/wp-content/uploads/2025/11/Big_Band_FFW_Kropp.jpg
END:VEVENT
BEGIN:VEVENT
DTSTART;TZID=Europe/Berlin:20261006T190000
DTEND;TZID=Europe/Berlin:20261006T210000
DTSTAMP:20260421T114049
CREATED:20251113T131214Z
LAST-MODIFIED:20251118T113330Z
UID:10000840-1791313200-1791320400@kropp.de
SUMMARY:Proben der Big Band FFW Kropp
DESCRIPTION:Interessierte Musikerinnen und Musiker sind herzlich Willkommen. Einfach vorbei schauen
URL:https://kropp.de/veranstaltung/proben-der-big-band-ffw-kropp/2026-10-06/
LOCATION:Rettungszentrum Mölensoll Kropp\, Möhlensoll 1\, Kropp\, 24848\, Germany
ATTACH;FMTTYPE=image/jpeg:https://kropp.de/wp-content/uploads/2025/11/Big_Band_FFW_Kropp.jpg
END:VEVENT
BEGIN:VEVENT
DTSTART;TZID=Europe/Berlin:20261013T190000
DTEND;TZID=Europe/Berlin:20261013T210000
DTSTAMP:20260421T114049
CREATED:20251113T131214Z
LAST-MODIFIED:20251118T113330Z
UID:10000841-1791918000-1791925200@kropp.de
SUMMARY:Proben der Big Band FFW Kropp
DESCRIPTION:Interessierte Musikerinnen und Musiker sind herzlich Willkommen. Einfach vorbei schauen
URL:https://kropp.de/veranstaltung/proben-der-big-band-ffw-kropp/2026-10-13/
LOCATION:Rettungszentrum Mölensoll Kropp\, Möhlensoll 1\, Kropp\, 24848\, Germany
ATTACH;FMTTYPE=image/jpeg:https://kropp.de/wp-content/uploads/2025/11/Big_Band_FFW_Kropp.jpg
END:VEVENT
BEGIN:VEVENT
DTSTART;TZID=Europe/Berlin:20261020T190000
DTEND;TZID=Europe/Berlin:20261020T210000
DTSTAMP:20260421T114049
CREATED:20251113T131214Z
LAST-MODIFIED:20251118T113330Z
UID:10000842-1792522800-1792530000@kropp.de
SUMMARY:Proben der Big Band FFW Kropp
DESCRIPTION:Interessierte Musikerinnen und Musiker sind herzlich Willkommen. Einfach vorbei schauen
URL:https://kropp.de/veranstaltung/proben-der-big-band-ffw-kropp/2026-10-20/
LOCATION:Rettungszentrum Mölensoll Kropp\, Möhlensoll 1\, Kropp\, 24848\, Germany
ATTACH;FMTTYPE=image/jpeg:https://kropp.de/wp-content/uploads/2025/11/Big_Band_FFW_Kropp.jpg
END:VEVENT
BEGIN:VEVENT
DTSTART;TZID=Europe/Berlin:20261027T190000
DTEND;TZID=Europe/Berlin:20261027T210000
DTSTAMP:20260421T114049
CREATED:20251113T131214Z
LAST-MODIFIED:20251118T113330Z
UID:10000843-1793127600-1793134800@kropp.de
SUMMARY:Proben der Big Band FFW Kropp
DESCRIPTION:Interessierte Musikerinnen und Musiker sind herzlich Willkommen. Einfach vorbei schauen
URL:https://kropp.de/veranstaltung/proben-der-big-band-ffw-kropp/2026-10-27/
LOCATION:Rettungszentrum Mölensoll Kropp\, Möhlensoll 1\, Kropp\, 24848\, Germany
ATTACH;FMTTYPE=image/jpeg:https://kropp.de/wp-content/uploads/2025/11/Big_Band_FFW_Kropp.jpg
END:VEVENT
BEGIN:VEVENT
DTSTART;TZID=Europe/Berlin:20261103T190000
DTEND;TZID=Europe/Berlin:20261103T210000
DTSTAMP:20260421T114049
CREATED:20251113T131214Z
LAST-MODIFIED:20251118T113330Z
UID:10000844-1793732400-1793739600@kropp.de
SUMMARY:Proben der Big Band FFW Kropp
DESCRIPTION:Interessierte Musikerinnen und Musiker sind herzlich Willkommen. Einfach vorbei schauen
URL:https://kropp.de/veranstaltung/proben-der-big-band-ffw-kropp/2026-11-03/
LOCATION:Rettungszentrum Mölensoll Kropp\, Möhlensoll 1\, Kropp\, 24848\, Germany
ATTACH;FMTTYPE=image/jpeg:https://kropp.de/wp-content/uploads/2025/11/Big_Band_FFW_Kropp.jpg
END:VEVENT
BEGIN:VEVENT
DTSTART;TZID=Europe/Berlin:20261110T190000
DTEND;TZID=Europe/Berlin:20261110T210000
DTSTAMP:20260421T114049
CREATED:20251113T131214Z
LAST-MODIFIED:20251118T113330Z
UID:10000845-1794337200-1794344400@kropp.de
SUMMARY:Proben der Big Band FFW Kropp
DESCRIPTION:Interessierte Musikerinnen und Musiker sind herzlich Willkommen. Einfach vorbei schauen
URL:https://kropp.de/veranstaltung/proben-der-big-band-ffw-kropp/2026-11-10/
LOCATION:Rettungszentrum Mölensoll Kropp\, Möhlensoll 1\, Kropp\, 24848\, Germany
ATTACH;FMTTYPE=image/jpeg:https://kropp.de/wp-content/uploads/2025/11/Big_Band_FFW_Kropp.jpg
END:VEVENT
BEGIN:VEVENT
DTSTART;TZID=Europe/Berlin:20261117T190000
DTEND;TZID=Europe/Berlin:20261117T210000
DTSTAMP:20260421T114049
CREATED:20251113T131214Z
LAST-MODIFIED:20251118T113330Z
UID:10000846-1794942000-1794949200@kropp.de
SUMMARY:Proben der Big Band FFW Kropp
DESCRIPTION:Interessierte Musikerinnen und Musiker sind herzlich Willkommen. Einfach vorbei schauen
URL:https://kropp.de/veranstaltung/proben-der-big-band-ffw-kropp/2026-11-17/
LOCATION:Rettungszentrum Mölensoll Kropp\, Möhlensoll 1\, Kropp\, 24848\, Germany
ATTACH;FMTTYPE=image/jpeg:https://kropp.de/wp-content/uploads/2025/11/Big_Band_FFW_Kropp.jpg
END:VEVENT
BEGIN:VEVENT
DTSTART;TZID=Europe/Berlin:20261124T190000
DTEND;TZID=Europe/Berlin:20261124T210000
DTSTAMP:20260421T114049
CREATED:20251113T131214Z
LAST-MODIFIED:20251118T113330Z
UID:10000847-1795546800-1795554000@kropp.de
SUMMARY:Proben der Big Band FFW Kropp
DESCRIPTION:Interessierte Musikerinnen und Musiker sind herzlich Willkommen. Einfach vorbei schauen
URL:https://kropp.de/veranstaltung/proben-der-big-band-ffw-kropp/2026-11-24/
LOCATION:Rettungszentrum Mölensoll Kropp\, Möhlensoll 1\, Kropp\, 24848\, Germany
ATTACH;FMTTYPE=image/jpeg:https://kropp.de/wp-content/uploads/2025/11/Big_Band_FFW_Kropp.jpg
END:VEVENT
BEGIN:VEVENT
DTSTART;TZID=Europe/Berlin:20261201T190000
DTEND;TZID=Europe/Berlin:20261201T210000
DTSTAMP:20260421T114049
CREATED:20251113T131214Z
LAST-MODIFIED:20251118T113330Z
UID:10000848-1796151600-1796158800@kropp.de
SUMMARY:Proben der Big Band FFW Kropp
DESCRIPTION:Interessierte Musikerinnen und Musiker sind herzlich Willkommen. Einfach vorbei schauen
URL:https://kropp.de/veranstaltung/proben-der-big-band-ffw-kropp/2026-12-01/
LOCATION:Rettungszentrum Mölensoll Kropp\, Möhlensoll 1\, Kropp\, 24848\, Germany
ATTACH;FMTTYPE=image/jpeg:https://kropp.de/wp-content/uploads/2025/11/Big_Band_FFW_Kropp.jpg
END:VEVENT
BEGIN:VEVENT
DTSTART;TZID=Europe/Berlin:20261208T190000
DTEND;TZID=Europe/Berlin:20261208T210000
DTSTAMP:20260421T114049
CREATED:20251113T131214Z
LAST-MODIFIED:20251118T113330Z
UID:10000849-1796756400-1796763600@kropp.de
SUMMARY:Proben der Big Band FFW Kropp
DESCRIPTION:Interessierte Musikerinnen und Musiker sind herzlich Willkommen. Einfach vorbei schauen
URL:https://kropp.de/veranstaltung/proben-der-big-band-ffw-kropp/2026-12-08/
LOCATION:Rettungszentrum Mölensoll Kropp\, Möhlensoll 1\, Kropp\, 24848\, Germany
ATTACH;FMTTYPE=image/jpeg:https://kropp.de/wp-content/uploads/2025/11/Big_Band_FFW_Kropp.jpg
END:VEVENT
BEGIN:VEVENT
DTSTART;TZID=Europe/Berlin:20261215T190000
DTEND;TZID=Europe/Berlin:20261215T210000
DTSTAMP:20260421T114049
CREATED:20251113T131214Z
LAST-MODIFIED:20251118T113330Z
UID:10000850-1797361200-1797368400@kropp.de
SUMMARY:Proben der Big Band FFW Kropp
DESCRIPTION:Interessierte Musikerinnen und Musiker sind herzlich Willkommen. Einfach vorbei schauen
URL:https://kropp.de/veranstaltung/proben-der-big-band-ffw-kropp/2026-12-15/
LOCATION:Rettungszentrum Mölensoll Kropp\, Möhlensoll 1\, Kropp\, 24848\, Germany
ATTACH;FMTTYPE=image/jpeg:https://kropp.de/wp-content/uploads/2025/11/Big_Band_FFW_Kropp.jpg
END:VEVENT
BEGIN:VEVENT
DTSTART;TZID=Europe/Berlin:20261222T190000
DTEND;TZID=Europe/Berlin:20261222T210000
DTSTAMP:20260421T114050
CREATED:20251113T131214Z
LAST-MODIFIED:20251118T113330Z
UID:10000851-1797966000-1797973200@kropp.de
SUMMARY:Proben der Big Band FFW Kropp
DESCRIPTION:Interessierte Musikerinnen und Musiker sind herzlich Willkommen. Einfach vorbei schauen
URL:https://kropp.de/veranstaltung/proben-der-big-band-ffw-kropp/2026-12-22/
LOCATION:Rettungszentrum Mölensoll Kropp\, Möhlensoll 1\, Kropp\, 24848\, Germany
ATTACH;FMTTYPE=image/jpeg:https://kropp.de/wp-content/uploads/2025/11/Big_Band_FFW_Kropp.jpg
END:VEVENT
BEGIN:VEVENT
DTSTART;TZID=Europe/Berlin:20261229T190000
DTEND;TZID=Europe/Berlin:20261229T210000
DTSTAMP:20260421T114050
CREATED:20251113T131214Z
LAST-MODIFIED:20251118T113330Z
UID:10000852-1798570800-1798578000@kropp.de
SUMMARY:Proben der Big Band FFW Kropp
DESCRIPTION:Interessierte Musikerinnen und Musiker sind herzlich Willkommen. Einfach vorbei schauen
URL:https://kropp.de/veranstaltung/proben-der-big-band-ffw-kropp/2026-12-29/
LOCATION:Rettungszentrum Mölensoll Kropp\, Möhlensoll 1\, Kropp\, 24848\, Germany
ATTACH;FMTTYPE=image/jpeg:https://kropp.de/wp-content/uploads/2025/11/Big_Band_FFW_Kropp.jpg
END:VEVENT
BEGIN:VEVENT
DTSTART;TZID=Europe/Berlin:20270105T190000
DTEND;TZID=Europe/Berlin:20270105T210000
DTSTAMP:20260421T114050
CREATED:20251113T131214Z
LAST-MODIFIED:20251118T113330Z
UID:10000853-1799175600-1799182800@kropp.de
SUMMARY:Proben der Big Band FFW Kropp
DESCRIPTION:Interessierte Musikerinnen und Musiker sind herzlich Willkommen. Einfach vorbei schauen
URL:https://kropp.de/veranstaltung/proben-der-big-band-ffw-kropp/2027-01-05/
LOCATION:Rettungszentrum Mölensoll Kropp\, Möhlensoll 1\, Kropp\, 24848\, Germany
ATTACH;FMTTYPE=image/jpeg:https://kropp.de/wp-content/uploads/2025/11/Big_Band_FFW_Kropp.jpg
END:VEVENT
BEGIN:VEVENT
DTSTART;TZID=Europe/Berlin:20270112T190000
DTEND;TZID=Europe/Berlin:20270112T210000
DTSTAMP:20260421T114050
CREATED:20251113T131214Z
LAST-MODIFIED:20251118T113330Z
UID:10000854-1799780400-1799787600@kropp.de
SUMMARY:Proben der Big Band FFW Kropp
DESCRIPTION:Interessierte Musikerinnen und Musiker sind herzlich Willkommen. Einfach vorbei schauen
URL:https://kropp.de/veranstaltung/proben-der-big-band-ffw-kropp/2027-01-12/
LOCATION:Rettungszentrum Mölensoll Kropp\, Möhlensoll 1\, Kropp\, 24848\, Germany
ATTACH;FMTTYPE=image/jpeg:https://kropp.de/wp-content/uploads/2025/11/Big_Band_FFW_Kropp.jpg
END:VEVENT
BEGIN:VEVENT
DTSTART;TZID=Europe/Berlin:20270119T190000
DTEND;TZID=Europe/Berlin:20270119T210000
DTSTAMP:20260421T114050
CREATED:20251113T131214Z
LAST-MODIFIED:20251118T113330Z
UID:10000855-1800385200-1800392400@kropp.de
SUMMARY:Proben der Big Band FFW Kropp
DESCRIPTION:Interessierte Musikerinnen und Musiker sind herzlich Willkommen. Einfach vorbei schauen
URL:https://kropp.de/veranstaltung/proben-der-big-band-ffw-kropp/2027-01-19/
LOCATION:Rettungszentrum Mölensoll Kropp\, Möhlensoll 1\, Kropp\, 24848\, Germany
ATTACH;FMTTYPE=image/jpeg:https://kropp.de/wp-content/uploads/2025/11/Big_Band_FFW_Kropp.jpg
END:VEVENT
BEGIN:VEVENT
DTSTART;TZID=Europe/Berlin:20270126T190000
DTEND;TZID=Europe/Berlin:20270126T210000
DTSTAMP:20260421T114050
CREATED:20251113T131214Z
LAST-MODIFIED:20251118T113330Z
UID:10000856-1800990000-1800997200@kropp.de
SUMMARY:Proben der Big Band FFW Kropp
DESCRIPTION:Interessierte Musikerinnen und Musiker sind herzlich Willkommen. Einfach vorbei schauen
URL:https://kropp.de/veranstaltung/proben-der-big-band-ffw-kropp/2027-01-26/
LOCATION:Rettungszentrum Mölensoll Kropp\, Möhlensoll 1\, Kropp\, 24848\, Germany
ATTACH;FMTTYPE=image/jpeg:https://kropp.de/wp-content/uploads/2025/11/Big_Band_FFW_Kropp.jpg
END:VEVENT
BEGIN:VEVENT
DTSTART;TZID=Europe/Berlin:20270202T190000
DTEND;TZID=Europe/Berlin:20270202T210000
DTSTAMP:20260421T114050
CREATED:20251113T131214Z
LAST-MODIFIED:20251118T113330Z
UID:10000857-1801594800-1801602000@kropp.de
SUMMARY:Proben der Big Band FFW Kropp
DESCRIPTION:Interessierte Musikerinnen und Musiker sind herzlich Willkommen. Einfach vorbei schauen
URL:https://kropp.de/veranstaltung/proben-der-big-band-ffw-kropp/2027-02-02/
LOCATION:Rettungszentrum Mölensoll Kropp\, Möhlensoll 1\, Kropp\, 24848\, Germany
ATTACH;FMTTYPE=image/jpeg:https://kropp.de/wp-content/uploads/2025/11/Big_Band_FFW_Kropp.jpg
END:VEVENT
END:VCALENDAR