BEGIN:VCALENDAR
VERSION:2.0
PRODID:-//Gemeinde Kropp - ECPv6.15.20//NONSGML v1.0//EN
CALSCALE:GREGORIAN
METHOD:PUBLISH
X-ORIGINAL-URL:https://kropp.de
X-WR-CALDESC:Veranstaltungen für Gemeinde Kropp
REFRESH-INTERVAL;VALUE=DURATION:PT1H
X-Robots-Tag:noindex
X-PUBLISHED-TTL:PT1H
BEGIN:VTIMEZONE
TZID:Europe/Berlin
BEGIN:DAYLIGHT
TZOFFSETFROM:+0100
TZOFFSETTO:+0200
TZNAME:CEST
DTSTART:20250330T010000
END:DAYLIGHT
BEGIN:STANDARD
TZOFFSETFROM:+0200
TZOFFSETTO:+0100
TZNAME:CET
DTSTART:20251026T010000
END:STANDARD
BEGIN:DAYLIGHT
TZOFFSETFROM:+0100
TZOFFSETTO:+0200
TZNAME:CEST
DTSTART:20260329T010000
END:DAYLIGHT
BEGIN:STANDARD
TZOFFSETFROM:+0200
TZOFFSETTO:+0100
TZNAME:CET
DTSTART:20261025T010000
END:STANDARD
BEGIN:DAYLIGHT
TZOFFSETFROM:+0100
TZOFFSETTO:+0200
TZNAME:CEST
DTSTART:20270328T010000
END:DAYLIGHT
BEGIN:STANDARD
TZOFFSETFROM:+0200
TZOFFSETTO:+0100
TZNAME:CET
DTSTART:20271031T010000
END:STANDARD
END:VTIMEZONE
BEGIN:VEVENT
DTSTART;TZID=Europe/Berlin:20260201T143000
DTEND;TZID=Europe/Berlin:20260201T170000
DTSTAMP:20260423T112902
CREATED:20260109T122952Z
LAST-MODIFIED:20260109T122952Z
UID:10006471-1769956200-1769965200@kropp.de
SUMMARY:Kokenverdrein
DESCRIPTION:Der Förderverein Freibad Wohlde lädt zum jährlichen Kokenverdrein ein. Es können selbstgebackene Torten erdreht werden. Ein Spaß für alle.
URL:https://kropp.de/veranstaltung/kokenverdrein/
LOCATION:Muhl´s Gasthof\, Dorfstraße 44\, Wohlde\, 24899
ATTACH;FMTTYPE=image/jpeg:https://kropp.de/wp-content/uploads/2026/01/Tortenvielfalt.jpg
END:VEVENT
END:VCALENDAR