BEGIN:VCALENDAR
VERSION:2.0
PRODID:-//Gemeinde Kropp - ECPv6.15.20//NONSGML v1.0//EN
CALSCALE:GREGORIAN
METHOD:PUBLISH
X-ORIGINAL-URL:https://kropp.de
X-WR-CALDESC:Veranstaltungen für Gemeinde Kropp
REFRESH-INTERVAL;VALUE=DURATION:PT1H
X-Robots-Tag:noindex
X-PUBLISHED-TTL:PT1H
BEGIN:VTIMEZONE
TZID:Europe/Berlin
BEGIN:DAYLIGHT
TZOFFSETFROM:+0100
TZOFFSETTO:+0200
TZNAME:CEST
DTSTART:20250330T010000
END:DAYLIGHT
BEGIN:STANDARD
TZOFFSETFROM:+0200
TZOFFSETTO:+0100
TZNAME:CET
DTSTART:20251026T010000
END:STANDARD
BEGIN:DAYLIGHT
TZOFFSETFROM:+0100
TZOFFSETTO:+0200
TZNAME:CEST
DTSTART:20260329T010000
END:DAYLIGHT
BEGIN:STANDARD
TZOFFSETFROM:+0200
TZOFFSETTO:+0100
TZNAME:CET
DTSTART:20261025T010000
END:STANDARD
BEGIN:DAYLIGHT
TZOFFSETFROM:+0100
TZOFFSETTO:+0200
TZNAME:CEST
DTSTART:20270328T010000
END:DAYLIGHT
BEGIN:STANDARD
TZOFFSETFROM:+0200
TZOFFSETTO:+0100
TZNAME:CET
DTSTART:20271031T010000
END:STANDARD
END:VTIMEZONE
BEGIN:VEVENT
DTSTART;TZID=Europe/Berlin:20260206T170000
DTEND;TZID=Europe/Berlin:20260206T200000
DTSTAMP:20260423T112927
CREATED:20260205T094444Z
LAST-MODIFIED:20260205T094444Z
UID:10007061-1770397200-1770408000@kropp.de
SUMMARY:Jugendfeuerwehr Börm
DESCRIPTION:
URL:https://kropp.de/veranstaltung/jugendfeuerwehr-boerm/2026-02-06/
ATTACH;FMTTYPE=image/jpeg:https://kropp.de/wp-content/uploads/2025/12/Freiwillige_Feuerwehr.jpg
END:VEVENT
BEGIN:VEVENT
DTSTART;TZID=Europe/Berlin:20260202T193000
DTEND;TZID=Europe/Berlin:20260202T210000
DTSTAMP:20260423T112927
CREATED:20260108T120216Z
LAST-MODIFIED:20260108T120216Z
UID:10004630-1770060600-1770066000@kropp.de
SUMMARY:Feuerwehrdienst
DESCRIPTION:
URL:https://kropp.de/veranstaltung/feuerwehrdienst/2026-02-02/
LOCATION:Feuerwehrgerätehaus Börm\, Koogstraße 2\, Börm\, 24863\, Germany
ATTACH;FMTTYPE=image/jpeg:https://kropp.de/wp-content/uploads/2025/12/Freiwillige_Feuerwehr.jpg
END:VEVENT
BEGIN:VEVENT
DTSTART;TZID=Europe/Berlin:20260130T170000
DTEND;TZID=Europe/Berlin:20260130T200000
DTSTAMP:20260423T112927
CREATED:20260205T094444Z
LAST-MODIFIED:20260205T094444Z
UID:10007060-1769792400-1769803200@kropp.de
SUMMARY:Jugendfeuerwehr Börm
DESCRIPTION:
URL:https://kropp.de/veranstaltung/jugendfeuerwehr-boerm/2026-01-30/
ATTACH;FMTTYPE=image/jpeg:https://kropp.de/wp-content/uploads/2025/12/Freiwillige_Feuerwehr.jpg
END:VEVENT
BEGIN:VEVENT
DTSTART;TZID=Europe/Berlin:20260105T193000
DTEND;TZID=Europe/Berlin:20260105T210000
DTSTAMP:20260423T112927
CREATED:20260108T120216Z
LAST-MODIFIED:20260108T120216Z
UID:10004629-1767641400-1767646800@kropp.de
SUMMARY:Feuerwehrdienst
DESCRIPTION:
URL:https://kropp.de/veranstaltung/feuerwehrdienst/2026-01-05/
LOCATION:Feuerwehrgerätehaus Börm\, Koogstraße 2\, Börm\, 24863\, Germany
ATTACH;FMTTYPE=image/jpeg:https://kropp.de/wp-content/uploads/2025/12/Freiwillige_Feuerwehr.jpg
END:VEVENT
END:VCALENDAR