BEGIN:VCALENDAR
VERSION:2.0
PRODID:-//Gemeinde Kropp - ECPv6.15.20//NONSGML v1.0//EN
CALSCALE:GREGORIAN
METHOD:PUBLISH
X-ORIGINAL-URL:https://kropp.de
X-WR-CALDESC:Veranstaltungen für Gemeinde Kropp
REFRESH-INTERVAL;VALUE=DURATION:PT1H
X-Robots-Tag:noindex
X-PUBLISHED-TTL:PT1H
BEGIN:VTIMEZONE
TZID:Europe/Berlin
BEGIN:DAYLIGHT
TZOFFSETFROM:+0100
TZOFFSETTO:+0200
TZNAME:CEST
DTSTART:20250330T010000
END:DAYLIGHT
BEGIN:STANDARD
TZOFFSETFROM:+0200
TZOFFSETTO:+0100
TZNAME:CET
DTSTART:20251026T010000
END:STANDARD
BEGIN:DAYLIGHT
TZOFFSETFROM:+0100
TZOFFSETTO:+0200
TZNAME:CEST
DTSTART:20260329T010000
END:DAYLIGHT
BEGIN:STANDARD
TZOFFSETFROM:+0200
TZOFFSETTO:+0100
TZNAME:CET
DTSTART:20261025T010000
END:STANDARD
BEGIN:DAYLIGHT
TZOFFSETFROM:+0100
TZOFFSETTO:+0200
TZNAME:CEST
DTSTART:20270328T010000
END:DAYLIGHT
BEGIN:STANDARD
TZOFFSETFROM:+0200
TZOFFSETTO:+0100
TZNAME:CET
DTSTART:20271031T010000
END:STANDARD
BEGIN:DAYLIGHT
TZOFFSETFROM:+0100
TZOFFSETTO:+0200
TZNAME:CEST
DTSTART:20280326T010000
END:DAYLIGHT
BEGIN:STANDARD
TZOFFSETFROM:+0200
TZOFFSETTO:+0100
TZNAME:CET
DTSTART:20281029T010000
END:STANDARD
END:VTIMEZONE
BEGIN:VEVENT
DTSTART;TZID=Europe/Berlin:20261113T170000
DTEND;TZID=Europe/Berlin:20261113T200000
DTSTAMP:20260425T180244
CREATED:20260205T094444Z
LAST-MODIFIED:20260205T094444Z
UID:10007101-1794589200-1794600000@kropp.de
SUMMARY:Jugendfeuerwehr Börm
DESCRIPTION:
URL:https://kropp.de/veranstaltung/jugendfeuerwehr-boerm/2026-11-13/
ATTACH;FMTTYPE=image/jpeg:https://kropp.de/wp-content/uploads/2025/12/Freiwillige_Feuerwehr.jpg
END:VEVENT
BEGIN:VEVENT
DTSTART;TZID=Europe/Berlin:20261120T170000
DTEND;TZID=Europe/Berlin:20261120T200000
DTSTAMP:20260425T180244
CREATED:20260205T094444Z
LAST-MODIFIED:20260205T094444Z
UID:10007102-1795194000-1795204800@kropp.de
SUMMARY:Jugendfeuerwehr Börm
DESCRIPTION:
URL:https://kropp.de/veranstaltung/jugendfeuerwehr-boerm/2026-11-20/
ATTACH;FMTTYPE=image/jpeg:https://kropp.de/wp-content/uploads/2025/12/Freiwillige_Feuerwehr.jpg
END:VEVENT
BEGIN:VEVENT
DTSTART;TZID=Europe/Berlin:20261127T170000
DTEND;TZID=Europe/Berlin:20261127T200000
DTSTAMP:20260425T180244
CREATED:20260205T094444Z
LAST-MODIFIED:20260205T094444Z
UID:10007103-1795798800-1795809600@kropp.de
SUMMARY:Jugendfeuerwehr Börm
DESCRIPTION:
URL:https://kropp.de/veranstaltung/jugendfeuerwehr-boerm/2026-11-27/
ATTACH;FMTTYPE=image/jpeg:https://kropp.de/wp-content/uploads/2025/12/Freiwillige_Feuerwehr.jpg
END:VEVENT
BEGIN:VEVENT
DTSTART;TZID=Europe/Berlin:20261204T170000
DTEND;TZID=Europe/Berlin:20261204T200000
DTSTAMP:20260425T180244
CREATED:20260205T094444Z
LAST-MODIFIED:20260205T094444Z
UID:10007104-1796403600-1796414400@kropp.de
SUMMARY:Jugendfeuerwehr Börm
DESCRIPTION:
URL:https://kropp.de/veranstaltung/jugendfeuerwehr-boerm/2026-12-04/
ATTACH;FMTTYPE=image/jpeg:https://kropp.de/wp-content/uploads/2025/12/Freiwillige_Feuerwehr.jpg
END:VEVENT
BEGIN:VEVENT
DTSTART;TZID=Europe/Berlin:20261207T193000
DTEND;TZID=Europe/Berlin:20261207T210000
DTSTAMP:20260425T180244
CREATED:20260108T120216Z
LAST-MODIFIED:20260108T120216Z
UID:10004640-1796671800-1796677200@kropp.de
SUMMARY:Feuerwehrdienst
DESCRIPTION:
URL:https://kropp.de/veranstaltung/feuerwehrdienst/2026-12-07/
LOCATION:Feuerwehrgerätehaus Börm\, Koogstraße 2\, Börm\, 24863\, Germany
ATTACH;FMTTYPE=image/jpeg:https://kropp.de/wp-content/uploads/2025/12/Freiwillige_Feuerwehr.jpg
END:VEVENT
BEGIN:VEVENT
DTSTART;TZID=Europe/Berlin:20261211T170000
DTEND;TZID=Europe/Berlin:20261211T200000
DTSTAMP:20260425T180244
CREATED:20260205T094444Z
LAST-MODIFIED:20260205T094444Z
UID:10007105-1797008400-1797019200@kropp.de
SUMMARY:Jugendfeuerwehr Börm
DESCRIPTION:
URL:https://kropp.de/veranstaltung/jugendfeuerwehr-boerm/2026-12-11/
ATTACH;FMTTYPE=image/jpeg:https://kropp.de/wp-content/uploads/2025/12/Freiwillige_Feuerwehr.jpg
END:VEVENT
BEGIN:VEVENT
DTSTART;TZID=Europe/Berlin:20261218T170000
DTEND;TZID=Europe/Berlin:20261218T200000
DTSTAMP:20260425T180244
CREATED:20260205T094444Z
LAST-MODIFIED:20260205T094444Z
UID:10007106-1797613200-1797624000@kropp.de
SUMMARY:Jugendfeuerwehr Börm
DESCRIPTION:
URL:https://kropp.de/veranstaltung/jugendfeuerwehr-boerm/2026-12-18/
ATTACH;FMTTYPE=image/jpeg:https://kropp.de/wp-content/uploads/2025/12/Freiwillige_Feuerwehr.jpg
END:VEVENT
BEGIN:VEVENT
DTSTART;TZID=Europe/Berlin:20261225T170000
DTEND;TZID=Europe/Berlin:20261225T200000
DTSTAMP:20260425T180244
CREATED:20260205T094444Z
LAST-MODIFIED:20260205T094444Z
UID:10007107-1798218000-1798228800@kropp.de
SUMMARY:Jugendfeuerwehr Börm
DESCRIPTION:
URL:https://kropp.de/veranstaltung/jugendfeuerwehr-boerm/2026-12-25/
ATTACH;FMTTYPE=image/jpeg:https://kropp.de/wp-content/uploads/2025/12/Freiwillige_Feuerwehr.jpg
END:VEVENT
BEGIN:VEVENT
DTSTART;TZID=Europe/Berlin:20270101T170000
DTEND;TZID=Europe/Berlin:20270101T200000
DTSTAMP:20260425T180244
CREATED:20260205T094444Z
LAST-MODIFIED:20260205T094444Z
UID:10007108-1798822800-1798833600@kropp.de
SUMMARY:Jugendfeuerwehr Börm
DESCRIPTION:
URL:https://kropp.de/veranstaltung/jugendfeuerwehr-boerm/2027-01-01/
ATTACH;FMTTYPE=image/jpeg:https://kropp.de/wp-content/uploads/2025/12/Freiwillige_Feuerwehr.jpg
END:VEVENT
BEGIN:VEVENT
DTSTART;TZID=Europe/Berlin:20270104T193000
DTEND;TZID=Europe/Berlin:20270104T210000
DTSTAMP:20260425T180244
CREATED:20260108T120216Z
LAST-MODIFIED:20260108T120216Z
UID:10004641-1799091000-1799096400@kropp.de
SUMMARY:Feuerwehrdienst
DESCRIPTION:
URL:https://kropp.de/veranstaltung/feuerwehrdienst/2027-01-04/
LOCATION:Feuerwehrgerätehaus Börm\, Koogstraße 2\, Börm\, 24863\, Germany
ATTACH;FMTTYPE=image/jpeg:https://kropp.de/wp-content/uploads/2025/12/Freiwillige_Feuerwehr.jpg
END:VEVENT
BEGIN:VEVENT
DTSTART;TZID=Europe/Berlin:20270108T170000
DTEND;TZID=Europe/Berlin:20270108T200000
DTSTAMP:20260425T180244
CREATED:20260205T094444Z
LAST-MODIFIED:20260205T094444Z
UID:10007109-1799427600-1799438400@kropp.de
SUMMARY:Jugendfeuerwehr Börm
DESCRIPTION:
URL:https://kropp.de/veranstaltung/jugendfeuerwehr-boerm/2027-01-08/
ATTACH;FMTTYPE=image/jpeg:https://kropp.de/wp-content/uploads/2025/12/Freiwillige_Feuerwehr.jpg
END:VEVENT
BEGIN:VEVENT
DTSTART;TZID=Europe/Berlin:20270115T170000
DTEND;TZID=Europe/Berlin:20270115T200000
DTSTAMP:20260425T180244
CREATED:20260205T094444Z
LAST-MODIFIED:20260205T094444Z
UID:10007110-1800032400-1800043200@kropp.de
SUMMARY:Jugendfeuerwehr Börm
DESCRIPTION:
URL:https://kropp.de/veranstaltung/jugendfeuerwehr-boerm/2027-01-15/
ATTACH;FMTTYPE=image/jpeg:https://kropp.de/wp-content/uploads/2025/12/Freiwillige_Feuerwehr.jpg
END:VEVENT
BEGIN:VEVENT
DTSTART;TZID=Europe/Berlin:20270122T170000
DTEND;TZID=Europe/Berlin:20270122T200000
DTSTAMP:20260425T180244
CREATED:20260205T094444Z
LAST-MODIFIED:20260205T094444Z
UID:10007111-1800637200-1800648000@kropp.de
SUMMARY:Jugendfeuerwehr Börm
DESCRIPTION:
URL:https://kropp.de/veranstaltung/jugendfeuerwehr-boerm/2027-01-22/
ATTACH;FMTTYPE=image/jpeg:https://kropp.de/wp-content/uploads/2025/12/Freiwillige_Feuerwehr.jpg
END:VEVENT
BEGIN:VEVENT
DTSTART;TZID=Europe/Berlin:20270129T170000
DTEND;TZID=Europe/Berlin:20270129T200000
DTSTAMP:20260425T180244
CREATED:20260205T094444Z
LAST-MODIFIED:20260205T094444Z
UID:10007112-1801242000-1801252800@kropp.de
SUMMARY:Jugendfeuerwehr Börm
DESCRIPTION:
URL:https://kropp.de/veranstaltung/jugendfeuerwehr-boerm/2027-01-29/
ATTACH;FMTTYPE=image/jpeg:https://kropp.de/wp-content/uploads/2025/12/Freiwillige_Feuerwehr.jpg
END:VEVENT
BEGIN:VEVENT
DTSTART;TZID=Europe/Berlin:20270201T193000
DTEND;TZID=Europe/Berlin:20270201T210000
DTSTAMP:20260425T180244
CREATED:20260108T120216Z
LAST-MODIFIED:20260108T120216Z
UID:10004642-1801510200-1801515600@kropp.de
SUMMARY:Feuerwehrdienst
DESCRIPTION:
URL:https://kropp.de/veranstaltung/feuerwehrdienst/2027-02-01/
LOCATION:Feuerwehrgerätehaus Börm\, Koogstraße 2\, Börm\, 24863\, Germany
ATTACH;FMTTYPE=image/jpeg:https://kropp.de/wp-content/uploads/2025/12/Freiwillige_Feuerwehr.jpg
END:VEVENT
BEGIN:VEVENT
DTSTART;TZID=Europe/Berlin:20270205T170000
DTEND;TZID=Europe/Berlin:20270205T200000
DTSTAMP:20260425T180244
CREATED:20260205T094444Z
LAST-MODIFIED:20260205T094444Z
UID:10007113-1801846800-1801857600@kropp.de
SUMMARY:Jugendfeuerwehr Börm
DESCRIPTION:
URL:https://kropp.de/veranstaltung/jugendfeuerwehr-boerm/2027-02-05/
ATTACH;FMTTYPE=image/jpeg:https://kropp.de/wp-content/uploads/2025/12/Freiwillige_Feuerwehr.jpg
END:VEVENT
BEGIN:VEVENT
DTSTART;TZID=Europe/Berlin:20270212T170000
DTEND;TZID=Europe/Berlin:20270212T200000
DTSTAMP:20260425T180244
CREATED:20260205T094444Z
LAST-MODIFIED:20260205T094444Z
UID:10007114-1802451600-1802462400@kropp.de
SUMMARY:Jugendfeuerwehr Börm
DESCRIPTION:
URL:https://kropp.de/veranstaltung/jugendfeuerwehr-boerm/2027-02-12/
ATTACH;FMTTYPE=image/jpeg:https://kropp.de/wp-content/uploads/2025/12/Freiwillige_Feuerwehr.jpg
END:VEVENT
BEGIN:VEVENT
DTSTART;TZID=Europe/Berlin:20270219T170000
DTEND;TZID=Europe/Berlin:20270219T200000
DTSTAMP:20260425T180244
CREATED:20260205T094444Z
LAST-MODIFIED:20260205T094444Z
UID:10007115-1803056400-1803067200@kropp.de
SUMMARY:Jugendfeuerwehr Börm
DESCRIPTION:
URL:https://kropp.de/veranstaltung/jugendfeuerwehr-boerm/2027-02-19/
ATTACH;FMTTYPE=image/jpeg:https://kropp.de/wp-content/uploads/2025/12/Freiwillige_Feuerwehr.jpg
END:VEVENT
BEGIN:VEVENT
DTSTART;TZID=Europe/Berlin:20270226T170000
DTEND;TZID=Europe/Berlin:20270226T200000
DTSTAMP:20260425T180244
CREATED:20260205T094444Z
LAST-MODIFIED:20260205T094444Z
UID:10007116-1803661200-1803672000@kropp.de
SUMMARY:Jugendfeuerwehr Börm
DESCRIPTION:
URL:https://kropp.de/veranstaltung/jugendfeuerwehr-boerm/2027-02-26/
ATTACH;FMTTYPE=image/jpeg:https://kropp.de/wp-content/uploads/2025/12/Freiwillige_Feuerwehr.jpg
END:VEVENT
BEGIN:VEVENT
DTSTART;TZID=Europe/Berlin:20270301T193000
DTEND;TZID=Europe/Berlin:20270301T210000
DTSTAMP:20260425T180244
CREATED:20260108T120216Z
LAST-MODIFIED:20260108T120216Z
UID:10004643-1803929400-1803934800@kropp.de
SUMMARY:Feuerwehrdienst
DESCRIPTION:
URL:https://kropp.de/veranstaltung/feuerwehrdienst/2027-03-01/
LOCATION:Feuerwehrgerätehaus Börm\, Koogstraße 2\, Börm\, 24863\, Germany
ATTACH;FMTTYPE=image/jpeg:https://kropp.de/wp-content/uploads/2025/12/Freiwillige_Feuerwehr.jpg
END:VEVENT
BEGIN:VEVENT
DTSTART;TZID=Europe/Berlin:20270305T170000
DTEND;TZID=Europe/Berlin:20270305T200000
DTSTAMP:20260425T180244
CREATED:20260205T094444Z
LAST-MODIFIED:20260205T094444Z
UID:10007117-1804266000-1804276800@kropp.de
SUMMARY:Jugendfeuerwehr Börm
DESCRIPTION:
URL:https://kropp.de/veranstaltung/jugendfeuerwehr-boerm/2027-03-05/
ATTACH;FMTTYPE=image/jpeg:https://kropp.de/wp-content/uploads/2025/12/Freiwillige_Feuerwehr.jpg
END:VEVENT
BEGIN:VEVENT
DTSTART;TZID=Europe/Berlin:20270312T170000
DTEND;TZID=Europe/Berlin:20270312T200000
DTSTAMP:20260425T180244
CREATED:20260205T094444Z
LAST-MODIFIED:20260205T094444Z
UID:10007118-1804870800-1804881600@kropp.de
SUMMARY:Jugendfeuerwehr Börm
DESCRIPTION:
URL:https://kropp.de/veranstaltung/jugendfeuerwehr-boerm/2027-03-12/
ATTACH;FMTTYPE=image/jpeg:https://kropp.de/wp-content/uploads/2025/12/Freiwillige_Feuerwehr.jpg
END:VEVENT
BEGIN:VEVENT
DTSTART;TZID=Europe/Berlin:20270319T170000
DTEND;TZID=Europe/Berlin:20270319T200000
DTSTAMP:20260425T180244
CREATED:20260205T094444Z
LAST-MODIFIED:20260205T094444Z
UID:10007119-1805475600-1805486400@kropp.de
SUMMARY:Jugendfeuerwehr Börm
DESCRIPTION:
URL:https://kropp.de/veranstaltung/jugendfeuerwehr-boerm/2027-03-19/
ATTACH;FMTTYPE=image/jpeg:https://kropp.de/wp-content/uploads/2025/12/Freiwillige_Feuerwehr.jpg
END:VEVENT
BEGIN:VEVENT
DTSTART;TZID=Europe/Berlin:20270326T170000
DTEND;TZID=Europe/Berlin:20270326T200000
DTSTAMP:20260425T180244
CREATED:20260205T094444Z
LAST-MODIFIED:20260205T094444Z
UID:10007120-1806080400-1806091200@kropp.de
SUMMARY:Jugendfeuerwehr Börm
DESCRIPTION:
URL:https://kropp.de/veranstaltung/jugendfeuerwehr-boerm/2027-03-26/
ATTACH;FMTTYPE=image/jpeg:https://kropp.de/wp-content/uploads/2025/12/Freiwillige_Feuerwehr.jpg
END:VEVENT
BEGIN:VEVENT
DTSTART;TZID=Europe/Berlin:20270402T170000
DTEND;TZID=Europe/Berlin:20270402T200000
DTSTAMP:20260425T180244
CREATED:20260205T094444Z
LAST-MODIFIED:20260205T094444Z
UID:10007121-1806685200-1806696000@kropp.de
SUMMARY:Jugendfeuerwehr Börm
DESCRIPTION:
URL:https://kropp.de/veranstaltung/jugendfeuerwehr-boerm/2027-04-02/
ATTACH;FMTTYPE=image/jpeg:https://kropp.de/wp-content/uploads/2025/12/Freiwillige_Feuerwehr.jpg
END:VEVENT
BEGIN:VEVENT
DTSTART;TZID=Europe/Berlin:20270405T193000
DTEND;TZID=Europe/Berlin:20270405T210000
DTSTAMP:20260425T180244
CREATED:20260108T120216Z
LAST-MODIFIED:20260108T120216Z
UID:10004644-1806953400-1806958800@kropp.de
SUMMARY:Feuerwehrdienst
DESCRIPTION:
URL:https://kropp.de/veranstaltung/feuerwehrdienst/2027-04-05/
LOCATION:Feuerwehrgerätehaus Börm\, Koogstraße 2\, Börm\, 24863\, Germany
ATTACH;FMTTYPE=image/jpeg:https://kropp.de/wp-content/uploads/2025/12/Freiwillige_Feuerwehr.jpg
END:VEVENT
BEGIN:VEVENT
DTSTART;TZID=Europe/Berlin:20270409T170000
DTEND;TZID=Europe/Berlin:20270409T200000
DTSTAMP:20260425T180244
CREATED:20260205T094444Z
LAST-MODIFIED:20260205T094444Z
UID:10007122-1807290000-1807300800@kropp.de
SUMMARY:Jugendfeuerwehr Börm
DESCRIPTION:
URL:https://kropp.de/veranstaltung/jugendfeuerwehr-boerm/2027-04-09/
ATTACH;FMTTYPE=image/jpeg:https://kropp.de/wp-content/uploads/2025/12/Freiwillige_Feuerwehr.jpg
END:VEVENT
BEGIN:VEVENT
DTSTART;TZID=Europe/Berlin:20270416T170000
DTEND;TZID=Europe/Berlin:20270416T200000
DTSTAMP:20260425T180244
CREATED:20260205T094444Z
LAST-MODIFIED:20260205T094444Z
UID:10007123-1807894800-1807905600@kropp.de
SUMMARY:Jugendfeuerwehr Börm
DESCRIPTION:
URL:https://kropp.de/veranstaltung/jugendfeuerwehr-boerm/2027-04-16/
ATTACH;FMTTYPE=image/jpeg:https://kropp.de/wp-content/uploads/2025/12/Freiwillige_Feuerwehr.jpg
END:VEVENT
BEGIN:VEVENT
DTSTART;TZID=Europe/Berlin:20270423T170000
DTEND;TZID=Europe/Berlin:20270423T200000
DTSTAMP:20260425T180244
CREATED:20260205T094444Z
LAST-MODIFIED:20260205T094444Z
UID:10007124-1808499600-1808510400@kropp.de
SUMMARY:Jugendfeuerwehr Börm
DESCRIPTION:
URL:https://kropp.de/veranstaltung/jugendfeuerwehr-boerm/2027-04-23/
ATTACH;FMTTYPE=image/jpeg:https://kropp.de/wp-content/uploads/2025/12/Freiwillige_Feuerwehr.jpg
END:VEVENT
BEGIN:VEVENT
DTSTART;TZID=Europe/Berlin:20270430T170000
DTEND;TZID=Europe/Berlin:20270430T200000
DTSTAMP:20260425T180244
CREATED:20260205T094444Z
LAST-MODIFIED:20260205T094444Z
UID:10007125-1809104400-1809115200@kropp.de
SUMMARY:Jugendfeuerwehr Börm
DESCRIPTION:
URL:https://kropp.de/veranstaltung/jugendfeuerwehr-boerm/2027-04-30/
ATTACH;FMTTYPE=image/jpeg:https://kropp.de/wp-content/uploads/2025/12/Freiwillige_Feuerwehr.jpg
END:VEVENT
END:VCALENDAR