BEGIN:VCALENDAR
VERSION:2.0
PRODID:-//Gemeinde Kropp - ECPv6.15.20//NONSGML v1.0//EN
CALSCALE:GREGORIAN
METHOD:PUBLISH
X-WR-CALNAME:Gemeinde Kropp
X-ORIGINAL-URL:https://kropp.de
X-WR-CALDESC:Veranstaltungen für Gemeinde Kropp
REFRESH-INTERVAL;VALUE=DURATION:PT1H
X-Robots-Tag:noindex
X-PUBLISHED-TTL:PT1H
BEGIN:VTIMEZONE
TZID:Europe/Berlin
BEGIN:DAYLIGHT
TZOFFSETFROM:+0100
TZOFFSETTO:+0200
TZNAME:CEST
DTSTART:20250330T010000
END:DAYLIGHT
BEGIN:STANDARD
TZOFFSETFROM:+0200
TZOFFSETTO:+0100
TZNAME:CET
DTSTART:20251026T010000
END:STANDARD
BEGIN:DAYLIGHT
TZOFFSETFROM:+0100
TZOFFSETTO:+0200
TZNAME:CEST
DTSTART:20260329T010000
END:DAYLIGHT
BEGIN:STANDARD
TZOFFSETFROM:+0200
TZOFFSETTO:+0100
TZNAME:CET
DTSTART:20261025T010000
END:STANDARD
BEGIN:DAYLIGHT
TZOFFSETFROM:+0100
TZOFFSETTO:+0200
TZNAME:CEST
DTSTART:20270328T010000
END:DAYLIGHT
BEGIN:STANDARD
TZOFFSETFROM:+0200
TZOFFSETTO:+0100
TZNAME:CET
DTSTART:20271031T010000
END:STANDARD
END:VTIMEZONE
BEGIN:VEVENT
DTSTART;TZID=Europe/Berlin:20260401T170000
DTEND;TZID=Europe/Berlin:20260401T200000
DTSTAMP:20260421T073149
CREATED:20260205T114645Z
LAST-MODIFIED:20260212T071244Z
UID:10007659-1775062800-1775073600@kropp.de
SUMMARY:Kräuterführung - Frühblüher – wie können sie uns in die Kraft bringen?
DESCRIPTION:Die ersten essbaren Wildkräuter des Jahres sind etwas ganz Besonderes. Sie sind nährstoffreich\, haben oft heilende Wirkungen und bringen frische Abwechslung in die Küche.\nGemeinsam entdecken wir\, was wild wächst – und lernen\, wie und wo gesammelt wird. \nBei der Kräuterführung bitte mitbringen\n– Stoffbeutel (auf Wunsch)\n– Stift und Papier\n– Einen Becher – unterwegs gibt es etwas Kräutriges zu trinken \nBitte Anmelden bei a.heinrich@amt-ks.de  \nDie Veranstaltung ist kostenlos
URL:https://kropp.de/veranstaltung/kraeuterfuehrung-fruehblueher-wie-koennen-sie-uns-in-die-kraft-bringen/
LOCATION:Rathaus Kropp\, Am Markt 10\, Kropp\, 24848
ATTACH;FMTTYPE=image/png:https://kropp.de/wp-content/uploads/2026/02/Wildkraeuter.png
ORGANIZER;CN="Gleichstellung Kropp  Stapelholm":MAILTO:a.heinrich@amt-ks.de
END:VEVENT
BEGIN:VEVENT
DTSTART;TZID=Europe/Berlin:20260311T193000
DTEND;TZID=Europe/Berlin:20260311T210000
DTSTAMP:20260421T073149
CREATED:20260302T082609Z
LAST-MODIFIED:20260302T082609Z
UID:10009344-1773257400-1773262800@kropp.de
SUMMARY:„Wenn Männer sorgen – Von Nähe\, Verantwortung und gelebter Fürsorglichkeit“
DESCRIPTION:Online-Vortrag via Zoom über neue Perspektiven auf männliche Fürsorge\, Verantwortung und gelebte Nähe. \nNeben fachlichen Impulsen wird es auch Raum für Austausch und Diskussion geben. Die Veranstaltung bietet eine gute Gelegenheit\, sich mit Fragen rund um Rollenbilder\, Care-Arbeit und partnerschaftliche Verantwortung auseinanderzusetzen – sowohl im beruflichen Kontext als auch darüber hinaus. \nAnmeldung: kontakt@danielholtermann.de
URL:https://kropp.de/veranstaltung/wenn-maenner-sorgen-von-naehe-verantwortung-und-gelebter-fuersorglichkeit/
ATTACH;FMTTYPE=image/jpeg:https://kropp.de/wp-content/uploads/2026/03/Wenn-Maenner-Sorgen.jpg
ORGANIZER;CN="Gleichstellung Kropp  Stapelholm":MAILTO:a.heinrich@amt-ks.de
END:VEVENT
END:VCALENDAR