BEGIN:VCALENDAR
VERSION:2.0
PRODID:-//Gemeinde Kropp - ECPv6.15.20//NONSGML v1.0//EN
CALSCALE:GREGORIAN
METHOD:PUBLISH
X-WR-CALNAME:Gemeinde Kropp
X-ORIGINAL-URL:https://kropp.de
X-WR-CALDESC:Veranstaltungen für Gemeinde Kropp
REFRESH-INTERVAL;VALUE=DURATION:PT1H
X-Robots-Tag:noindex
X-PUBLISHED-TTL:PT1H
BEGIN:VTIMEZONE
TZID:Europe/Berlin
BEGIN:DAYLIGHT
TZOFFSETFROM:+0100
TZOFFSETTO:+0200
TZNAME:CEST
DTSTART:20270328T010000
END:DAYLIGHT
BEGIN:STANDARD
TZOFFSETFROM:+0200
TZOFFSETTO:+0100
TZNAME:CET
DTSTART:20271031T010000
END:STANDARD
BEGIN:DAYLIGHT
TZOFFSETFROM:+0100
TZOFFSETTO:+0200
TZNAME:CEST
DTSTART:20280326T010000
END:DAYLIGHT
BEGIN:STANDARD
TZOFFSETFROM:+0200
TZOFFSETTO:+0100
TZNAME:CET
DTSTART:20281029T010000
END:STANDARD
BEGIN:DAYLIGHT
TZOFFSETFROM:+0100
TZOFFSETTO:+0200
TZNAME:CEST
DTSTART:20290325T010000
END:DAYLIGHT
BEGIN:STANDARD
TZOFFSETFROM:+0200
TZOFFSETTO:+0100
TZNAME:CET
DTSTART:20291028T010000
END:STANDARD
BEGIN:DAYLIGHT
TZOFFSETFROM:+0100
TZOFFSETTO:+0200
TZNAME:CEST
DTSTART:20300331T010000
END:DAYLIGHT
BEGIN:STANDARD
TZOFFSETFROM:+0200
TZOFFSETTO:+0100
TZNAME:CET
DTSTART:20301027T010000
END:STANDARD
BEGIN:DAYLIGHT
TZOFFSETFROM:+0100
TZOFFSETTO:+0200
TZNAME:CEST
DTSTART:20310330T010000
END:DAYLIGHT
BEGIN:STANDARD
TZOFFSETFROM:+0200
TZOFFSETTO:+0100
TZNAME:CET
DTSTART:20311026T010000
END:STANDARD
END:VTIMEZONE
BEGIN:VEVENT
DTSTART;TZID=Europe/Berlin:20280502T120000
DTEND;TZID=Europe/Berlin:20280502T130000
DTSTAMP:20260421T233035
CREATED:20260109T120143Z
LAST-MODIFIED:20260109T120212Z
UID:10006434-1840881600-1840885200@kropp.de
SUMMARY:Essen in Begegnung
DESCRIPTION:Die Schützengilde und Kirstens Köök laden zum Essen in Begegnung ein.
URL:https://kropp.de/veranstaltung/essen-in-begegnung/2028-05-02/
LOCATION:Muhl´s Gasthof\, Dorfstraße 44\, Wohlde\, 24899
ATTACH;FMTTYPE=image/jpeg:https://kropp.de/wp-content/uploads/2025/09/Amt-292.jpg
END:VEVENT
BEGIN:VEVENT
DTSTART;TZID=Europe/Berlin:20280606T120000
DTEND;TZID=Europe/Berlin:20280606T130000
DTSTAMP:20260421T233035
CREATED:20260109T120143Z
LAST-MODIFIED:20260109T120212Z
UID:10006435-1843905600-1843909200@kropp.de
SUMMARY:Essen in Begegnung
DESCRIPTION:Die Schützengilde und Kirstens Köök laden zum Essen in Begegnung ein.
URL:https://kropp.de/veranstaltung/essen-in-begegnung/2028-06-06/
LOCATION:Muhl´s Gasthof\, Dorfstraße 44\, Wohlde\, 24899
ATTACH;FMTTYPE=image/jpeg:https://kropp.de/wp-content/uploads/2025/09/Amt-292.jpg
END:VEVENT
BEGIN:VEVENT
DTSTART;TZID=Europe/Berlin:20280704T120000
DTEND;TZID=Europe/Berlin:20280704T130000
DTSTAMP:20260421T233035
CREATED:20260109T120143Z
LAST-MODIFIED:20260109T120212Z
UID:10006436-1846324800-1846328400@kropp.de
SUMMARY:Essen in Begegnung
DESCRIPTION:Die Schützengilde und Kirstens Köök laden zum Essen in Begegnung ein.
URL:https://kropp.de/veranstaltung/essen-in-begegnung/2028-07-04/
LOCATION:Muhl´s Gasthof\, Dorfstraße 44\, Wohlde\, 24899
ATTACH;FMTTYPE=image/jpeg:https://kropp.de/wp-content/uploads/2025/09/Amt-292.jpg
END:VEVENT
BEGIN:VEVENT
DTSTART;TZID=Europe/Berlin:20280801T120000
DTEND;TZID=Europe/Berlin:20280801T130000
DTSTAMP:20260421T233035
CREATED:20260109T120143Z
LAST-MODIFIED:20260109T120212Z
UID:10006437-1848744000-1848747600@kropp.de
SUMMARY:Essen in Begegnung
DESCRIPTION:Die Schützengilde und Kirstens Köök laden zum Essen in Begegnung ein.
URL:https://kropp.de/veranstaltung/essen-in-begegnung/2028-08-01/
LOCATION:Muhl´s Gasthof\, Dorfstraße 44\, Wohlde\, 24899
ATTACH;FMTTYPE=image/jpeg:https://kropp.de/wp-content/uploads/2025/09/Amt-292.jpg
END:VEVENT
BEGIN:VEVENT
DTSTART;TZID=Europe/Berlin:20280905T120000
DTEND;TZID=Europe/Berlin:20280905T130000
DTSTAMP:20260421T233035
CREATED:20260109T120143Z
LAST-MODIFIED:20260109T120212Z
UID:10006438-1851768000-1851771600@kropp.de
SUMMARY:Essen in Begegnung
DESCRIPTION:Die Schützengilde und Kirstens Köök laden zum Essen in Begegnung ein.
URL:https://kropp.de/veranstaltung/essen-in-begegnung/2028-09-05/
LOCATION:Muhl´s Gasthof\, Dorfstraße 44\, Wohlde\, 24899
ATTACH;FMTTYPE=image/jpeg:https://kropp.de/wp-content/uploads/2025/09/Amt-292.jpg
END:VEVENT
BEGIN:VEVENT
DTSTART;TZID=Europe/Berlin:20281003T120000
DTEND;TZID=Europe/Berlin:20281003T130000
DTSTAMP:20260421T233035
CREATED:20260109T120143Z
LAST-MODIFIED:20260109T120212Z
UID:10006439-1854187200-1854190800@kropp.de
SUMMARY:Essen in Begegnung
DESCRIPTION:Die Schützengilde und Kirstens Köök laden zum Essen in Begegnung ein.
URL:https://kropp.de/veranstaltung/essen-in-begegnung/2028-10-03/
LOCATION:Muhl´s Gasthof\, Dorfstraße 44\, Wohlde\, 24899
ATTACH;FMTTYPE=image/jpeg:https://kropp.de/wp-content/uploads/2025/09/Amt-292.jpg
END:VEVENT
BEGIN:VEVENT
DTSTART;TZID=Europe/Berlin:20281107T120000
DTEND;TZID=Europe/Berlin:20281107T130000
DTSTAMP:20260421T233035
CREATED:20260109T120143Z
LAST-MODIFIED:20260109T120212Z
UID:10006440-1857211200-1857214800@kropp.de
SUMMARY:Essen in Begegnung
DESCRIPTION:Die Schützengilde und Kirstens Köök laden zum Essen in Begegnung ein.
URL:https://kropp.de/veranstaltung/essen-in-begegnung/2028-11-07/
LOCATION:Muhl´s Gasthof\, Dorfstraße 44\, Wohlde\, 24899
ATTACH;FMTTYPE=image/jpeg:https://kropp.de/wp-content/uploads/2025/09/Amt-292.jpg
END:VEVENT
BEGIN:VEVENT
DTSTART;TZID=Europe/Berlin:20281205T120000
DTEND;TZID=Europe/Berlin:20281205T130000
DTSTAMP:20260421T233035
CREATED:20260109T120143Z
LAST-MODIFIED:20260109T120212Z
UID:10006441-1859630400-1859634000@kropp.de
SUMMARY:Essen in Begegnung
DESCRIPTION:Die Schützengilde und Kirstens Köök laden zum Essen in Begegnung ein.
URL:https://kropp.de/veranstaltung/essen-in-begegnung/2028-12-05/
LOCATION:Muhl´s Gasthof\, Dorfstraße 44\, Wohlde\, 24899
ATTACH;FMTTYPE=image/jpeg:https://kropp.de/wp-content/uploads/2025/09/Amt-292.jpg
END:VEVENT
BEGIN:VEVENT
DTSTART;TZID=Europe/Berlin:20290102T120000
DTEND;TZID=Europe/Berlin:20290102T130000
DTSTAMP:20260421T233035
CREATED:20260109T120143Z
LAST-MODIFIED:20260109T120212Z
UID:10006442-1862049600-1862053200@kropp.de
SUMMARY:Essen in Begegnung
DESCRIPTION:Die Schützengilde und Kirstens Köök laden zum Essen in Begegnung ein.
URL:https://kropp.de/veranstaltung/essen-in-begegnung/2029-01-02/
LOCATION:Muhl´s Gasthof\, Dorfstraße 44\, Wohlde\, 24899
ATTACH;FMTTYPE=image/jpeg:https://kropp.de/wp-content/uploads/2025/09/Amt-292.jpg
END:VEVENT
BEGIN:VEVENT
DTSTART;TZID=Europe/Berlin:20290206T120000
DTEND;TZID=Europe/Berlin:20290206T130000
DTSTAMP:20260421T233035
CREATED:20260109T120143Z
LAST-MODIFIED:20260109T120212Z
UID:10006443-1865073600-1865077200@kropp.de
SUMMARY:Essen in Begegnung
DESCRIPTION:Die Schützengilde und Kirstens Köök laden zum Essen in Begegnung ein.
URL:https://kropp.de/veranstaltung/essen-in-begegnung/2029-02-06/
LOCATION:Muhl´s Gasthof\, Dorfstraße 44\, Wohlde\, 24899
ATTACH;FMTTYPE=image/jpeg:https://kropp.de/wp-content/uploads/2025/09/Amt-292.jpg
END:VEVENT
BEGIN:VEVENT
DTSTART;TZID=Europe/Berlin:20290306T120000
DTEND;TZID=Europe/Berlin:20290306T130000
DTSTAMP:20260421T233035
CREATED:20260109T120143Z
LAST-MODIFIED:20260109T120212Z
UID:10006444-1867492800-1867496400@kropp.de
SUMMARY:Essen in Begegnung
DESCRIPTION:Die Schützengilde und Kirstens Köök laden zum Essen in Begegnung ein.
URL:https://kropp.de/veranstaltung/essen-in-begegnung/2029-03-06/
LOCATION:Muhl´s Gasthof\, Dorfstraße 44\, Wohlde\, 24899
ATTACH;FMTTYPE=image/jpeg:https://kropp.de/wp-content/uploads/2025/09/Amt-292.jpg
END:VEVENT
BEGIN:VEVENT
DTSTART;TZID=Europe/Berlin:20290403T120000
DTEND;TZID=Europe/Berlin:20290403T130000
DTSTAMP:20260421T233035
CREATED:20260109T120143Z
LAST-MODIFIED:20260109T120212Z
UID:10006445-1869912000-1869915600@kropp.de
SUMMARY:Essen in Begegnung
DESCRIPTION:Die Schützengilde und Kirstens Köök laden zum Essen in Begegnung ein.
URL:https://kropp.de/veranstaltung/essen-in-begegnung/2029-04-03/
LOCATION:Muhl´s Gasthof\, Dorfstraße 44\, Wohlde\, 24899
ATTACH;FMTTYPE=image/jpeg:https://kropp.de/wp-content/uploads/2025/09/Amt-292.jpg
END:VEVENT
BEGIN:VEVENT
DTSTART;TZID=Europe/Berlin:20290501T120000
DTEND;TZID=Europe/Berlin:20290501T130000
DTSTAMP:20260421T233035
CREATED:20260109T120143Z
LAST-MODIFIED:20260109T120212Z
UID:10006446-1872331200-1872334800@kropp.de
SUMMARY:Essen in Begegnung
DESCRIPTION:Die Schützengilde und Kirstens Köök laden zum Essen in Begegnung ein.
URL:https://kropp.de/veranstaltung/essen-in-begegnung/2029-05-01/
LOCATION:Muhl´s Gasthof\, Dorfstraße 44\, Wohlde\, 24899
ATTACH;FMTTYPE=image/jpeg:https://kropp.de/wp-content/uploads/2025/09/Amt-292.jpg
END:VEVENT
BEGIN:VEVENT
DTSTART;TZID=Europe/Berlin:20290605T120000
DTEND;TZID=Europe/Berlin:20290605T130000
DTSTAMP:20260421T233035
CREATED:20260109T120143Z
LAST-MODIFIED:20260109T120212Z
UID:10006447-1875355200-1875358800@kropp.de
SUMMARY:Essen in Begegnung
DESCRIPTION:Die Schützengilde und Kirstens Köök laden zum Essen in Begegnung ein.
URL:https://kropp.de/veranstaltung/essen-in-begegnung/2029-06-05/
LOCATION:Muhl´s Gasthof\, Dorfstraße 44\, Wohlde\, 24899
ATTACH;FMTTYPE=image/jpeg:https://kropp.de/wp-content/uploads/2025/09/Amt-292.jpg
END:VEVENT
BEGIN:VEVENT
DTSTART;TZID=Europe/Berlin:20290703T120000
DTEND;TZID=Europe/Berlin:20290703T130000
DTSTAMP:20260421T233035
CREATED:20260109T120143Z
LAST-MODIFIED:20260109T120212Z
UID:10006448-1877774400-1877778000@kropp.de
SUMMARY:Essen in Begegnung
DESCRIPTION:Die Schützengilde und Kirstens Köök laden zum Essen in Begegnung ein.
URL:https://kropp.de/veranstaltung/essen-in-begegnung/2029-07-03/
LOCATION:Muhl´s Gasthof\, Dorfstraße 44\, Wohlde\, 24899
ATTACH;FMTTYPE=image/jpeg:https://kropp.de/wp-content/uploads/2025/09/Amt-292.jpg
END:VEVENT
BEGIN:VEVENT
DTSTART;TZID=Europe/Berlin:20290807T120000
DTEND;TZID=Europe/Berlin:20290807T130000
DTSTAMP:20260421T233035
CREATED:20260109T120143Z
LAST-MODIFIED:20260109T120212Z
UID:10006449-1880798400-1880802000@kropp.de
SUMMARY:Essen in Begegnung
DESCRIPTION:Die Schützengilde und Kirstens Köök laden zum Essen in Begegnung ein.
URL:https://kropp.de/veranstaltung/essen-in-begegnung/2029-08-07/
LOCATION:Muhl´s Gasthof\, Dorfstraße 44\, Wohlde\, 24899
ATTACH;FMTTYPE=image/jpeg:https://kropp.de/wp-content/uploads/2025/09/Amt-292.jpg
END:VEVENT
BEGIN:VEVENT
DTSTART;TZID=Europe/Berlin:20290904T120000
DTEND;TZID=Europe/Berlin:20290904T130000
DTSTAMP:20260421T233035
CREATED:20260109T120143Z
LAST-MODIFIED:20260109T120212Z
UID:10006450-1883217600-1883221200@kropp.de
SUMMARY:Essen in Begegnung
DESCRIPTION:Die Schützengilde und Kirstens Köök laden zum Essen in Begegnung ein.
URL:https://kropp.de/veranstaltung/essen-in-begegnung/2029-09-04/
LOCATION:Muhl´s Gasthof\, Dorfstraße 44\, Wohlde\, 24899
ATTACH;FMTTYPE=image/jpeg:https://kropp.de/wp-content/uploads/2025/09/Amt-292.jpg
END:VEVENT
BEGIN:VEVENT
DTSTART;TZID=Europe/Berlin:20291002T120000
DTEND;TZID=Europe/Berlin:20291002T130000
DTSTAMP:20260421T233035
CREATED:20260109T120143Z
LAST-MODIFIED:20260109T120212Z
UID:10006451-1885636800-1885640400@kropp.de
SUMMARY:Essen in Begegnung
DESCRIPTION:Die Schützengilde und Kirstens Köök laden zum Essen in Begegnung ein.
URL:https://kropp.de/veranstaltung/essen-in-begegnung/2029-10-02/
LOCATION:Muhl´s Gasthof\, Dorfstraße 44\, Wohlde\, 24899
ATTACH;FMTTYPE=image/jpeg:https://kropp.de/wp-content/uploads/2025/09/Amt-292.jpg
END:VEVENT
BEGIN:VEVENT
DTSTART;TZID=Europe/Berlin:20291106T120000
DTEND;TZID=Europe/Berlin:20291106T130000
DTSTAMP:20260421T233035
CREATED:20260109T120143Z
LAST-MODIFIED:20260109T120212Z
UID:10006452-1888660800-1888664400@kropp.de
SUMMARY:Essen in Begegnung
DESCRIPTION:Die Schützengilde und Kirstens Köök laden zum Essen in Begegnung ein.
URL:https://kropp.de/veranstaltung/essen-in-begegnung/2029-11-06/
LOCATION:Muhl´s Gasthof\, Dorfstraße 44\, Wohlde\, 24899
ATTACH;FMTTYPE=image/jpeg:https://kropp.de/wp-content/uploads/2025/09/Amt-292.jpg
END:VEVENT
BEGIN:VEVENT
DTSTART;TZID=Europe/Berlin:20291204T120000
DTEND;TZID=Europe/Berlin:20291204T130000
DTSTAMP:20260421T233035
CREATED:20260109T120143Z
LAST-MODIFIED:20260109T120212Z
UID:10006453-1891080000-1891083600@kropp.de
SUMMARY:Essen in Begegnung
DESCRIPTION:Die Schützengilde und Kirstens Köök laden zum Essen in Begegnung ein.
URL:https://kropp.de/veranstaltung/essen-in-begegnung/2029-12-04/
LOCATION:Muhl´s Gasthof\, Dorfstraße 44\, Wohlde\, 24899
ATTACH;FMTTYPE=image/jpeg:https://kropp.de/wp-content/uploads/2025/09/Amt-292.jpg
END:VEVENT
BEGIN:VEVENT
DTSTART;TZID=Europe/Berlin:20300101T120000
DTEND;TZID=Europe/Berlin:20300101T130000
DTSTAMP:20260421T233035
CREATED:20260109T120143Z
LAST-MODIFIED:20260109T120212Z
UID:10006454-1893499200-1893502800@kropp.de
SUMMARY:Essen in Begegnung
DESCRIPTION:Die Schützengilde und Kirstens Köök laden zum Essen in Begegnung ein.
URL:https://kropp.de/veranstaltung/essen-in-begegnung/2030-01-01/
LOCATION:Muhl´s Gasthof\, Dorfstraße 44\, Wohlde\, 24899
ATTACH;FMTTYPE=image/jpeg:https://kropp.de/wp-content/uploads/2025/09/Amt-292.jpg
END:VEVENT
BEGIN:VEVENT
DTSTART;TZID=Europe/Berlin:20300205T120000
DTEND;TZID=Europe/Berlin:20300205T130000
DTSTAMP:20260421T233035
CREATED:20260109T120143Z
LAST-MODIFIED:20260109T120212Z
UID:10006455-1896523200-1896526800@kropp.de
SUMMARY:Essen in Begegnung
DESCRIPTION:Die Schützengilde und Kirstens Köök laden zum Essen in Begegnung ein.
URL:https://kropp.de/veranstaltung/essen-in-begegnung/2030-02-05/
LOCATION:Muhl´s Gasthof\, Dorfstraße 44\, Wohlde\, 24899
ATTACH;FMTTYPE=image/jpeg:https://kropp.de/wp-content/uploads/2025/09/Amt-292.jpg
END:VEVENT
BEGIN:VEVENT
DTSTART;TZID=Europe/Berlin:20300305T120000
DTEND;TZID=Europe/Berlin:20300305T130000
DTSTAMP:20260421T233035
CREATED:20260109T120143Z
LAST-MODIFIED:20260109T120212Z
UID:10006456-1898942400-1898946000@kropp.de
SUMMARY:Essen in Begegnung
DESCRIPTION:Die Schützengilde und Kirstens Köök laden zum Essen in Begegnung ein.
URL:https://kropp.de/veranstaltung/essen-in-begegnung/2030-03-05/
LOCATION:Muhl´s Gasthof\, Dorfstraße 44\, Wohlde\, 24899
ATTACH;FMTTYPE=image/jpeg:https://kropp.de/wp-content/uploads/2025/09/Amt-292.jpg
END:VEVENT
BEGIN:VEVENT
DTSTART;TZID=Europe/Berlin:20300402T120000
DTEND;TZID=Europe/Berlin:20300402T130000
DTSTAMP:20260421T233035
CREATED:20260109T120143Z
LAST-MODIFIED:20260109T120212Z
UID:10006457-1901361600-1901365200@kropp.de
SUMMARY:Essen in Begegnung
DESCRIPTION:Die Schützengilde und Kirstens Köök laden zum Essen in Begegnung ein.
URL:https://kropp.de/veranstaltung/essen-in-begegnung/2030-04-02/
LOCATION:Muhl´s Gasthof\, Dorfstraße 44\, Wohlde\, 24899
ATTACH;FMTTYPE=image/jpeg:https://kropp.de/wp-content/uploads/2025/09/Amt-292.jpg
END:VEVENT
BEGIN:VEVENT
DTSTART;TZID=Europe/Berlin:20300507T120000
DTEND;TZID=Europe/Berlin:20300507T130000
DTSTAMP:20260421T233035
CREATED:20260109T120143Z
LAST-MODIFIED:20260109T120212Z
UID:10006458-1904385600-1904389200@kropp.de
SUMMARY:Essen in Begegnung
DESCRIPTION:Die Schützengilde und Kirstens Köök laden zum Essen in Begegnung ein.
URL:https://kropp.de/veranstaltung/essen-in-begegnung/2030-05-07/
LOCATION:Muhl´s Gasthof\, Dorfstraße 44\, Wohlde\, 24899
ATTACH;FMTTYPE=image/jpeg:https://kropp.de/wp-content/uploads/2025/09/Amt-292.jpg
END:VEVENT
BEGIN:VEVENT
DTSTART;TZID=Europe/Berlin:20300604T120000
DTEND;TZID=Europe/Berlin:20300604T130000
DTSTAMP:20260421T233035
CREATED:20260109T120143Z
LAST-MODIFIED:20260109T120212Z
UID:10006459-1906804800-1906808400@kropp.de
SUMMARY:Essen in Begegnung
DESCRIPTION:Die Schützengilde und Kirstens Köök laden zum Essen in Begegnung ein.
URL:https://kropp.de/veranstaltung/essen-in-begegnung/2030-06-04/
LOCATION:Muhl´s Gasthof\, Dorfstraße 44\, Wohlde\, 24899
ATTACH;FMTTYPE=image/jpeg:https://kropp.de/wp-content/uploads/2025/09/Amt-292.jpg
END:VEVENT
BEGIN:VEVENT
DTSTART;TZID=Europe/Berlin:20300702T120000
DTEND;TZID=Europe/Berlin:20300702T130000
DTSTAMP:20260421T233035
CREATED:20260109T120143Z
LAST-MODIFIED:20260109T120212Z
UID:10006460-1909224000-1909227600@kropp.de
SUMMARY:Essen in Begegnung
DESCRIPTION:Die Schützengilde und Kirstens Köök laden zum Essen in Begegnung ein.
URL:https://kropp.de/veranstaltung/essen-in-begegnung/2030-07-02/
LOCATION:Muhl´s Gasthof\, Dorfstraße 44\, Wohlde\, 24899
ATTACH;FMTTYPE=image/jpeg:https://kropp.de/wp-content/uploads/2025/09/Amt-292.jpg
END:VEVENT
BEGIN:VEVENT
DTSTART;TZID=Europe/Berlin:20300806T120000
DTEND;TZID=Europe/Berlin:20300806T130000
DTSTAMP:20260421T233035
CREATED:20260109T120143Z
LAST-MODIFIED:20260109T120212Z
UID:10006461-1912248000-1912251600@kropp.de
SUMMARY:Essen in Begegnung
DESCRIPTION:Die Schützengilde und Kirstens Köök laden zum Essen in Begegnung ein.
URL:https://kropp.de/veranstaltung/essen-in-begegnung/2030-08-06/
LOCATION:Muhl´s Gasthof\, Dorfstraße 44\, Wohlde\, 24899
ATTACH;FMTTYPE=image/jpeg:https://kropp.de/wp-content/uploads/2025/09/Amt-292.jpg
END:VEVENT
BEGIN:VEVENT
DTSTART;TZID=Europe/Berlin:20300903T120000
DTEND;TZID=Europe/Berlin:20300903T130000
DTSTAMP:20260421T233035
CREATED:20260109T120143Z
LAST-MODIFIED:20260109T120212Z
UID:10006462-1914667200-1914670800@kropp.de
SUMMARY:Essen in Begegnung
DESCRIPTION:Die Schützengilde und Kirstens Köök laden zum Essen in Begegnung ein.
URL:https://kropp.de/veranstaltung/essen-in-begegnung/2030-09-03/
LOCATION:Muhl´s Gasthof\, Dorfstraße 44\, Wohlde\, 24899
ATTACH;FMTTYPE=image/jpeg:https://kropp.de/wp-content/uploads/2025/09/Amt-292.jpg
END:VEVENT
BEGIN:VEVENT
DTSTART;TZID=Europe/Berlin:20301001T120000
DTEND;TZID=Europe/Berlin:20301001T130000
DTSTAMP:20260421T233035
CREATED:20260109T120143Z
LAST-MODIFIED:20260109T120212Z
UID:10006463-1917086400-1917090000@kropp.de
SUMMARY:Essen in Begegnung
DESCRIPTION:Die Schützengilde und Kirstens Köök laden zum Essen in Begegnung ein.
URL:https://kropp.de/veranstaltung/essen-in-begegnung/2030-10-01/
LOCATION:Muhl´s Gasthof\, Dorfstraße 44\, Wohlde\, 24899
ATTACH;FMTTYPE=image/jpeg:https://kropp.de/wp-content/uploads/2025/09/Amt-292.jpg
END:VEVENT
END:VCALENDAR