BEGIN:VCALENDAR
VERSION:2.0
PRODID:-//Gemeinde Kropp - ECPv6.15.20//NONSGML v1.0//EN
CALSCALE:GREGORIAN
METHOD:PUBLISH
X-WR-CALNAME:Gemeinde Kropp
X-ORIGINAL-URL:https://kropp.de
X-WR-CALDESC:Veranstaltungen für Gemeinde Kropp
REFRESH-INTERVAL;VALUE=DURATION:PT1H
X-Robots-Tag:noindex
X-PUBLISHED-TTL:PT1H
BEGIN:VTIMEZONE
TZID:Europe/Berlin
BEGIN:DAYLIGHT
TZOFFSETFROM:+0100
TZOFFSETTO:+0200
TZNAME:CEST
DTSTART:20250330T010000
END:DAYLIGHT
BEGIN:STANDARD
TZOFFSETFROM:+0200
TZOFFSETTO:+0100
TZNAME:CET
DTSTART:20251026T010000
END:STANDARD
BEGIN:DAYLIGHT
TZOFFSETFROM:+0100
TZOFFSETTO:+0200
TZNAME:CEST
DTSTART:20260329T010000
END:DAYLIGHT
BEGIN:STANDARD
TZOFFSETFROM:+0200
TZOFFSETTO:+0100
TZNAME:CET
DTSTART:20261025T010000
END:STANDARD
BEGIN:DAYLIGHT
TZOFFSETFROM:+0100
TZOFFSETTO:+0200
TZNAME:CEST
DTSTART:20270328T010000
END:DAYLIGHT
BEGIN:STANDARD
TZOFFSETFROM:+0200
TZOFFSETTO:+0100
TZNAME:CET
DTSTART:20271031T010000
END:STANDARD
END:VTIMEZONE
BEGIN:VEVENT
DTSTART;TZID=Europe/Berlin:20260521T140000
DTEND;TZID=Europe/Berlin:20260521T180000
DTSTAMP:20260423T112357
CREATED:20260127T083412Z
LAST-MODIFIED:20260223T103953Z
UID:10006733-1779372000-1779386400@kropp.de
SUMMARY:Krocket mit den LandFrauen Kropp u. U.
DESCRIPTION:Krocket spielen\, Kaffee und Kuchenbuffet\, \nAnmelden bis 11.05.2026 bei Sarah Artmeier Tel.:04624-432 7829
URL:https://kropp.de/veranstaltung/cricket-mit-den-landfrauen-kropp-u-u/
LOCATION:Sportplatz Klein Rheide\, Hauptstraße 9\, Klein Rheide
ATTACH;FMTTYPE=image/png:https://kropp.de/wp-content/uploads/2025/12/LandFrauenVerein_Kropp.png
END:VEVENT
BEGIN:VEVENT
DTSTART;TZID=Europe/Berlin:20260611T093000
DTEND;TZID=Europe/Berlin:20260611T183000
DTSTAMP:20260423T112357
CREATED:20260127T083453Z
LAST-MODIFIED:20260127T083517Z
UID:10006735-1781170200-1781202600@kropp.de
SUMMARY:Tagestour nach Friedrichstadt mit den Kropper LandFrauen
DESCRIPTION:Tagestour nach Friedrichstadt \n\n09:30 Uhr Abfahrt ab Kropp Marktplatz\nErster Halt Bergenhusen NABU\nMittagessen in Friedrichstadt\nGrachtenfahrt und Kaffee trinken\n18:30 Uhr ca. Rückankunft Kropp\n\nReisepreis: € 93\,50/Person \nAnmeldung bis spätestens 02.04.2026 \nNähere Informationen und Anmeldung bei Petra Hannemann 04624 8361
URL:https://kropp.de/veranstaltung/tagestour-nach-friedrichstadt-mit-den-kropper-landfrauen/
ATTACH;FMTTYPE=image/png:https://kropp.de/wp-content/uploads/2025/12/LandFrauenVerein_Kropp.png
END:VEVENT
BEGIN:VEVENT
DTSTART;TZID=Europe/Berlin:20260701T140000
DTEND;TZID=Europe/Berlin:20260701T180000
DTSTAMP:20260423T112357
CREATED:20260127T083431Z
LAST-MODIFIED:20260127T083431Z
UID:10006734-1782914400-1782928800@kropp.de
SUMMARY:Besichtigung der Zwergenwiese mit den Kropper LandFrauen
DESCRIPTION:Besichtigung der Zwergenwiese in Silberstedt. Wir fahren wieder in Fahrgemeinschaften. Anmeldung bis spätestens 01.06.2026 \nNähere Informationen und Anmeldung bei Petra Hannemann 04624 8361
URL:https://kropp.de/veranstaltung/besichtigung-der-zwergenwiese-mit-den-kropper-landfrauen/
LOCATION:Silberstedt
ATTACH;FMTTYPE=image/png:https://kropp.de/wp-content/uploads/2025/12/LandFrauenVerein_Kropp.png
END:VEVENT
BEGIN:VEVENT
DTSTART;TZID=Europe/Berlin:20260716T080000
DTEND;TZID=Europe/Berlin:20260716T170000
DTSTAMP:20260423T112357
CREATED:20260127T083545Z
LAST-MODIFIED:20260127T083545Z
UID:10006736-1784188800-1784221200@kropp.de
SUMMARY:Besichtigung des SHZ in Büdelsdorf mit den Kropper LandFrauen
DESCRIPTION:Besichtigung des SHZ in Büdelsdorf. \nWir fahren wieder in Fahrgemeinschaften. Anmeldung bis spätestens 15.06.2026 \nNähere Informationen und Anmeldung bei Petra Hannemann 04624 8361
URL:https://kropp.de/veranstaltung/besichtigung-des-shz-in-buedelsdorf-mit-den-kropper-landfrauen/
ATTACH;FMTTYPE=image/png:https://kropp.de/wp-content/uploads/2025/12/LandFrauenVerein_Kropp.png
END:VEVENT
END:VCALENDAR