BEGIN:VCALENDAR
VERSION:2.0
PRODID:-//Gemeinde Kropp - ECPv6.15.20//NONSGML v1.0//EN
CALSCALE:GREGORIAN
METHOD:PUBLISH
X-ORIGINAL-URL:https://kropp.de
X-WR-CALDESC:Veranstaltungen für Gemeinde Kropp
REFRESH-INTERVAL;VALUE=DURATION:PT1H
X-Robots-Tag:noindex
X-PUBLISHED-TTL:PT1H
BEGIN:VTIMEZONE
TZID:Europe/Berlin
BEGIN:DAYLIGHT
TZOFFSETFROM:+0100
TZOFFSETTO:+0200
TZNAME:CEST
DTSTART:20250330T010000
END:DAYLIGHT
BEGIN:STANDARD
TZOFFSETFROM:+0200
TZOFFSETTO:+0100
TZNAME:CET
DTSTART:20251026T010000
END:STANDARD
BEGIN:DAYLIGHT
TZOFFSETFROM:+0100
TZOFFSETTO:+0200
TZNAME:CEST
DTSTART:20260329T010000
END:DAYLIGHT
BEGIN:STANDARD
TZOFFSETFROM:+0200
TZOFFSETTO:+0100
TZNAME:CET
DTSTART:20261025T010000
END:STANDARD
BEGIN:DAYLIGHT
TZOFFSETFROM:+0100
TZOFFSETTO:+0200
TZNAME:CEST
DTSTART:20270328T010000
END:DAYLIGHT
BEGIN:STANDARD
TZOFFSETFROM:+0200
TZOFFSETTO:+0100
TZNAME:CET
DTSTART:20271031T010000
END:STANDARD
BEGIN:DAYLIGHT
TZOFFSETFROM:+0100
TZOFFSETTO:+0200
TZNAME:CEST
DTSTART:20280326T010000
END:DAYLIGHT
BEGIN:STANDARD
TZOFFSETFROM:+0200
TZOFFSETTO:+0100
TZNAME:CET
DTSTART:20281029T010000
END:STANDARD
BEGIN:DAYLIGHT
TZOFFSETFROM:+0100
TZOFFSETTO:+0200
TZNAME:CEST
DTSTART:20290325T010000
END:DAYLIGHT
BEGIN:STANDARD
TZOFFSETFROM:+0200
TZOFFSETTO:+0100
TZNAME:CET
DTSTART:20291028T010000
END:STANDARD
END:VTIMEZONE
BEGIN:VEVENT
DTSTART;TZID=Europe/Berlin:20260508T190000
DTEND;TZID=Europe/Berlin:20260508T230000
DTSTAMP:20260421T200409
CREATED:20260112T103943Z
LAST-MODIFIED:20260112T104003Z
UID:10006478-1778266800-1778281200@kropp.de
SUMMARY:Stammtisch Oldtimerfreunde Wohlde
DESCRIPTION:Die Oldtimerfreunde Anno 2021 laden zum monatlichen Stammtisch ein.
URL:https://kropp.de/veranstaltung/stammtisch-oldtimerfreunde-wohlde/2026-05-08/
LOCATION:Muhl´s Gasthof\, Dorfstraße 44\, Wohlde\, 24899
ATTACH;FMTTYPE=image/jpeg:https://kropp.de/wp-content/uploads/2026/01/Oldtimerfreunde-anno-2021-wohlde.jpg
ORGANIZER;CN="Oldtimerfreunde Anno 2021":MAILTO:oldtimerfreundeanno21@gmail.com
END:VEVENT
BEGIN:VEVENT
DTSTART;TZID=Europe/Berlin:20260612T190000
DTEND;TZID=Europe/Berlin:20260612T230000
DTSTAMP:20260421T200409
CREATED:20260112T103943Z
LAST-MODIFIED:20260112T104003Z
UID:10006479-1781290800-1781305200@kropp.de
SUMMARY:Stammtisch Oldtimerfreunde Wohlde
DESCRIPTION:Die Oldtimerfreunde Anno 2021 laden zum monatlichen Stammtisch ein.
URL:https://kropp.de/veranstaltung/stammtisch-oldtimerfreunde-wohlde/2026-06-12/
LOCATION:Muhl´s Gasthof\, Dorfstraße 44\, Wohlde\, 24899
ATTACH;FMTTYPE=image/jpeg:https://kropp.de/wp-content/uploads/2026/01/Oldtimerfreunde-anno-2021-wohlde.jpg
ORGANIZER;CN="Oldtimerfreunde Anno 2021":MAILTO:oldtimerfreundeanno21@gmail.com
END:VEVENT
BEGIN:VEVENT
DTSTART;TZID=Europe/Berlin:20260710T190000
DTEND;TZID=Europe/Berlin:20260710T230000
DTSTAMP:20260421T200409
CREATED:20260112T103943Z
LAST-MODIFIED:20260112T104003Z
UID:10006480-1783710000-1783724400@kropp.de
SUMMARY:Stammtisch Oldtimerfreunde Wohlde
DESCRIPTION:Die Oldtimerfreunde Anno 2021 laden zum monatlichen Stammtisch ein.
URL:https://kropp.de/veranstaltung/stammtisch-oldtimerfreunde-wohlde/2026-07-10/
LOCATION:Muhl´s Gasthof\, Dorfstraße 44\, Wohlde\, 24899
ATTACH;FMTTYPE=image/jpeg:https://kropp.de/wp-content/uploads/2026/01/Oldtimerfreunde-anno-2021-wohlde.jpg
ORGANIZER;CN="Oldtimerfreunde Anno 2021":MAILTO:oldtimerfreundeanno21@gmail.com
END:VEVENT
BEGIN:VEVENT
DTSTART;TZID=Europe/Berlin:20260814T190000
DTEND;TZID=Europe/Berlin:20260814T230000
DTSTAMP:20260421T200409
CREATED:20260112T103943Z
LAST-MODIFIED:20260112T104003Z
UID:10006481-1786734000-1786748400@kropp.de
SUMMARY:Stammtisch Oldtimerfreunde Wohlde
DESCRIPTION:Die Oldtimerfreunde Anno 2021 laden zum monatlichen Stammtisch ein.
URL:https://kropp.de/veranstaltung/stammtisch-oldtimerfreunde-wohlde/2026-08-14/
LOCATION:Muhl´s Gasthof\, Dorfstraße 44\, Wohlde\, 24899
ATTACH;FMTTYPE=image/jpeg:https://kropp.de/wp-content/uploads/2026/01/Oldtimerfreunde-anno-2021-wohlde.jpg
ORGANIZER;CN="Oldtimerfreunde Anno 2021":MAILTO:oldtimerfreundeanno21@gmail.com
END:VEVENT
BEGIN:VEVENT
DTSTART;TZID=Europe/Berlin:20260905T100000
DTEND;TZID=Europe/Berlin:20260905T230000
DTSTAMP:20260421T200409
CREATED:20260113T121251Z
LAST-MODIFIED:20260113T121251Z
UID:10006571-1788602400-1788649200@kropp.de
SUMMARY:Oldtimertreffen Wohlde
DESCRIPTION:Ein muss für alle Oldtimer-Fans
URL:https://kropp.de/veranstaltung/oldtimertreffen-wohlde/
LOCATION:Sportplatz Wohlde\, Sandberg\, Wohlde\, 24899
ATTACH;FMTTYPE=image/jpeg:https://kropp.de/wp-content/uploads/2026/01/Oldtimerfreunde-anno-2021-wohlde.jpg
ORGANIZER;CN="Oldtimerfreunde Anno 2021":MAILTO:oldtimerfreundeanno21@gmail.com
END:VEVENT
BEGIN:VEVENT
DTSTART;TZID=Europe/Berlin:20260911T190000
DTEND;TZID=Europe/Berlin:20260911T230000
DTSTAMP:20260421T200409
CREATED:20260112T103943Z
LAST-MODIFIED:20260112T104003Z
UID:10006482-1789153200-1789167600@kropp.de
SUMMARY:Stammtisch Oldtimerfreunde Wohlde
DESCRIPTION:Die Oldtimerfreunde Anno 2021 laden zum monatlichen Stammtisch ein.
URL:https://kropp.de/veranstaltung/stammtisch-oldtimerfreunde-wohlde/2026-09-11/
LOCATION:Muhl´s Gasthof\, Dorfstraße 44\, Wohlde\, 24899
ATTACH;FMTTYPE=image/jpeg:https://kropp.de/wp-content/uploads/2026/01/Oldtimerfreunde-anno-2021-wohlde.jpg
ORGANIZER;CN="Oldtimerfreunde Anno 2021":MAILTO:oldtimerfreundeanno21@gmail.com
END:VEVENT
BEGIN:VEVENT
DTSTART;TZID=Europe/Berlin:20261009T190000
DTEND;TZID=Europe/Berlin:20261009T230000
DTSTAMP:20260421T200409
CREATED:20260112T103943Z
LAST-MODIFIED:20260112T104003Z
UID:10006483-1791572400-1791586800@kropp.de
SUMMARY:Stammtisch Oldtimerfreunde Wohlde
DESCRIPTION:Die Oldtimerfreunde Anno 2021 laden zum monatlichen Stammtisch ein.
URL:https://kropp.de/veranstaltung/stammtisch-oldtimerfreunde-wohlde/2026-10-09/
LOCATION:Muhl´s Gasthof\, Dorfstraße 44\, Wohlde\, 24899
ATTACH;FMTTYPE=image/jpeg:https://kropp.de/wp-content/uploads/2026/01/Oldtimerfreunde-anno-2021-wohlde.jpg
ORGANIZER;CN="Oldtimerfreunde Anno 2021":MAILTO:oldtimerfreundeanno21@gmail.com
END:VEVENT
BEGIN:VEVENT
DTSTART;TZID=Europe/Berlin:20261113T190000
DTEND;TZID=Europe/Berlin:20261113T230000
DTSTAMP:20260421T200409
CREATED:20260112T103943Z
LAST-MODIFIED:20260112T104003Z
UID:10006484-1794596400-1794610800@kropp.de
SUMMARY:Stammtisch Oldtimerfreunde Wohlde
DESCRIPTION:Die Oldtimerfreunde Anno 2021 laden zum monatlichen Stammtisch ein.
URL:https://kropp.de/veranstaltung/stammtisch-oldtimerfreunde-wohlde/2026-11-13/
LOCATION:Muhl´s Gasthof\, Dorfstraße 44\, Wohlde\, 24899
ATTACH;FMTTYPE=image/jpeg:https://kropp.de/wp-content/uploads/2026/01/Oldtimerfreunde-anno-2021-wohlde.jpg
ORGANIZER;CN="Oldtimerfreunde Anno 2021":MAILTO:oldtimerfreundeanno21@gmail.com
END:VEVENT
BEGIN:VEVENT
DTSTART;TZID=Europe/Berlin:20261211T190000
DTEND;TZID=Europe/Berlin:20261211T230000
DTSTAMP:20260421T200409
CREATED:20260112T103943Z
LAST-MODIFIED:20260112T104003Z
UID:10006485-1797015600-1797030000@kropp.de
SUMMARY:Stammtisch Oldtimerfreunde Wohlde
DESCRIPTION:Die Oldtimerfreunde Anno 2021 laden zum monatlichen Stammtisch ein.
URL:https://kropp.de/veranstaltung/stammtisch-oldtimerfreunde-wohlde/2026-12-11/
LOCATION:Muhl´s Gasthof\, Dorfstraße 44\, Wohlde\, 24899
ATTACH;FMTTYPE=image/jpeg:https://kropp.de/wp-content/uploads/2026/01/Oldtimerfreunde-anno-2021-wohlde.jpg
ORGANIZER;CN="Oldtimerfreunde Anno 2021":MAILTO:oldtimerfreundeanno21@gmail.com
END:VEVENT
BEGIN:VEVENT
DTSTART;TZID=Europe/Berlin:20270108T190000
DTEND;TZID=Europe/Berlin:20270108T230000
DTSTAMP:20260421T200409
CREATED:20260112T103943Z
LAST-MODIFIED:20260112T104003Z
UID:10006486-1799434800-1799449200@kropp.de
SUMMARY:Stammtisch Oldtimerfreunde Wohlde
DESCRIPTION:Die Oldtimerfreunde Anno 2021 laden zum monatlichen Stammtisch ein.
URL:https://kropp.de/veranstaltung/stammtisch-oldtimerfreunde-wohlde/2027-01-08/
LOCATION:Muhl´s Gasthof\, Dorfstraße 44\, Wohlde\, 24899
ATTACH;FMTTYPE=image/jpeg:https://kropp.de/wp-content/uploads/2026/01/Oldtimerfreunde-anno-2021-wohlde.jpg
ORGANIZER;CN="Oldtimerfreunde Anno 2021":MAILTO:oldtimerfreundeanno21@gmail.com
END:VEVENT
BEGIN:VEVENT
DTSTART;TZID=Europe/Berlin:20270212T190000
DTEND;TZID=Europe/Berlin:20270212T230000
DTSTAMP:20260421T200409
CREATED:20260112T103943Z
LAST-MODIFIED:20260112T104003Z
UID:10006487-1802458800-1802473200@kropp.de
SUMMARY:Stammtisch Oldtimerfreunde Wohlde
DESCRIPTION:Die Oldtimerfreunde Anno 2021 laden zum monatlichen Stammtisch ein.
URL:https://kropp.de/veranstaltung/stammtisch-oldtimerfreunde-wohlde/2027-02-12/
LOCATION:Muhl´s Gasthof\, Dorfstraße 44\, Wohlde\, 24899
ATTACH;FMTTYPE=image/jpeg:https://kropp.de/wp-content/uploads/2026/01/Oldtimerfreunde-anno-2021-wohlde.jpg
ORGANIZER;CN="Oldtimerfreunde Anno 2021":MAILTO:oldtimerfreundeanno21@gmail.com
END:VEVENT
BEGIN:VEVENT
DTSTART;TZID=Europe/Berlin:20270312T190000
DTEND;TZID=Europe/Berlin:20270312T230000
DTSTAMP:20260421T200409
CREATED:20260112T103943Z
LAST-MODIFIED:20260112T104003Z
UID:10006488-1804878000-1804892400@kropp.de
SUMMARY:Stammtisch Oldtimerfreunde Wohlde
DESCRIPTION:Die Oldtimerfreunde Anno 2021 laden zum monatlichen Stammtisch ein.
URL:https://kropp.de/veranstaltung/stammtisch-oldtimerfreunde-wohlde/2027-03-12/
LOCATION:Muhl´s Gasthof\, Dorfstraße 44\, Wohlde\, 24899
ATTACH;FMTTYPE=image/jpeg:https://kropp.de/wp-content/uploads/2026/01/Oldtimerfreunde-anno-2021-wohlde.jpg
ORGANIZER;CN="Oldtimerfreunde Anno 2021":MAILTO:oldtimerfreundeanno21@gmail.com
END:VEVENT
BEGIN:VEVENT
DTSTART;TZID=Europe/Berlin:20270409T190000
DTEND;TZID=Europe/Berlin:20270409T230000
DTSTAMP:20260421T200409
CREATED:20260112T103943Z
LAST-MODIFIED:20260112T104003Z
UID:10006489-1807297200-1807311600@kropp.de
SUMMARY:Stammtisch Oldtimerfreunde Wohlde
DESCRIPTION:Die Oldtimerfreunde Anno 2021 laden zum monatlichen Stammtisch ein.
URL:https://kropp.de/veranstaltung/stammtisch-oldtimerfreunde-wohlde/2027-04-09/
LOCATION:Muhl´s Gasthof\, Dorfstraße 44\, Wohlde\, 24899
ATTACH;FMTTYPE=image/jpeg:https://kropp.de/wp-content/uploads/2026/01/Oldtimerfreunde-anno-2021-wohlde.jpg
ORGANIZER;CN="Oldtimerfreunde Anno 2021":MAILTO:oldtimerfreundeanno21@gmail.com
END:VEVENT
BEGIN:VEVENT
DTSTART;TZID=Europe/Berlin:20270514T190000
DTEND;TZID=Europe/Berlin:20270514T230000
DTSTAMP:20260421T200409
CREATED:20260112T103943Z
LAST-MODIFIED:20260112T104003Z
UID:10006490-1810321200-1810335600@kropp.de
SUMMARY:Stammtisch Oldtimerfreunde Wohlde
DESCRIPTION:Die Oldtimerfreunde Anno 2021 laden zum monatlichen Stammtisch ein.
URL:https://kropp.de/veranstaltung/stammtisch-oldtimerfreunde-wohlde/2027-05-14/
LOCATION:Muhl´s Gasthof\, Dorfstraße 44\, Wohlde\, 24899
ATTACH;FMTTYPE=image/jpeg:https://kropp.de/wp-content/uploads/2026/01/Oldtimerfreunde-anno-2021-wohlde.jpg
ORGANIZER;CN="Oldtimerfreunde Anno 2021":MAILTO:oldtimerfreundeanno21@gmail.com
END:VEVENT
BEGIN:VEVENT
DTSTART;TZID=Europe/Berlin:20270611T190000
DTEND;TZID=Europe/Berlin:20270611T230000
DTSTAMP:20260421T200409
CREATED:20260112T103943Z
LAST-MODIFIED:20260112T104003Z
UID:10006491-1812740400-1812754800@kropp.de
SUMMARY:Stammtisch Oldtimerfreunde Wohlde
DESCRIPTION:Die Oldtimerfreunde Anno 2021 laden zum monatlichen Stammtisch ein.
URL:https://kropp.de/veranstaltung/stammtisch-oldtimerfreunde-wohlde/2027-06-11/
LOCATION:Muhl´s Gasthof\, Dorfstraße 44\, Wohlde\, 24899
ATTACH;FMTTYPE=image/jpeg:https://kropp.de/wp-content/uploads/2026/01/Oldtimerfreunde-anno-2021-wohlde.jpg
ORGANIZER;CN="Oldtimerfreunde Anno 2021":MAILTO:oldtimerfreundeanno21@gmail.com
END:VEVENT
BEGIN:VEVENT
DTSTART;TZID=Europe/Berlin:20270709T190000
DTEND;TZID=Europe/Berlin:20270709T230000
DTSTAMP:20260421T200409
CREATED:20260112T103943Z
LAST-MODIFIED:20260112T104003Z
UID:10006492-1815159600-1815174000@kropp.de
SUMMARY:Stammtisch Oldtimerfreunde Wohlde
DESCRIPTION:Die Oldtimerfreunde Anno 2021 laden zum monatlichen Stammtisch ein.
URL:https://kropp.de/veranstaltung/stammtisch-oldtimerfreunde-wohlde/2027-07-09/
LOCATION:Muhl´s Gasthof\, Dorfstraße 44\, Wohlde\, 24899
ATTACH;FMTTYPE=image/jpeg:https://kropp.de/wp-content/uploads/2026/01/Oldtimerfreunde-anno-2021-wohlde.jpg
ORGANIZER;CN="Oldtimerfreunde Anno 2021":MAILTO:oldtimerfreundeanno21@gmail.com
END:VEVENT
BEGIN:VEVENT
DTSTART;TZID=Europe/Berlin:20270813T190000
DTEND;TZID=Europe/Berlin:20270813T230000
DTSTAMP:20260421T200409
CREATED:20260112T103943Z
LAST-MODIFIED:20260112T104003Z
UID:10006493-1818183600-1818198000@kropp.de
SUMMARY:Stammtisch Oldtimerfreunde Wohlde
DESCRIPTION:Die Oldtimerfreunde Anno 2021 laden zum monatlichen Stammtisch ein.
URL:https://kropp.de/veranstaltung/stammtisch-oldtimerfreunde-wohlde/2027-08-13/
LOCATION:Muhl´s Gasthof\, Dorfstraße 44\, Wohlde\, 24899
ATTACH;FMTTYPE=image/jpeg:https://kropp.de/wp-content/uploads/2026/01/Oldtimerfreunde-anno-2021-wohlde.jpg
ORGANIZER;CN="Oldtimerfreunde Anno 2021":MAILTO:oldtimerfreundeanno21@gmail.com
END:VEVENT
BEGIN:VEVENT
DTSTART;TZID=Europe/Berlin:20270910T190000
DTEND;TZID=Europe/Berlin:20270910T230000
DTSTAMP:20260421T200409
CREATED:20260112T103943Z
LAST-MODIFIED:20260112T104003Z
UID:10006494-1820602800-1820617200@kropp.de
SUMMARY:Stammtisch Oldtimerfreunde Wohlde
DESCRIPTION:Die Oldtimerfreunde Anno 2021 laden zum monatlichen Stammtisch ein.
URL:https://kropp.de/veranstaltung/stammtisch-oldtimerfreunde-wohlde/2027-09-10/
LOCATION:Muhl´s Gasthof\, Dorfstraße 44\, Wohlde\, 24899
ATTACH;FMTTYPE=image/jpeg:https://kropp.de/wp-content/uploads/2026/01/Oldtimerfreunde-anno-2021-wohlde.jpg
ORGANIZER;CN="Oldtimerfreunde Anno 2021":MAILTO:oldtimerfreundeanno21@gmail.com
END:VEVENT
BEGIN:VEVENT
DTSTART;TZID=Europe/Berlin:20271008T190000
DTEND;TZID=Europe/Berlin:20271008T230000
DTSTAMP:20260421T200409
CREATED:20260112T103943Z
LAST-MODIFIED:20260112T104003Z
UID:10006495-1823022000-1823036400@kropp.de
SUMMARY:Stammtisch Oldtimerfreunde Wohlde
DESCRIPTION:Die Oldtimerfreunde Anno 2021 laden zum monatlichen Stammtisch ein.
URL:https://kropp.de/veranstaltung/stammtisch-oldtimerfreunde-wohlde/2027-10-08/
LOCATION:Muhl´s Gasthof\, Dorfstraße 44\, Wohlde\, 24899
ATTACH;FMTTYPE=image/jpeg:https://kropp.de/wp-content/uploads/2026/01/Oldtimerfreunde-anno-2021-wohlde.jpg
ORGANIZER;CN="Oldtimerfreunde Anno 2021":MAILTO:oldtimerfreundeanno21@gmail.com
END:VEVENT
BEGIN:VEVENT
DTSTART;TZID=Europe/Berlin:20271112T190000
DTEND;TZID=Europe/Berlin:20271112T230000
DTSTAMP:20260421T200409
CREATED:20260112T103943Z
LAST-MODIFIED:20260112T104003Z
UID:10006496-1826046000-1826060400@kropp.de
SUMMARY:Stammtisch Oldtimerfreunde Wohlde
DESCRIPTION:Die Oldtimerfreunde Anno 2021 laden zum monatlichen Stammtisch ein.
URL:https://kropp.de/veranstaltung/stammtisch-oldtimerfreunde-wohlde/2027-11-12/
LOCATION:Muhl´s Gasthof\, Dorfstraße 44\, Wohlde\, 24899
ATTACH;FMTTYPE=image/jpeg:https://kropp.de/wp-content/uploads/2026/01/Oldtimerfreunde-anno-2021-wohlde.jpg
ORGANIZER;CN="Oldtimerfreunde Anno 2021":MAILTO:oldtimerfreundeanno21@gmail.com
END:VEVENT
BEGIN:VEVENT
DTSTART;TZID=Europe/Berlin:20271210T190000
DTEND;TZID=Europe/Berlin:20271210T230000
DTSTAMP:20260421T200409
CREATED:20260112T103943Z
LAST-MODIFIED:20260112T104003Z
UID:10006497-1828465200-1828479600@kropp.de
SUMMARY:Stammtisch Oldtimerfreunde Wohlde
DESCRIPTION:Die Oldtimerfreunde Anno 2021 laden zum monatlichen Stammtisch ein.
URL:https://kropp.de/veranstaltung/stammtisch-oldtimerfreunde-wohlde/2027-12-10/
LOCATION:Muhl´s Gasthof\, Dorfstraße 44\, Wohlde\, 24899
ATTACH;FMTTYPE=image/jpeg:https://kropp.de/wp-content/uploads/2026/01/Oldtimerfreunde-anno-2021-wohlde.jpg
ORGANIZER;CN="Oldtimerfreunde Anno 2021":MAILTO:oldtimerfreundeanno21@gmail.com
END:VEVENT
BEGIN:VEVENT
DTSTART;TZID=Europe/Berlin:20280114T190000
DTEND;TZID=Europe/Berlin:20280114T230000
DTSTAMP:20260421T200409
CREATED:20260112T103943Z
LAST-MODIFIED:20260112T104003Z
UID:10006498-1831489200-1831503600@kropp.de
SUMMARY:Stammtisch Oldtimerfreunde Wohlde
DESCRIPTION:Die Oldtimerfreunde Anno 2021 laden zum monatlichen Stammtisch ein.
URL:https://kropp.de/veranstaltung/stammtisch-oldtimerfreunde-wohlde/2028-01-14/
LOCATION:Muhl´s Gasthof\, Dorfstraße 44\, Wohlde\, 24899
ATTACH;FMTTYPE=image/jpeg:https://kropp.de/wp-content/uploads/2026/01/Oldtimerfreunde-anno-2021-wohlde.jpg
ORGANIZER;CN="Oldtimerfreunde Anno 2021":MAILTO:oldtimerfreundeanno21@gmail.com
END:VEVENT
BEGIN:VEVENT
DTSTART;TZID=Europe/Berlin:20280211T190000
DTEND;TZID=Europe/Berlin:20280211T230000
DTSTAMP:20260421T200409
CREATED:20260112T103943Z
LAST-MODIFIED:20260112T104003Z
UID:10006499-1833908400-1833922800@kropp.de
SUMMARY:Stammtisch Oldtimerfreunde Wohlde
DESCRIPTION:Die Oldtimerfreunde Anno 2021 laden zum monatlichen Stammtisch ein.
URL:https://kropp.de/veranstaltung/stammtisch-oldtimerfreunde-wohlde/2028-02-11/
LOCATION:Muhl´s Gasthof\, Dorfstraße 44\, Wohlde\, 24899
ATTACH;FMTTYPE=image/jpeg:https://kropp.de/wp-content/uploads/2026/01/Oldtimerfreunde-anno-2021-wohlde.jpg
ORGANIZER;CN="Oldtimerfreunde Anno 2021":MAILTO:oldtimerfreundeanno21@gmail.com
END:VEVENT
BEGIN:VEVENT
DTSTART;TZID=Europe/Berlin:20280310T190000
DTEND;TZID=Europe/Berlin:20280310T230000
DTSTAMP:20260421T200409
CREATED:20260112T103943Z
LAST-MODIFIED:20260112T104003Z
UID:10006500-1836327600-1836342000@kropp.de
SUMMARY:Stammtisch Oldtimerfreunde Wohlde
DESCRIPTION:Die Oldtimerfreunde Anno 2021 laden zum monatlichen Stammtisch ein.
URL:https://kropp.de/veranstaltung/stammtisch-oldtimerfreunde-wohlde/2028-03-10/
LOCATION:Muhl´s Gasthof\, Dorfstraße 44\, Wohlde\, 24899
ATTACH;FMTTYPE=image/jpeg:https://kropp.de/wp-content/uploads/2026/01/Oldtimerfreunde-anno-2021-wohlde.jpg
ORGANIZER;CN="Oldtimerfreunde Anno 2021":MAILTO:oldtimerfreundeanno21@gmail.com
END:VEVENT
BEGIN:VEVENT
DTSTART;TZID=Europe/Berlin:20280414T190000
DTEND;TZID=Europe/Berlin:20280414T230000
DTSTAMP:20260421T200409
CREATED:20260112T103943Z
LAST-MODIFIED:20260112T104003Z
UID:10006501-1839351600-1839366000@kropp.de
SUMMARY:Stammtisch Oldtimerfreunde Wohlde
DESCRIPTION:Die Oldtimerfreunde Anno 2021 laden zum monatlichen Stammtisch ein.
URL:https://kropp.de/veranstaltung/stammtisch-oldtimerfreunde-wohlde/2028-04-14/
LOCATION:Muhl´s Gasthof\, Dorfstraße 44\, Wohlde\, 24899
ATTACH;FMTTYPE=image/jpeg:https://kropp.de/wp-content/uploads/2026/01/Oldtimerfreunde-anno-2021-wohlde.jpg
ORGANIZER;CN="Oldtimerfreunde Anno 2021":MAILTO:oldtimerfreundeanno21@gmail.com
END:VEVENT
BEGIN:VEVENT
DTSTART;TZID=Europe/Berlin:20280512T190000
DTEND;TZID=Europe/Berlin:20280512T230000
DTSTAMP:20260421T200409
CREATED:20260112T103943Z
LAST-MODIFIED:20260112T104003Z
UID:10006502-1841770800-1841785200@kropp.de
SUMMARY:Stammtisch Oldtimerfreunde Wohlde
DESCRIPTION:Die Oldtimerfreunde Anno 2021 laden zum monatlichen Stammtisch ein.
URL:https://kropp.de/veranstaltung/stammtisch-oldtimerfreunde-wohlde/2028-05-12/
LOCATION:Muhl´s Gasthof\, Dorfstraße 44\, Wohlde\, 24899
ATTACH;FMTTYPE=image/jpeg:https://kropp.de/wp-content/uploads/2026/01/Oldtimerfreunde-anno-2021-wohlde.jpg
ORGANIZER;CN="Oldtimerfreunde Anno 2021":MAILTO:oldtimerfreundeanno21@gmail.com
END:VEVENT
BEGIN:VEVENT
DTSTART;TZID=Europe/Berlin:20280609T190000
DTEND;TZID=Europe/Berlin:20280609T230000
DTSTAMP:20260421T200409
CREATED:20260112T103943Z
LAST-MODIFIED:20260112T104003Z
UID:10006503-1844190000-1844204400@kropp.de
SUMMARY:Stammtisch Oldtimerfreunde Wohlde
DESCRIPTION:Die Oldtimerfreunde Anno 2021 laden zum monatlichen Stammtisch ein.
URL:https://kropp.de/veranstaltung/stammtisch-oldtimerfreunde-wohlde/2028-06-09/
LOCATION:Muhl´s Gasthof\, Dorfstraße 44\, Wohlde\, 24899
ATTACH;FMTTYPE=image/jpeg:https://kropp.de/wp-content/uploads/2026/01/Oldtimerfreunde-anno-2021-wohlde.jpg
ORGANIZER;CN="Oldtimerfreunde Anno 2021":MAILTO:oldtimerfreundeanno21@gmail.com
END:VEVENT
BEGIN:VEVENT
DTSTART;TZID=Europe/Berlin:20280714T190000
DTEND;TZID=Europe/Berlin:20280714T230000
DTSTAMP:20260421T200409
CREATED:20260112T103943Z
LAST-MODIFIED:20260112T104003Z
UID:10006504-1847214000-1847228400@kropp.de
SUMMARY:Stammtisch Oldtimerfreunde Wohlde
DESCRIPTION:Die Oldtimerfreunde Anno 2021 laden zum monatlichen Stammtisch ein.
URL:https://kropp.de/veranstaltung/stammtisch-oldtimerfreunde-wohlde/2028-07-14/
LOCATION:Muhl´s Gasthof\, Dorfstraße 44\, Wohlde\, 24899
ATTACH;FMTTYPE=image/jpeg:https://kropp.de/wp-content/uploads/2026/01/Oldtimerfreunde-anno-2021-wohlde.jpg
ORGANIZER;CN="Oldtimerfreunde Anno 2021":MAILTO:oldtimerfreundeanno21@gmail.com
END:VEVENT
BEGIN:VEVENT
DTSTART;TZID=Europe/Berlin:20280811T190000
DTEND;TZID=Europe/Berlin:20280811T230000
DTSTAMP:20260421T200409
CREATED:20260112T103943Z
LAST-MODIFIED:20260112T104003Z
UID:10006505-1849633200-1849647600@kropp.de
SUMMARY:Stammtisch Oldtimerfreunde Wohlde
DESCRIPTION:Die Oldtimerfreunde Anno 2021 laden zum monatlichen Stammtisch ein.
URL:https://kropp.de/veranstaltung/stammtisch-oldtimerfreunde-wohlde/2028-08-11/
LOCATION:Muhl´s Gasthof\, Dorfstraße 44\, Wohlde\, 24899
ATTACH;FMTTYPE=image/jpeg:https://kropp.de/wp-content/uploads/2026/01/Oldtimerfreunde-anno-2021-wohlde.jpg
ORGANIZER;CN="Oldtimerfreunde Anno 2021":MAILTO:oldtimerfreundeanno21@gmail.com
END:VEVENT
BEGIN:VEVENT
DTSTART;TZID=Europe/Berlin:20280908T190000
DTEND;TZID=Europe/Berlin:20280908T230000
DTSTAMP:20260421T200409
CREATED:20260112T103943Z
LAST-MODIFIED:20260112T104003Z
UID:10006506-1852052400-1852066800@kropp.de
SUMMARY:Stammtisch Oldtimerfreunde Wohlde
DESCRIPTION:Die Oldtimerfreunde Anno 2021 laden zum monatlichen Stammtisch ein.
URL:https://kropp.de/veranstaltung/stammtisch-oldtimerfreunde-wohlde/2028-09-08/
LOCATION:Muhl´s Gasthof\, Dorfstraße 44\, Wohlde\, 24899
ATTACH;FMTTYPE=image/jpeg:https://kropp.de/wp-content/uploads/2026/01/Oldtimerfreunde-anno-2021-wohlde.jpg
ORGANIZER;CN="Oldtimerfreunde Anno 2021":MAILTO:oldtimerfreundeanno21@gmail.com
END:VEVENT
END:VCALENDAR