BEGIN:VCALENDAR
VERSION:2.0
PRODID:-//Gemeinde Kropp - ECPv6.15.20//NONSGML v1.0//EN
CALSCALE:GREGORIAN
METHOD:PUBLISH
X-ORIGINAL-URL:https://kropp.de
X-WR-CALDESC:Veranstaltungen für Gemeinde Kropp
REFRESH-INTERVAL;VALUE=DURATION:PT1H
X-Robots-Tag:noindex
X-PUBLISHED-TTL:PT1H
BEGIN:VTIMEZONE
TZID:Europe/Berlin
BEGIN:DAYLIGHT
TZOFFSETFROM:+0100
TZOFFSETTO:+0200
TZNAME:CEST
DTSTART:20270328T010000
END:DAYLIGHT
BEGIN:STANDARD
TZOFFSETFROM:+0200
TZOFFSETTO:+0100
TZNAME:CET
DTSTART:20271031T010000
END:STANDARD
BEGIN:DAYLIGHT
TZOFFSETFROM:+0100
TZOFFSETTO:+0200
TZNAME:CEST
DTSTART:20280326T010000
END:DAYLIGHT
BEGIN:STANDARD
TZOFFSETFROM:+0200
TZOFFSETTO:+0100
TZNAME:CET
DTSTART:20281029T010000
END:STANDARD
BEGIN:DAYLIGHT
TZOFFSETFROM:+0100
TZOFFSETTO:+0200
TZNAME:CEST
DTSTART:20290325T010000
END:DAYLIGHT
BEGIN:STANDARD
TZOFFSETFROM:+0200
TZOFFSETTO:+0100
TZNAME:CET
DTSTART:20291028T010000
END:STANDARD
BEGIN:DAYLIGHT
TZOFFSETFROM:+0100
TZOFFSETTO:+0200
TZNAME:CEST
DTSTART:20300331T010000
END:DAYLIGHT
BEGIN:STANDARD
TZOFFSETFROM:+0200
TZOFFSETTO:+0100
TZNAME:CET
DTSTART:20301027T010000
END:STANDARD
BEGIN:DAYLIGHT
TZOFFSETFROM:+0100
TZOFFSETTO:+0200
TZNAME:CEST
DTSTART:20310330T010000
END:DAYLIGHT
BEGIN:STANDARD
TZOFFSETFROM:+0200
TZOFFSETTO:+0100
TZNAME:CET
DTSTART:20311026T010000
END:STANDARD
END:VTIMEZONE
BEGIN:VEVENT
DTSTART;TZID=Europe/Berlin:20280414T190000
DTEND;TZID=Europe/Berlin:20280414T230000
DTSTAMP:20260423T185006
CREATED:20260112T103943Z
LAST-MODIFIED:20260112T104003Z
UID:10006501-1839351600-1839366000@kropp.de
SUMMARY:Stammtisch Oldtimerfreunde Wohlde
DESCRIPTION:Die Oldtimerfreunde Anno 2021 laden zum monatlichen Stammtisch ein.
URL:https://kropp.de/veranstaltung/stammtisch-oldtimerfreunde-wohlde/2028-04-14/
LOCATION:Muhl´s Gasthof\, Dorfstraße 44\, Wohlde\, 24899
ATTACH;FMTTYPE=image/jpeg:https://kropp.de/wp-content/uploads/2026/01/Oldtimerfreunde-anno-2021-wohlde.jpg
ORGANIZER;CN="Oldtimerfreunde Anno 2021":MAILTO:oldtimerfreundeanno21@gmail.com
END:VEVENT
BEGIN:VEVENT
DTSTART;TZID=Europe/Berlin:20280512T190000
DTEND;TZID=Europe/Berlin:20280512T230000
DTSTAMP:20260423T185006
CREATED:20260112T103943Z
LAST-MODIFIED:20260112T104003Z
UID:10006502-1841770800-1841785200@kropp.de
SUMMARY:Stammtisch Oldtimerfreunde Wohlde
DESCRIPTION:Die Oldtimerfreunde Anno 2021 laden zum monatlichen Stammtisch ein.
URL:https://kropp.de/veranstaltung/stammtisch-oldtimerfreunde-wohlde/2028-05-12/
LOCATION:Muhl´s Gasthof\, Dorfstraße 44\, Wohlde\, 24899
ATTACH;FMTTYPE=image/jpeg:https://kropp.de/wp-content/uploads/2026/01/Oldtimerfreunde-anno-2021-wohlde.jpg
ORGANIZER;CN="Oldtimerfreunde Anno 2021":MAILTO:oldtimerfreundeanno21@gmail.com
END:VEVENT
BEGIN:VEVENT
DTSTART;TZID=Europe/Berlin:20280609T190000
DTEND;TZID=Europe/Berlin:20280609T230000
DTSTAMP:20260423T185006
CREATED:20260112T103943Z
LAST-MODIFIED:20260112T104003Z
UID:10006503-1844190000-1844204400@kropp.de
SUMMARY:Stammtisch Oldtimerfreunde Wohlde
DESCRIPTION:Die Oldtimerfreunde Anno 2021 laden zum monatlichen Stammtisch ein.
URL:https://kropp.de/veranstaltung/stammtisch-oldtimerfreunde-wohlde/2028-06-09/
LOCATION:Muhl´s Gasthof\, Dorfstraße 44\, Wohlde\, 24899
ATTACH;FMTTYPE=image/jpeg:https://kropp.de/wp-content/uploads/2026/01/Oldtimerfreunde-anno-2021-wohlde.jpg
ORGANIZER;CN="Oldtimerfreunde Anno 2021":MAILTO:oldtimerfreundeanno21@gmail.com
END:VEVENT
BEGIN:VEVENT
DTSTART;TZID=Europe/Berlin:20280714T190000
DTEND;TZID=Europe/Berlin:20280714T230000
DTSTAMP:20260423T185006
CREATED:20260112T103943Z
LAST-MODIFIED:20260112T104003Z
UID:10006504-1847214000-1847228400@kropp.de
SUMMARY:Stammtisch Oldtimerfreunde Wohlde
DESCRIPTION:Die Oldtimerfreunde Anno 2021 laden zum monatlichen Stammtisch ein.
URL:https://kropp.de/veranstaltung/stammtisch-oldtimerfreunde-wohlde/2028-07-14/
LOCATION:Muhl´s Gasthof\, Dorfstraße 44\, Wohlde\, 24899
ATTACH;FMTTYPE=image/jpeg:https://kropp.de/wp-content/uploads/2026/01/Oldtimerfreunde-anno-2021-wohlde.jpg
ORGANIZER;CN="Oldtimerfreunde Anno 2021":MAILTO:oldtimerfreundeanno21@gmail.com
END:VEVENT
BEGIN:VEVENT
DTSTART;TZID=Europe/Berlin:20280811T190000
DTEND;TZID=Europe/Berlin:20280811T230000
DTSTAMP:20260423T185006
CREATED:20260112T103943Z
LAST-MODIFIED:20260112T104003Z
UID:10006505-1849633200-1849647600@kropp.de
SUMMARY:Stammtisch Oldtimerfreunde Wohlde
DESCRIPTION:Die Oldtimerfreunde Anno 2021 laden zum monatlichen Stammtisch ein.
URL:https://kropp.de/veranstaltung/stammtisch-oldtimerfreunde-wohlde/2028-08-11/
LOCATION:Muhl´s Gasthof\, Dorfstraße 44\, Wohlde\, 24899
ATTACH;FMTTYPE=image/jpeg:https://kropp.de/wp-content/uploads/2026/01/Oldtimerfreunde-anno-2021-wohlde.jpg
ORGANIZER;CN="Oldtimerfreunde Anno 2021":MAILTO:oldtimerfreundeanno21@gmail.com
END:VEVENT
BEGIN:VEVENT
DTSTART;TZID=Europe/Berlin:20280908T190000
DTEND;TZID=Europe/Berlin:20280908T230000
DTSTAMP:20260423T185006
CREATED:20260112T103943Z
LAST-MODIFIED:20260112T104003Z
UID:10006506-1852052400-1852066800@kropp.de
SUMMARY:Stammtisch Oldtimerfreunde Wohlde
DESCRIPTION:Die Oldtimerfreunde Anno 2021 laden zum monatlichen Stammtisch ein.
URL:https://kropp.de/veranstaltung/stammtisch-oldtimerfreunde-wohlde/2028-09-08/
LOCATION:Muhl´s Gasthof\, Dorfstraße 44\, Wohlde\, 24899
ATTACH;FMTTYPE=image/jpeg:https://kropp.de/wp-content/uploads/2026/01/Oldtimerfreunde-anno-2021-wohlde.jpg
ORGANIZER;CN="Oldtimerfreunde Anno 2021":MAILTO:oldtimerfreundeanno21@gmail.com
END:VEVENT
BEGIN:VEVENT
DTSTART;TZID=Europe/Berlin:20281013T190000
DTEND;TZID=Europe/Berlin:20281013T230000
DTSTAMP:20260423T185006
CREATED:20260112T103943Z
LAST-MODIFIED:20260112T104003Z
UID:10006507-1855076400-1855090800@kropp.de
SUMMARY:Stammtisch Oldtimerfreunde Wohlde
DESCRIPTION:Die Oldtimerfreunde Anno 2021 laden zum monatlichen Stammtisch ein.
URL:https://kropp.de/veranstaltung/stammtisch-oldtimerfreunde-wohlde/2028-10-13/
LOCATION:Muhl´s Gasthof\, Dorfstraße 44\, Wohlde\, 24899
ATTACH;FMTTYPE=image/jpeg:https://kropp.de/wp-content/uploads/2026/01/Oldtimerfreunde-anno-2021-wohlde.jpg
ORGANIZER;CN="Oldtimerfreunde Anno 2021":MAILTO:oldtimerfreundeanno21@gmail.com
END:VEVENT
BEGIN:VEVENT
DTSTART;TZID=Europe/Berlin:20281110T190000
DTEND;TZID=Europe/Berlin:20281110T230000
DTSTAMP:20260423T185006
CREATED:20260112T103943Z
LAST-MODIFIED:20260112T104003Z
UID:10006508-1857495600-1857510000@kropp.de
SUMMARY:Stammtisch Oldtimerfreunde Wohlde
DESCRIPTION:Die Oldtimerfreunde Anno 2021 laden zum monatlichen Stammtisch ein.
URL:https://kropp.de/veranstaltung/stammtisch-oldtimerfreunde-wohlde/2028-11-10/
LOCATION:Muhl´s Gasthof\, Dorfstraße 44\, Wohlde\, 24899
ATTACH;FMTTYPE=image/jpeg:https://kropp.de/wp-content/uploads/2026/01/Oldtimerfreunde-anno-2021-wohlde.jpg
ORGANIZER;CN="Oldtimerfreunde Anno 2021":MAILTO:oldtimerfreundeanno21@gmail.com
END:VEVENT
BEGIN:VEVENT
DTSTART;TZID=Europe/Berlin:20281208T190000
DTEND;TZID=Europe/Berlin:20281208T230000
DTSTAMP:20260423T185006
CREATED:20260112T103943Z
LAST-MODIFIED:20260112T104003Z
UID:10006509-1859914800-1859929200@kropp.de
SUMMARY:Stammtisch Oldtimerfreunde Wohlde
DESCRIPTION:Die Oldtimerfreunde Anno 2021 laden zum monatlichen Stammtisch ein.
URL:https://kropp.de/veranstaltung/stammtisch-oldtimerfreunde-wohlde/2028-12-08/
LOCATION:Muhl´s Gasthof\, Dorfstraße 44\, Wohlde\, 24899
ATTACH;FMTTYPE=image/jpeg:https://kropp.de/wp-content/uploads/2026/01/Oldtimerfreunde-anno-2021-wohlde.jpg
ORGANIZER;CN="Oldtimerfreunde Anno 2021":MAILTO:oldtimerfreundeanno21@gmail.com
END:VEVENT
BEGIN:VEVENT
DTSTART;TZID=Europe/Berlin:20290112T190000
DTEND;TZID=Europe/Berlin:20290112T230000
DTSTAMP:20260423T185006
CREATED:20260112T103943Z
LAST-MODIFIED:20260112T104003Z
UID:10006510-1862938800-1862953200@kropp.de
SUMMARY:Stammtisch Oldtimerfreunde Wohlde
DESCRIPTION:Die Oldtimerfreunde Anno 2021 laden zum monatlichen Stammtisch ein.
URL:https://kropp.de/veranstaltung/stammtisch-oldtimerfreunde-wohlde/2029-01-12/
LOCATION:Muhl´s Gasthof\, Dorfstraße 44\, Wohlde\, 24899
ATTACH;FMTTYPE=image/jpeg:https://kropp.de/wp-content/uploads/2026/01/Oldtimerfreunde-anno-2021-wohlde.jpg
ORGANIZER;CN="Oldtimerfreunde Anno 2021":MAILTO:oldtimerfreundeanno21@gmail.com
END:VEVENT
BEGIN:VEVENT
DTSTART;TZID=Europe/Berlin:20290209T190000
DTEND;TZID=Europe/Berlin:20290209T230000
DTSTAMP:20260423T185006
CREATED:20260112T103943Z
LAST-MODIFIED:20260112T104003Z
UID:10006511-1865358000-1865372400@kropp.de
SUMMARY:Stammtisch Oldtimerfreunde Wohlde
DESCRIPTION:Die Oldtimerfreunde Anno 2021 laden zum monatlichen Stammtisch ein.
URL:https://kropp.de/veranstaltung/stammtisch-oldtimerfreunde-wohlde/2029-02-09/
LOCATION:Muhl´s Gasthof\, Dorfstraße 44\, Wohlde\, 24899
ATTACH;FMTTYPE=image/jpeg:https://kropp.de/wp-content/uploads/2026/01/Oldtimerfreunde-anno-2021-wohlde.jpg
ORGANIZER;CN="Oldtimerfreunde Anno 2021":MAILTO:oldtimerfreundeanno21@gmail.com
END:VEVENT
BEGIN:VEVENT
DTSTART;TZID=Europe/Berlin:20290309T190000
DTEND;TZID=Europe/Berlin:20290309T230000
DTSTAMP:20260423T185006
CREATED:20260112T103943Z
LAST-MODIFIED:20260112T104003Z
UID:10006512-1867777200-1867791600@kropp.de
SUMMARY:Stammtisch Oldtimerfreunde Wohlde
DESCRIPTION:Die Oldtimerfreunde Anno 2021 laden zum monatlichen Stammtisch ein.
URL:https://kropp.de/veranstaltung/stammtisch-oldtimerfreunde-wohlde/2029-03-09/
LOCATION:Muhl´s Gasthof\, Dorfstraße 44\, Wohlde\, 24899
ATTACH;FMTTYPE=image/jpeg:https://kropp.de/wp-content/uploads/2026/01/Oldtimerfreunde-anno-2021-wohlde.jpg
ORGANIZER;CN="Oldtimerfreunde Anno 2021":MAILTO:oldtimerfreundeanno21@gmail.com
END:VEVENT
BEGIN:VEVENT
DTSTART;TZID=Europe/Berlin:20290413T190000
DTEND;TZID=Europe/Berlin:20290413T230000
DTSTAMP:20260423T185006
CREATED:20260112T103943Z
LAST-MODIFIED:20260112T104003Z
UID:10006513-1870801200-1870815600@kropp.de
SUMMARY:Stammtisch Oldtimerfreunde Wohlde
DESCRIPTION:Die Oldtimerfreunde Anno 2021 laden zum monatlichen Stammtisch ein.
URL:https://kropp.de/veranstaltung/stammtisch-oldtimerfreunde-wohlde/2029-04-13/
LOCATION:Muhl´s Gasthof\, Dorfstraße 44\, Wohlde\, 24899
ATTACH;FMTTYPE=image/jpeg:https://kropp.de/wp-content/uploads/2026/01/Oldtimerfreunde-anno-2021-wohlde.jpg
ORGANIZER;CN="Oldtimerfreunde Anno 2021":MAILTO:oldtimerfreundeanno21@gmail.com
END:VEVENT
BEGIN:VEVENT
DTSTART;TZID=Europe/Berlin:20290511T190000
DTEND;TZID=Europe/Berlin:20290511T230000
DTSTAMP:20260423T185006
CREATED:20260112T103943Z
LAST-MODIFIED:20260112T104003Z
UID:10006514-1873220400-1873234800@kropp.de
SUMMARY:Stammtisch Oldtimerfreunde Wohlde
DESCRIPTION:Die Oldtimerfreunde Anno 2021 laden zum monatlichen Stammtisch ein.
URL:https://kropp.de/veranstaltung/stammtisch-oldtimerfreunde-wohlde/2029-05-11/
LOCATION:Muhl´s Gasthof\, Dorfstraße 44\, Wohlde\, 24899
ATTACH;FMTTYPE=image/jpeg:https://kropp.de/wp-content/uploads/2026/01/Oldtimerfreunde-anno-2021-wohlde.jpg
ORGANIZER;CN="Oldtimerfreunde Anno 2021":MAILTO:oldtimerfreundeanno21@gmail.com
END:VEVENT
BEGIN:VEVENT
DTSTART;TZID=Europe/Berlin:20290608T190000
DTEND;TZID=Europe/Berlin:20290608T230000
DTSTAMP:20260423T185006
CREATED:20260112T103943Z
LAST-MODIFIED:20260112T104003Z
UID:10006515-1875639600-1875654000@kropp.de
SUMMARY:Stammtisch Oldtimerfreunde Wohlde
DESCRIPTION:Die Oldtimerfreunde Anno 2021 laden zum monatlichen Stammtisch ein.
URL:https://kropp.de/veranstaltung/stammtisch-oldtimerfreunde-wohlde/2029-06-08/
LOCATION:Muhl´s Gasthof\, Dorfstraße 44\, Wohlde\, 24899
ATTACH;FMTTYPE=image/jpeg:https://kropp.de/wp-content/uploads/2026/01/Oldtimerfreunde-anno-2021-wohlde.jpg
ORGANIZER;CN="Oldtimerfreunde Anno 2021":MAILTO:oldtimerfreundeanno21@gmail.com
END:VEVENT
BEGIN:VEVENT
DTSTART;TZID=Europe/Berlin:20290713T190000
DTEND;TZID=Europe/Berlin:20290713T230000
DTSTAMP:20260423T185006
CREATED:20260112T103943Z
LAST-MODIFIED:20260112T104003Z
UID:10006516-1878663600-1878678000@kropp.de
SUMMARY:Stammtisch Oldtimerfreunde Wohlde
DESCRIPTION:Die Oldtimerfreunde Anno 2021 laden zum monatlichen Stammtisch ein.
URL:https://kropp.de/veranstaltung/stammtisch-oldtimerfreunde-wohlde/2029-07-13/
LOCATION:Muhl´s Gasthof\, Dorfstraße 44\, Wohlde\, 24899
ATTACH;FMTTYPE=image/jpeg:https://kropp.de/wp-content/uploads/2026/01/Oldtimerfreunde-anno-2021-wohlde.jpg
ORGANIZER;CN="Oldtimerfreunde Anno 2021":MAILTO:oldtimerfreundeanno21@gmail.com
END:VEVENT
BEGIN:VEVENT
DTSTART;TZID=Europe/Berlin:20290810T190000
DTEND;TZID=Europe/Berlin:20290810T230000
DTSTAMP:20260423T185006
CREATED:20260112T103943Z
LAST-MODIFIED:20260112T104003Z
UID:10006517-1881082800-1881097200@kropp.de
SUMMARY:Stammtisch Oldtimerfreunde Wohlde
DESCRIPTION:Die Oldtimerfreunde Anno 2021 laden zum monatlichen Stammtisch ein.
URL:https://kropp.de/veranstaltung/stammtisch-oldtimerfreunde-wohlde/2029-08-10/
LOCATION:Muhl´s Gasthof\, Dorfstraße 44\, Wohlde\, 24899
ATTACH;FMTTYPE=image/jpeg:https://kropp.de/wp-content/uploads/2026/01/Oldtimerfreunde-anno-2021-wohlde.jpg
ORGANIZER;CN="Oldtimerfreunde Anno 2021":MAILTO:oldtimerfreundeanno21@gmail.com
END:VEVENT
BEGIN:VEVENT
DTSTART;TZID=Europe/Berlin:20290914T190000
DTEND;TZID=Europe/Berlin:20290914T230000
DTSTAMP:20260423T185006
CREATED:20260112T103943Z
LAST-MODIFIED:20260112T104003Z
UID:10006518-1884106800-1884121200@kropp.de
SUMMARY:Stammtisch Oldtimerfreunde Wohlde
DESCRIPTION:Die Oldtimerfreunde Anno 2021 laden zum monatlichen Stammtisch ein.
URL:https://kropp.de/veranstaltung/stammtisch-oldtimerfreunde-wohlde/2029-09-14/
LOCATION:Muhl´s Gasthof\, Dorfstraße 44\, Wohlde\, 24899
ATTACH;FMTTYPE=image/jpeg:https://kropp.de/wp-content/uploads/2026/01/Oldtimerfreunde-anno-2021-wohlde.jpg
ORGANIZER;CN="Oldtimerfreunde Anno 2021":MAILTO:oldtimerfreundeanno21@gmail.com
END:VEVENT
BEGIN:VEVENT
DTSTART;TZID=Europe/Berlin:20291012T190000
DTEND;TZID=Europe/Berlin:20291012T230000
DTSTAMP:20260423T185006
CREATED:20260112T103943Z
LAST-MODIFIED:20260112T104003Z
UID:10006519-1886526000-1886540400@kropp.de
SUMMARY:Stammtisch Oldtimerfreunde Wohlde
DESCRIPTION:Die Oldtimerfreunde Anno 2021 laden zum monatlichen Stammtisch ein.
URL:https://kropp.de/veranstaltung/stammtisch-oldtimerfreunde-wohlde/2029-10-12/
LOCATION:Muhl´s Gasthof\, Dorfstraße 44\, Wohlde\, 24899
ATTACH;FMTTYPE=image/jpeg:https://kropp.de/wp-content/uploads/2026/01/Oldtimerfreunde-anno-2021-wohlde.jpg
ORGANIZER;CN="Oldtimerfreunde Anno 2021":MAILTO:oldtimerfreundeanno21@gmail.com
END:VEVENT
BEGIN:VEVENT
DTSTART;TZID=Europe/Berlin:20291109T190000
DTEND;TZID=Europe/Berlin:20291109T230000
DTSTAMP:20260423T185006
CREATED:20260112T103943Z
LAST-MODIFIED:20260112T104003Z
UID:10006520-1888945200-1888959600@kropp.de
SUMMARY:Stammtisch Oldtimerfreunde Wohlde
DESCRIPTION:Die Oldtimerfreunde Anno 2021 laden zum monatlichen Stammtisch ein.
URL:https://kropp.de/veranstaltung/stammtisch-oldtimerfreunde-wohlde/2029-11-09/
LOCATION:Muhl´s Gasthof\, Dorfstraße 44\, Wohlde\, 24899
ATTACH;FMTTYPE=image/jpeg:https://kropp.de/wp-content/uploads/2026/01/Oldtimerfreunde-anno-2021-wohlde.jpg
ORGANIZER;CN="Oldtimerfreunde Anno 2021":MAILTO:oldtimerfreundeanno21@gmail.com
END:VEVENT
BEGIN:VEVENT
DTSTART;TZID=Europe/Berlin:20291214T190000
DTEND;TZID=Europe/Berlin:20291214T230000
DTSTAMP:20260423T185006
CREATED:20260112T103943Z
LAST-MODIFIED:20260112T104003Z
UID:10006521-1891969200-1891983600@kropp.de
SUMMARY:Stammtisch Oldtimerfreunde Wohlde
DESCRIPTION:Die Oldtimerfreunde Anno 2021 laden zum monatlichen Stammtisch ein.
URL:https://kropp.de/veranstaltung/stammtisch-oldtimerfreunde-wohlde/2029-12-14/
LOCATION:Muhl´s Gasthof\, Dorfstraße 44\, Wohlde\, 24899
ATTACH;FMTTYPE=image/jpeg:https://kropp.de/wp-content/uploads/2026/01/Oldtimerfreunde-anno-2021-wohlde.jpg
ORGANIZER;CN="Oldtimerfreunde Anno 2021":MAILTO:oldtimerfreundeanno21@gmail.com
END:VEVENT
BEGIN:VEVENT
DTSTART;TZID=Europe/Berlin:20300111T190000
DTEND;TZID=Europe/Berlin:20300111T230000
DTSTAMP:20260423T185006
CREATED:20260112T103943Z
LAST-MODIFIED:20260112T104003Z
UID:10006522-1894388400-1894402800@kropp.de
SUMMARY:Stammtisch Oldtimerfreunde Wohlde
DESCRIPTION:Die Oldtimerfreunde Anno 2021 laden zum monatlichen Stammtisch ein.
URL:https://kropp.de/veranstaltung/stammtisch-oldtimerfreunde-wohlde/2030-01-11/
LOCATION:Muhl´s Gasthof\, Dorfstraße 44\, Wohlde\, 24899
ATTACH;FMTTYPE=image/jpeg:https://kropp.de/wp-content/uploads/2026/01/Oldtimerfreunde-anno-2021-wohlde.jpg
ORGANIZER;CN="Oldtimerfreunde Anno 2021":MAILTO:oldtimerfreundeanno21@gmail.com
END:VEVENT
BEGIN:VEVENT
DTSTART;TZID=Europe/Berlin:20300208T190000
DTEND;TZID=Europe/Berlin:20300208T230000
DTSTAMP:20260423T185006
CREATED:20260112T103943Z
LAST-MODIFIED:20260112T104003Z
UID:10006523-1896807600-1896822000@kropp.de
SUMMARY:Stammtisch Oldtimerfreunde Wohlde
DESCRIPTION:Die Oldtimerfreunde Anno 2021 laden zum monatlichen Stammtisch ein.
URL:https://kropp.de/veranstaltung/stammtisch-oldtimerfreunde-wohlde/2030-02-08/
LOCATION:Muhl´s Gasthof\, Dorfstraße 44\, Wohlde\, 24899
ATTACH;FMTTYPE=image/jpeg:https://kropp.de/wp-content/uploads/2026/01/Oldtimerfreunde-anno-2021-wohlde.jpg
ORGANIZER;CN="Oldtimerfreunde Anno 2021":MAILTO:oldtimerfreundeanno21@gmail.com
END:VEVENT
BEGIN:VEVENT
DTSTART;TZID=Europe/Berlin:20300308T190000
DTEND;TZID=Europe/Berlin:20300308T230000
DTSTAMP:20260423T185006
CREATED:20260112T103943Z
LAST-MODIFIED:20260112T104003Z
UID:10006524-1899226800-1899241200@kropp.de
SUMMARY:Stammtisch Oldtimerfreunde Wohlde
DESCRIPTION:Die Oldtimerfreunde Anno 2021 laden zum monatlichen Stammtisch ein.
URL:https://kropp.de/veranstaltung/stammtisch-oldtimerfreunde-wohlde/2030-03-08/
LOCATION:Muhl´s Gasthof\, Dorfstraße 44\, Wohlde\, 24899
ATTACH;FMTTYPE=image/jpeg:https://kropp.de/wp-content/uploads/2026/01/Oldtimerfreunde-anno-2021-wohlde.jpg
ORGANIZER;CN="Oldtimerfreunde Anno 2021":MAILTO:oldtimerfreundeanno21@gmail.com
END:VEVENT
BEGIN:VEVENT
DTSTART;TZID=Europe/Berlin:20300412T190000
DTEND;TZID=Europe/Berlin:20300412T230000
DTSTAMP:20260423T185006
CREATED:20260112T103943Z
LAST-MODIFIED:20260112T104003Z
UID:10006525-1902250800-1902265200@kropp.de
SUMMARY:Stammtisch Oldtimerfreunde Wohlde
DESCRIPTION:Die Oldtimerfreunde Anno 2021 laden zum monatlichen Stammtisch ein.
URL:https://kropp.de/veranstaltung/stammtisch-oldtimerfreunde-wohlde/2030-04-12/
LOCATION:Muhl´s Gasthof\, Dorfstraße 44\, Wohlde\, 24899
ATTACH;FMTTYPE=image/jpeg:https://kropp.de/wp-content/uploads/2026/01/Oldtimerfreunde-anno-2021-wohlde.jpg
ORGANIZER;CN="Oldtimerfreunde Anno 2021":MAILTO:oldtimerfreundeanno21@gmail.com
END:VEVENT
BEGIN:VEVENT
DTSTART;TZID=Europe/Berlin:20300510T190000
DTEND;TZID=Europe/Berlin:20300510T230000
DTSTAMP:20260423T185006
CREATED:20260112T103943Z
LAST-MODIFIED:20260112T104003Z
UID:10006526-1904670000-1904684400@kropp.de
SUMMARY:Stammtisch Oldtimerfreunde Wohlde
DESCRIPTION:Die Oldtimerfreunde Anno 2021 laden zum monatlichen Stammtisch ein.
URL:https://kropp.de/veranstaltung/stammtisch-oldtimerfreunde-wohlde/2030-05-10/
LOCATION:Muhl´s Gasthof\, Dorfstraße 44\, Wohlde\, 24899
ATTACH;FMTTYPE=image/jpeg:https://kropp.de/wp-content/uploads/2026/01/Oldtimerfreunde-anno-2021-wohlde.jpg
ORGANIZER;CN="Oldtimerfreunde Anno 2021":MAILTO:oldtimerfreundeanno21@gmail.com
END:VEVENT
BEGIN:VEVENT
DTSTART;TZID=Europe/Berlin:20300614T190000
DTEND;TZID=Europe/Berlin:20300614T230000
DTSTAMP:20260423T185006
CREATED:20260112T103943Z
LAST-MODIFIED:20260112T104003Z
UID:10006527-1907694000-1907708400@kropp.de
SUMMARY:Stammtisch Oldtimerfreunde Wohlde
DESCRIPTION:Die Oldtimerfreunde Anno 2021 laden zum monatlichen Stammtisch ein.
URL:https://kropp.de/veranstaltung/stammtisch-oldtimerfreunde-wohlde/2030-06-14/
LOCATION:Muhl´s Gasthof\, Dorfstraße 44\, Wohlde\, 24899
ATTACH;FMTTYPE=image/jpeg:https://kropp.de/wp-content/uploads/2026/01/Oldtimerfreunde-anno-2021-wohlde.jpg
ORGANIZER;CN="Oldtimerfreunde Anno 2021":MAILTO:oldtimerfreundeanno21@gmail.com
END:VEVENT
BEGIN:VEVENT
DTSTART;TZID=Europe/Berlin:20300712T190000
DTEND;TZID=Europe/Berlin:20300712T230000
DTSTAMP:20260423T185006
CREATED:20260112T103943Z
LAST-MODIFIED:20260112T104003Z
UID:10006528-1910113200-1910127600@kropp.de
SUMMARY:Stammtisch Oldtimerfreunde Wohlde
DESCRIPTION:Die Oldtimerfreunde Anno 2021 laden zum monatlichen Stammtisch ein.
URL:https://kropp.de/veranstaltung/stammtisch-oldtimerfreunde-wohlde/2030-07-12/
LOCATION:Muhl´s Gasthof\, Dorfstraße 44\, Wohlde\, 24899
ATTACH;FMTTYPE=image/jpeg:https://kropp.de/wp-content/uploads/2026/01/Oldtimerfreunde-anno-2021-wohlde.jpg
ORGANIZER;CN="Oldtimerfreunde Anno 2021":MAILTO:oldtimerfreundeanno21@gmail.com
END:VEVENT
BEGIN:VEVENT
DTSTART;TZID=Europe/Berlin:20300809T190000
DTEND;TZID=Europe/Berlin:20300809T230000
DTSTAMP:20260423T185006
CREATED:20260112T103943Z
LAST-MODIFIED:20260112T104003Z
UID:10006529-1912532400-1912546800@kropp.de
SUMMARY:Stammtisch Oldtimerfreunde Wohlde
DESCRIPTION:Die Oldtimerfreunde Anno 2021 laden zum monatlichen Stammtisch ein.
URL:https://kropp.de/veranstaltung/stammtisch-oldtimerfreunde-wohlde/2030-08-09/
LOCATION:Muhl´s Gasthof\, Dorfstraße 44\, Wohlde\, 24899
ATTACH;FMTTYPE=image/jpeg:https://kropp.de/wp-content/uploads/2026/01/Oldtimerfreunde-anno-2021-wohlde.jpg
ORGANIZER;CN="Oldtimerfreunde Anno 2021":MAILTO:oldtimerfreundeanno21@gmail.com
END:VEVENT
BEGIN:VEVENT
DTSTART;TZID=Europe/Berlin:20300913T190000
DTEND;TZID=Europe/Berlin:20300913T230000
DTSTAMP:20260423T185006
CREATED:20260112T103943Z
LAST-MODIFIED:20260112T104003Z
UID:10006530-1915556400-1915570800@kropp.de
SUMMARY:Stammtisch Oldtimerfreunde Wohlde
DESCRIPTION:Die Oldtimerfreunde Anno 2021 laden zum monatlichen Stammtisch ein.
URL:https://kropp.de/veranstaltung/stammtisch-oldtimerfreunde-wohlde/2030-09-13/
LOCATION:Muhl´s Gasthof\, Dorfstraße 44\, Wohlde\, 24899
ATTACH;FMTTYPE=image/jpeg:https://kropp.de/wp-content/uploads/2026/01/Oldtimerfreunde-anno-2021-wohlde.jpg
ORGANIZER;CN="Oldtimerfreunde Anno 2021":MAILTO:oldtimerfreundeanno21@gmail.com
END:VEVENT
END:VCALENDAR