BEGIN:VCALENDAR
VERSION:2.0
PRODID:-//Gemeinde Kropp - ECPv6.15.20//NONSGML v1.0//EN
CALSCALE:GREGORIAN
METHOD:PUBLISH
X-ORIGINAL-URL:https://kropp.de
X-WR-CALDESC:Veranstaltungen für Gemeinde Kropp
REFRESH-INTERVAL;VALUE=DURATION:PT1H
X-Robots-Tag:noindex
X-PUBLISHED-TTL:PT1H
BEGIN:VTIMEZONE
TZID:Europe/Berlin
BEGIN:DAYLIGHT
TZOFFSETFROM:+0100
TZOFFSETTO:+0200
TZNAME:CEST
DTSTART:20250330T010000
END:DAYLIGHT
BEGIN:STANDARD
TZOFFSETFROM:+0200
TZOFFSETTO:+0100
TZNAME:CET
DTSTART:20251026T010000
END:STANDARD
BEGIN:DAYLIGHT
TZOFFSETFROM:+0100
TZOFFSETTO:+0200
TZNAME:CEST
DTSTART:20260329T010000
END:DAYLIGHT
BEGIN:STANDARD
TZOFFSETFROM:+0200
TZOFFSETTO:+0100
TZNAME:CET
DTSTART:20261025T010000
END:STANDARD
BEGIN:DAYLIGHT
TZOFFSETFROM:+0100
TZOFFSETTO:+0200
TZNAME:CEST
DTSTART:20270328T010000
END:DAYLIGHT
BEGIN:STANDARD
TZOFFSETFROM:+0200
TZOFFSETTO:+0100
TZNAME:CET
DTSTART:20271031T010000
END:STANDARD
BEGIN:DAYLIGHT
TZOFFSETFROM:+0100
TZOFFSETTO:+0200
TZNAME:CEST
DTSTART:20280326T010000
END:DAYLIGHT
BEGIN:STANDARD
TZOFFSETFROM:+0200
TZOFFSETTO:+0100
TZNAME:CET
DTSTART:20281029T010000
END:STANDARD
BEGIN:DAYLIGHT
TZOFFSETFROM:+0100
TZOFFSETTO:+0200
TZNAME:CEST
DTSTART:20290325T010000
END:DAYLIGHT
BEGIN:STANDARD
TZOFFSETFROM:+0200
TZOFFSETTO:+0100
TZNAME:CET
DTSTART:20291028T010000
END:STANDARD
END:VTIMEZONE
BEGIN:VEVENT
DTSTART;TZID=Europe/Berlin:20260518T190000
DTEND;TZID=Europe/Berlin:20260518T190000
DTSTAMP:20260422T035654
CREATED:20251114T120721Z
LAST-MODIFIED:20251114T120819Z
UID:10001904-1779130800-1779130800@kropp.de
SUMMARY:Stammtisch für Hochsensible
DESCRIPTION:Wir möchten regelmäßig über die Herausforderungen im Alltag für hochsensible Menschen sprechen und uns austauschen.
URL:https://kropp.de/veranstaltung/stammtisch-fuer-hochsensible/2026-05-18/
LOCATION:Forum Kropp\, Am Markt 11\, Kropp\, 24848
ATTACH;FMTTYPE=image/jpeg:https://kropp.de/wp-content/uploads/2025/11/Stammtisch-Hochsensibilitaet_-scaled.jpg
END:VEVENT
BEGIN:VEVENT
DTSTART;TZID=Europe/Berlin:20260615T190000
DTEND;TZID=Europe/Berlin:20260615T190000
DTSTAMP:20260422T035654
CREATED:20251114T120721Z
LAST-MODIFIED:20251114T120819Z
UID:10001905-1781550000-1781550000@kropp.de
SUMMARY:Stammtisch für Hochsensible
DESCRIPTION:Wir möchten regelmäßig über die Herausforderungen im Alltag für hochsensible Menschen sprechen und uns austauschen.
URL:https://kropp.de/veranstaltung/stammtisch-fuer-hochsensible/2026-06-15/
LOCATION:Forum Kropp\, Am Markt 11\, Kropp\, 24848
ATTACH;FMTTYPE=image/jpeg:https://kropp.de/wp-content/uploads/2025/11/Stammtisch-Hochsensibilitaet_-scaled.jpg
END:VEVENT
BEGIN:VEVENT
DTSTART;TZID=Europe/Berlin:20260720T190000
DTEND;TZID=Europe/Berlin:20260720T190000
DTSTAMP:20260422T035654
CREATED:20251114T120721Z
LAST-MODIFIED:20251114T120819Z
UID:10001906-1784574000-1784574000@kropp.de
SUMMARY:Stammtisch für Hochsensible
DESCRIPTION:Wir möchten regelmäßig über die Herausforderungen im Alltag für hochsensible Menschen sprechen und uns austauschen.
URL:https://kropp.de/veranstaltung/stammtisch-fuer-hochsensible/2026-07-20/
LOCATION:Forum Kropp\, Am Markt 11\, Kropp\, 24848
ATTACH;FMTTYPE=image/jpeg:https://kropp.de/wp-content/uploads/2025/11/Stammtisch-Hochsensibilitaet_-scaled.jpg
END:VEVENT
BEGIN:VEVENT
DTSTART;TZID=Europe/Berlin:20260817T190000
DTEND;TZID=Europe/Berlin:20260817T190000
DTSTAMP:20260422T035654
CREATED:20251114T120721Z
LAST-MODIFIED:20251114T120819Z
UID:10001907-1786993200-1786993200@kropp.de
SUMMARY:Stammtisch für Hochsensible
DESCRIPTION:Wir möchten regelmäßig über die Herausforderungen im Alltag für hochsensible Menschen sprechen und uns austauschen.
URL:https://kropp.de/veranstaltung/stammtisch-fuer-hochsensible/2026-08-17/
LOCATION:Forum Kropp\, Am Markt 11\, Kropp\, 24848
ATTACH;FMTTYPE=image/jpeg:https://kropp.de/wp-content/uploads/2025/11/Stammtisch-Hochsensibilitaet_-scaled.jpg
END:VEVENT
BEGIN:VEVENT
DTSTART;TZID=Europe/Berlin:20260921T190000
DTEND;TZID=Europe/Berlin:20260921T190000
DTSTAMP:20260422T035654
CREATED:20251114T120721Z
LAST-MODIFIED:20251114T120819Z
UID:10001908-1790017200-1790017200@kropp.de
SUMMARY:Stammtisch für Hochsensible
DESCRIPTION:Wir möchten regelmäßig über die Herausforderungen im Alltag für hochsensible Menschen sprechen und uns austauschen.
URL:https://kropp.de/veranstaltung/stammtisch-fuer-hochsensible/2026-09-21/
LOCATION:Forum Kropp\, Am Markt 11\, Kropp\, 24848
ATTACH;FMTTYPE=image/jpeg:https://kropp.de/wp-content/uploads/2025/11/Stammtisch-Hochsensibilitaet_-scaled.jpg
END:VEVENT
BEGIN:VEVENT
DTSTART;TZID=Europe/Berlin:20261019T190000
DTEND;TZID=Europe/Berlin:20261019T190000
DTSTAMP:20260422T035654
CREATED:20251114T120721Z
LAST-MODIFIED:20251114T120819Z
UID:10001909-1792436400-1792436400@kropp.de
SUMMARY:Stammtisch für Hochsensible
DESCRIPTION:Wir möchten regelmäßig über die Herausforderungen im Alltag für hochsensible Menschen sprechen und uns austauschen.
URL:https://kropp.de/veranstaltung/stammtisch-fuer-hochsensible/2026-10-19/
LOCATION:Forum Kropp\, Am Markt 11\, Kropp\, 24848
ATTACH;FMTTYPE=image/jpeg:https://kropp.de/wp-content/uploads/2025/11/Stammtisch-Hochsensibilitaet_-scaled.jpg
END:VEVENT
BEGIN:VEVENT
DTSTART;TZID=Europe/Berlin:20261116T190000
DTEND;TZID=Europe/Berlin:20261116T190000
DTSTAMP:20260422T035654
CREATED:20251114T120721Z
LAST-MODIFIED:20251114T120819Z
UID:10001910-1794855600-1794855600@kropp.de
SUMMARY:Stammtisch für Hochsensible
DESCRIPTION:Wir möchten regelmäßig über die Herausforderungen im Alltag für hochsensible Menschen sprechen und uns austauschen.
URL:https://kropp.de/veranstaltung/stammtisch-fuer-hochsensible/2026-11-16/
LOCATION:Forum Kropp\, Am Markt 11\, Kropp\, 24848
ATTACH;FMTTYPE=image/jpeg:https://kropp.de/wp-content/uploads/2025/11/Stammtisch-Hochsensibilitaet_-scaled.jpg
END:VEVENT
BEGIN:VEVENT
DTSTART;TZID=Europe/Berlin:20261221T190000
DTEND;TZID=Europe/Berlin:20261221T190000
DTSTAMP:20260422T035654
CREATED:20251114T120721Z
LAST-MODIFIED:20251114T120819Z
UID:10001911-1797879600-1797879600@kropp.de
SUMMARY:Stammtisch für Hochsensible
DESCRIPTION:Wir möchten regelmäßig über die Herausforderungen im Alltag für hochsensible Menschen sprechen und uns austauschen.
URL:https://kropp.de/veranstaltung/stammtisch-fuer-hochsensible/2026-12-21/
LOCATION:Forum Kropp\, Am Markt 11\, Kropp\, 24848
ATTACH;FMTTYPE=image/jpeg:https://kropp.de/wp-content/uploads/2025/11/Stammtisch-Hochsensibilitaet_-scaled.jpg
END:VEVENT
BEGIN:VEVENT
DTSTART;TZID=Europe/Berlin:20270118T190000
DTEND;TZID=Europe/Berlin:20270118T190000
DTSTAMP:20260422T035654
CREATED:20251114T120721Z
LAST-MODIFIED:20251114T120819Z
UID:10001912-1800298800-1800298800@kropp.de
SUMMARY:Stammtisch für Hochsensible
DESCRIPTION:Wir möchten regelmäßig über die Herausforderungen im Alltag für hochsensible Menschen sprechen und uns austauschen.
URL:https://kropp.de/veranstaltung/stammtisch-fuer-hochsensible/2027-01-18/
LOCATION:Forum Kropp\, Am Markt 11\, Kropp\, 24848
ATTACH;FMTTYPE=image/jpeg:https://kropp.de/wp-content/uploads/2025/11/Stammtisch-Hochsensibilitaet_-scaled.jpg
END:VEVENT
BEGIN:VEVENT
DTSTART;TZID=Europe/Berlin:20270215T190000
DTEND;TZID=Europe/Berlin:20270215T190000
DTSTAMP:20260422T035654
CREATED:20251114T120721Z
LAST-MODIFIED:20251114T120819Z
UID:10001913-1802718000-1802718000@kropp.de
SUMMARY:Stammtisch für Hochsensible
DESCRIPTION:Wir möchten regelmäßig über die Herausforderungen im Alltag für hochsensible Menschen sprechen und uns austauschen.
URL:https://kropp.de/veranstaltung/stammtisch-fuer-hochsensible/2027-02-15/
LOCATION:Forum Kropp\, Am Markt 11\, Kropp\, 24848
ATTACH;FMTTYPE=image/jpeg:https://kropp.de/wp-content/uploads/2025/11/Stammtisch-Hochsensibilitaet_-scaled.jpg
END:VEVENT
BEGIN:VEVENT
DTSTART;TZID=Europe/Berlin:20270315T190000
DTEND;TZID=Europe/Berlin:20270315T190000
DTSTAMP:20260422T035654
CREATED:20251114T120721Z
LAST-MODIFIED:20251114T120819Z
UID:10001914-1805137200-1805137200@kropp.de
SUMMARY:Stammtisch für Hochsensible
DESCRIPTION:Wir möchten regelmäßig über die Herausforderungen im Alltag für hochsensible Menschen sprechen und uns austauschen.
URL:https://kropp.de/veranstaltung/stammtisch-fuer-hochsensible/2027-03-15/
LOCATION:Forum Kropp\, Am Markt 11\, Kropp\, 24848
ATTACH;FMTTYPE=image/jpeg:https://kropp.de/wp-content/uploads/2025/11/Stammtisch-Hochsensibilitaet_-scaled.jpg
END:VEVENT
BEGIN:VEVENT
DTSTART;TZID=Europe/Berlin:20270419T190000
DTEND;TZID=Europe/Berlin:20270419T190000
DTSTAMP:20260422T035654
CREATED:20251114T120721Z
LAST-MODIFIED:20251114T120819Z
UID:10001915-1808161200-1808161200@kropp.de
SUMMARY:Stammtisch für Hochsensible
DESCRIPTION:Wir möchten regelmäßig über die Herausforderungen im Alltag für hochsensible Menschen sprechen und uns austauschen.
URL:https://kropp.de/veranstaltung/stammtisch-fuer-hochsensible/2027-04-19/
LOCATION:Forum Kropp\, Am Markt 11\, Kropp\, 24848
ATTACH;FMTTYPE=image/jpeg:https://kropp.de/wp-content/uploads/2025/11/Stammtisch-Hochsensibilitaet_-scaled.jpg
END:VEVENT
BEGIN:VEVENT
DTSTART;TZID=Europe/Berlin:20270517T190000
DTEND;TZID=Europe/Berlin:20270517T190000
DTSTAMP:20260422T035654
CREATED:20251114T120721Z
LAST-MODIFIED:20251114T120819Z
UID:10001916-1810580400-1810580400@kropp.de
SUMMARY:Stammtisch für Hochsensible
DESCRIPTION:Wir möchten regelmäßig über die Herausforderungen im Alltag für hochsensible Menschen sprechen und uns austauschen.
URL:https://kropp.de/veranstaltung/stammtisch-fuer-hochsensible/2027-05-17/
LOCATION:Forum Kropp\, Am Markt 11\, Kropp\, 24848
ATTACH;FMTTYPE=image/jpeg:https://kropp.de/wp-content/uploads/2025/11/Stammtisch-Hochsensibilitaet_-scaled.jpg
END:VEVENT
BEGIN:VEVENT
DTSTART;TZID=Europe/Berlin:20270621T190000
DTEND;TZID=Europe/Berlin:20270621T190000
DTSTAMP:20260422T035654
CREATED:20251114T120721Z
LAST-MODIFIED:20251114T120819Z
UID:10001917-1813604400-1813604400@kropp.de
SUMMARY:Stammtisch für Hochsensible
DESCRIPTION:Wir möchten regelmäßig über die Herausforderungen im Alltag für hochsensible Menschen sprechen und uns austauschen.
URL:https://kropp.de/veranstaltung/stammtisch-fuer-hochsensible/2027-06-21/
LOCATION:Forum Kropp\, Am Markt 11\, Kropp\, 24848
ATTACH;FMTTYPE=image/jpeg:https://kropp.de/wp-content/uploads/2025/11/Stammtisch-Hochsensibilitaet_-scaled.jpg
END:VEVENT
BEGIN:VEVENT
DTSTART;TZID=Europe/Berlin:20270719T190000
DTEND;TZID=Europe/Berlin:20270719T190000
DTSTAMP:20260422T035654
CREATED:20251114T120721Z
LAST-MODIFIED:20251114T120819Z
UID:10001918-1816023600-1816023600@kropp.de
SUMMARY:Stammtisch für Hochsensible
DESCRIPTION:Wir möchten regelmäßig über die Herausforderungen im Alltag für hochsensible Menschen sprechen und uns austauschen.
URL:https://kropp.de/veranstaltung/stammtisch-fuer-hochsensible/2027-07-19/
LOCATION:Forum Kropp\, Am Markt 11\, Kropp\, 24848
ATTACH;FMTTYPE=image/jpeg:https://kropp.de/wp-content/uploads/2025/11/Stammtisch-Hochsensibilitaet_-scaled.jpg
END:VEVENT
BEGIN:VEVENT
DTSTART;TZID=Europe/Berlin:20270816T190000
DTEND;TZID=Europe/Berlin:20270816T190000
DTSTAMP:20260422T035654
CREATED:20251114T120721Z
LAST-MODIFIED:20251114T120819Z
UID:10001919-1818442800-1818442800@kropp.de
SUMMARY:Stammtisch für Hochsensible
DESCRIPTION:Wir möchten regelmäßig über die Herausforderungen im Alltag für hochsensible Menschen sprechen und uns austauschen.
URL:https://kropp.de/veranstaltung/stammtisch-fuer-hochsensible/2027-08-16/
LOCATION:Forum Kropp\, Am Markt 11\, Kropp\, 24848
ATTACH;FMTTYPE=image/jpeg:https://kropp.de/wp-content/uploads/2025/11/Stammtisch-Hochsensibilitaet_-scaled.jpg
END:VEVENT
BEGIN:VEVENT
DTSTART;TZID=Europe/Berlin:20270920T190000
DTEND;TZID=Europe/Berlin:20270920T190000
DTSTAMP:20260422T035654
CREATED:20251114T120721Z
LAST-MODIFIED:20251114T120819Z
UID:10001920-1821466800-1821466800@kropp.de
SUMMARY:Stammtisch für Hochsensible
DESCRIPTION:Wir möchten regelmäßig über die Herausforderungen im Alltag für hochsensible Menschen sprechen und uns austauschen.
URL:https://kropp.de/veranstaltung/stammtisch-fuer-hochsensible/2027-09-20/
LOCATION:Forum Kropp\, Am Markt 11\, Kropp\, 24848
ATTACH;FMTTYPE=image/jpeg:https://kropp.de/wp-content/uploads/2025/11/Stammtisch-Hochsensibilitaet_-scaled.jpg
END:VEVENT
BEGIN:VEVENT
DTSTART;TZID=Europe/Berlin:20271018T190000
DTEND;TZID=Europe/Berlin:20271018T190000
DTSTAMP:20260422T035654
CREATED:20251114T120721Z
LAST-MODIFIED:20251114T120819Z
UID:10001921-1823886000-1823886000@kropp.de
SUMMARY:Stammtisch für Hochsensible
DESCRIPTION:Wir möchten regelmäßig über die Herausforderungen im Alltag für hochsensible Menschen sprechen und uns austauschen.
URL:https://kropp.de/veranstaltung/stammtisch-fuer-hochsensible/2027-10-18/
LOCATION:Forum Kropp\, Am Markt 11\, Kropp\, 24848
ATTACH;FMTTYPE=image/jpeg:https://kropp.de/wp-content/uploads/2025/11/Stammtisch-Hochsensibilitaet_-scaled.jpg
END:VEVENT
BEGIN:VEVENT
DTSTART;TZID=Europe/Berlin:20271115T190000
DTEND;TZID=Europe/Berlin:20271115T190000
DTSTAMP:20260422T035654
CREATED:20251114T120721Z
LAST-MODIFIED:20251114T120819Z
UID:10001922-1826305200-1826305200@kropp.de
SUMMARY:Stammtisch für Hochsensible
DESCRIPTION:Wir möchten regelmäßig über die Herausforderungen im Alltag für hochsensible Menschen sprechen und uns austauschen.
URL:https://kropp.de/veranstaltung/stammtisch-fuer-hochsensible/2027-11-15/
LOCATION:Forum Kropp\, Am Markt 11\, Kropp\, 24848
ATTACH;FMTTYPE=image/jpeg:https://kropp.de/wp-content/uploads/2025/11/Stammtisch-Hochsensibilitaet_-scaled.jpg
END:VEVENT
BEGIN:VEVENT
DTSTART;TZID=Europe/Berlin:20271220T190000
DTEND;TZID=Europe/Berlin:20271220T190000
DTSTAMP:20260422T035654
CREATED:20251114T120721Z
LAST-MODIFIED:20251114T120819Z
UID:10001923-1829329200-1829329200@kropp.de
SUMMARY:Stammtisch für Hochsensible
DESCRIPTION:Wir möchten regelmäßig über die Herausforderungen im Alltag für hochsensible Menschen sprechen und uns austauschen.
URL:https://kropp.de/veranstaltung/stammtisch-fuer-hochsensible/2027-12-20/
LOCATION:Forum Kropp\, Am Markt 11\, Kropp\, 24848
ATTACH;FMTTYPE=image/jpeg:https://kropp.de/wp-content/uploads/2025/11/Stammtisch-Hochsensibilitaet_-scaled.jpg
END:VEVENT
BEGIN:VEVENT
DTSTART;TZID=Europe/Berlin:20280117T190000
DTEND;TZID=Europe/Berlin:20280117T190000
DTSTAMP:20260422T035654
CREATED:20251114T120721Z
LAST-MODIFIED:20251114T120819Z
UID:10001924-1831748400-1831748400@kropp.de
SUMMARY:Stammtisch für Hochsensible
DESCRIPTION:Wir möchten regelmäßig über die Herausforderungen im Alltag für hochsensible Menschen sprechen und uns austauschen.
URL:https://kropp.de/veranstaltung/stammtisch-fuer-hochsensible/2028-01-17/
LOCATION:Forum Kropp\, Am Markt 11\, Kropp\, 24848
ATTACH;FMTTYPE=image/jpeg:https://kropp.de/wp-content/uploads/2025/11/Stammtisch-Hochsensibilitaet_-scaled.jpg
END:VEVENT
BEGIN:VEVENT
DTSTART;TZID=Europe/Berlin:20280221T190000
DTEND;TZID=Europe/Berlin:20280221T190000
DTSTAMP:20260422T035654
CREATED:20251114T120721Z
LAST-MODIFIED:20251114T120819Z
UID:10001925-1834772400-1834772400@kropp.de
SUMMARY:Stammtisch für Hochsensible
DESCRIPTION:Wir möchten regelmäßig über die Herausforderungen im Alltag für hochsensible Menschen sprechen und uns austauschen.
URL:https://kropp.de/veranstaltung/stammtisch-fuer-hochsensible/2028-02-21/
LOCATION:Forum Kropp\, Am Markt 11\, Kropp\, 24848
ATTACH;FMTTYPE=image/jpeg:https://kropp.de/wp-content/uploads/2025/11/Stammtisch-Hochsensibilitaet_-scaled.jpg
END:VEVENT
BEGIN:VEVENT
DTSTART;TZID=Europe/Berlin:20280320T190000
DTEND;TZID=Europe/Berlin:20280320T190000
DTSTAMP:20260422T035654
CREATED:20251114T120721Z
LAST-MODIFIED:20251114T120819Z
UID:10001926-1837191600-1837191600@kropp.de
SUMMARY:Stammtisch für Hochsensible
DESCRIPTION:Wir möchten regelmäßig über die Herausforderungen im Alltag für hochsensible Menschen sprechen und uns austauschen.
URL:https://kropp.de/veranstaltung/stammtisch-fuer-hochsensible/2028-03-20/
LOCATION:Forum Kropp\, Am Markt 11\, Kropp\, 24848
ATTACH;FMTTYPE=image/jpeg:https://kropp.de/wp-content/uploads/2025/11/Stammtisch-Hochsensibilitaet_-scaled.jpg
END:VEVENT
BEGIN:VEVENT
DTSTART;TZID=Europe/Berlin:20280417T190000
DTEND;TZID=Europe/Berlin:20280417T190000
DTSTAMP:20260422T035654
CREATED:20251114T120721Z
LAST-MODIFIED:20251114T120819Z
UID:10001927-1839610800-1839610800@kropp.de
SUMMARY:Stammtisch für Hochsensible
DESCRIPTION:Wir möchten regelmäßig über die Herausforderungen im Alltag für hochsensible Menschen sprechen und uns austauschen.
URL:https://kropp.de/veranstaltung/stammtisch-fuer-hochsensible/2028-04-17/
LOCATION:Forum Kropp\, Am Markt 11\, Kropp\, 24848
ATTACH;FMTTYPE=image/jpeg:https://kropp.de/wp-content/uploads/2025/11/Stammtisch-Hochsensibilitaet_-scaled.jpg
END:VEVENT
BEGIN:VEVENT
DTSTART;TZID=Europe/Berlin:20280515T190000
DTEND;TZID=Europe/Berlin:20280515T190000
DTSTAMP:20260422T035654
CREATED:20251114T120721Z
LAST-MODIFIED:20251114T120819Z
UID:10001928-1842030000-1842030000@kropp.de
SUMMARY:Stammtisch für Hochsensible
DESCRIPTION:Wir möchten regelmäßig über die Herausforderungen im Alltag für hochsensible Menschen sprechen und uns austauschen.
URL:https://kropp.de/veranstaltung/stammtisch-fuer-hochsensible/2028-05-15/
LOCATION:Forum Kropp\, Am Markt 11\, Kropp\, 24848
ATTACH;FMTTYPE=image/jpeg:https://kropp.de/wp-content/uploads/2025/11/Stammtisch-Hochsensibilitaet_-scaled.jpg
END:VEVENT
BEGIN:VEVENT
DTSTART;TZID=Europe/Berlin:20280619T190000
DTEND;TZID=Europe/Berlin:20280619T190000
DTSTAMP:20260422T035654
CREATED:20251114T120721Z
LAST-MODIFIED:20251114T120819Z
UID:10001929-1845054000-1845054000@kropp.de
SUMMARY:Stammtisch für Hochsensible
DESCRIPTION:Wir möchten regelmäßig über die Herausforderungen im Alltag für hochsensible Menschen sprechen und uns austauschen.
URL:https://kropp.de/veranstaltung/stammtisch-fuer-hochsensible/2028-06-19/
LOCATION:Forum Kropp\, Am Markt 11\, Kropp\, 24848
ATTACH;FMTTYPE=image/jpeg:https://kropp.de/wp-content/uploads/2025/11/Stammtisch-Hochsensibilitaet_-scaled.jpg
END:VEVENT
BEGIN:VEVENT
DTSTART;TZID=Europe/Berlin:20280717T190000
DTEND;TZID=Europe/Berlin:20280717T190000
DTSTAMP:20260422T035654
CREATED:20251114T120721Z
LAST-MODIFIED:20251114T120819Z
UID:10001930-1847473200-1847473200@kropp.de
SUMMARY:Stammtisch für Hochsensible
DESCRIPTION:Wir möchten regelmäßig über die Herausforderungen im Alltag für hochsensible Menschen sprechen und uns austauschen.
URL:https://kropp.de/veranstaltung/stammtisch-fuer-hochsensible/2028-07-17/
LOCATION:Forum Kropp\, Am Markt 11\, Kropp\, 24848
ATTACH;FMTTYPE=image/jpeg:https://kropp.de/wp-content/uploads/2025/11/Stammtisch-Hochsensibilitaet_-scaled.jpg
END:VEVENT
BEGIN:VEVENT
DTSTART;TZID=Europe/Berlin:20280821T190000
DTEND;TZID=Europe/Berlin:20280821T190000
DTSTAMP:20260422T035654
CREATED:20251114T120721Z
LAST-MODIFIED:20251114T120819Z
UID:10001931-1850497200-1850497200@kropp.de
SUMMARY:Stammtisch für Hochsensible
DESCRIPTION:Wir möchten regelmäßig über die Herausforderungen im Alltag für hochsensible Menschen sprechen und uns austauschen.
URL:https://kropp.de/veranstaltung/stammtisch-fuer-hochsensible/2028-08-21/
LOCATION:Forum Kropp\, Am Markt 11\, Kropp\, 24848
ATTACH;FMTTYPE=image/jpeg:https://kropp.de/wp-content/uploads/2025/11/Stammtisch-Hochsensibilitaet_-scaled.jpg
END:VEVENT
BEGIN:VEVENT
DTSTART;TZID=Europe/Berlin:20280918T190000
DTEND;TZID=Europe/Berlin:20280918T190000
DTSTAMP:20260422T035654
CREATED:20251114T120721Z
LAST-MODIFIED:20251114T120819Z
UID:10001932-1852916400-1852916400@kropp.de
SUMMARY:Stammtisch für Hochsensible
DESCRIPTION:Wir möchten regelmäßig über die Herausforderungen im Alltag für hochsensible Menschen sprechen und uns austauschen.
URL:https://kropp.de/veranstaltung/stammtisch-fuer-hochsensible/2028-09-18/
LOCATION:Forum Kropp\, Am Markt 11\, Kropp\, 24848
ATTACH;FMTTYPE=image/jpeg:https://kropp.de/wp-content/uploads/2025/11/Stammtisch-Hochsensibilitaet_-scaled.jpg
END:VEVENT
BEGIN:VEVENT
DTSTART;TZID=Europe/Berlin:20281016T190000
DTEND;TZID=Europe/Berlin:20281016T190000
DTSTAMP:20260422T035654
CREATED:20251114T120721Z
LAST-MODIFIED:20251114T120819Z
UID:10001933-1855335600-1855335600@kropp.de
SUMMARY:Stammtisch für Hochsensible
DESCRIPTION:Wir möchten regelmäßig über die Herausforderungen im Alltag für hochsensible Menschen sprechen und uns austauschen.
URL:https://kropp.de/veranstaltung/stammtisch-fuer-hochsensible/2028-10-16/
LOCATION:Forum Kropp\, Am Markt 11\, Kropp\, 24848
ATTACH;FMTTYPE=image/jpeg:https://kropp.de/wp-content/uploads/2025/11/Stammtisch-Hochsensibilitaet_-scaled.jpg
END:VEVENT
END:VCALENDAR