BEGIN:VCALENDAR
VERSION:2.0
PRODID:-//Gemeinde Kropp - ECPv6.15.20//NONSGML v1.0//EN
CALSCALE:GREGORIAN
METHOD:PUBLISH
X-WR-CALNAME:Gemeinde Kropp
X-ORIGINAL-URL:https://kropp.de
X-WR-CALDESC:Veranstaltungen für Gemeinde Kropp
REFRESH-INTERVAL;VALUE=DURATION:PT1H
X-Robots-Tag:noindex
X-PUBLISHED-TTL:PT1H
BEGIN:VTIMEZONE
TZID:Europe/Berlin
BEGIN:DAYLIGHT
TZOFFSETFROM:+0100
TZOFFSETTO:+0200
TZNAME:CEST
DTSTART:20280326T010000
END:DAYLIGHT
BEGIN:STANDARD
TZOFFSETFROM:+0200
TZOFFSETTO:+0100
TZNAME:CET
DTSTART:20281029T010000
END:STANDARD
BEGIN:DAYLIGHT
TZOFFSETFROM:+0100
TZOFFSETTO:+0200
TZNAME:CEST
DTSTART:20290325T010000
END:DAYLIGHT
BEGIN:STANDARD
TZOFFSETFROM:+0200
TZOFFSETTO:+0100
TZNAME:CET
DTSTART:20291028T010000
END:STANDARD
BEGIN:DAYLIGHT
TZOFFSETFROM:+0100
TZOFFSETTO:+0200
TZNAME:CEST
DTSTART:20300331T010000
END:DAYLIGHT
BEGIN:STANDARD
TZOFFSETFROM:+0200
TZOFFSETTO:+0100
TZNAME:CET
DTSTART:20301027T010000
END:STANDARD
BEGIN:DAYLIGHT
TZOFFSETFROM:+0100
TZOFFSETTO:+0200
TZNAME:CEST
DTSTART:20310330T010000
END:DAYLIGHT
BEGIN:STANDARD
TZOFFSETFROM:+0200
TZOFFSETTO:+0100
TZNAME:CET
DTSTART:20311026T010000
END:STANDARD
END:VTIMEZONE
BEGIN:VEVENT
DTSTART;TZID=Europe/Berlin:20290521T190000
DTEND;TZID=Europe/Berlin:20290521T190000
DTSTAMP:20260422T073339
CREATED:20251114T120721Z
LAST-MODIFIED:20251114T120819Z
UID:10001940-1874084400-1874084400@kropp.de
SUMMARY:Stammtisch für Hochsensible
DESCRIPTION:Wir möchten regelmäßig über die Herausforderungen im Alltag für hochsensible Menschen sprechen und uns austauschen.
URL:https://kropp.de/veranstaltung/stammtisch-fuer-hochsensible/2029-05-21/
LOCATION:Forum Kropp\, Am Markt 11\, Kropp\, 24848
ATTACH;FMTTYPE=image/jpeg:https://kropp.de/wp-content/uploads/2025/11/Stammtisch-Hochsensibilitaet_-scaled.jpg
END:VEVENT
BEGIN:VEVENT
DTSTART;TZID=Europe/Berlin:20290618T190000
DTEND;TZID=Europe/Berlin:20290618T190000
DTSTAMP:20260422T073339
CREATED:20251114T120721Z
LAST-MODIFIED:20251114T120819Z
UID:10001941-1876503600-1876503600@kropp.de
SUMMARY:Stammtisch für Hochsensible
DESCRIPTION:Wir möchten regelmäßig über die Herausforderungen im Alltag für hochsensible Menschen sprechen und uns austauschen.
URL:https://kropp.de/veranstaltung/stammtisch-fuer-hochsensible/2029-06-18/
LOCATION:Forum Kropp\, Am Markt 11\, Kropp\, 24848
ATTACH;FMTTYPE=image/jpeg:https://kropp.de/wp-content/uploads/2025/11/Stammtisch-Hochsensibilitaet_-scaled.jpg
END:VEVENT
BEGIN:VEVENT
DTSTART;TZID=Europe/Berlin:20290716T190000
DTEND;TZID=Europe/Berlin:20290716T190000
DTSTAMP:20260422T073339
CREATED:20251114T120721Z
LAST-MODIFIED:20251114T120819Z
UID:10001942-1878922800-1878922800@kropp.de
SUMMARY:Stammtisch für Hochsensible
DESCRIPTION:Wir möchten regelmäßig über die Herausforderungen im Alltag für hochsensible Menschen sprechen und uns austauschen.
URL:https://kropp.de/veranstaltung/stammtisch-fuer-hochsensible/2029-07-16/
LOCATION:Forum Kropp\, Am Markt 11\, Kropp\, 24848
ATTACH;FMTTYPE=image/jpeg:https://kropp.de/wp-content/uploads/2025/11/Stammtisch-Hochsensibilitaet_-scaled.jpg
END:VEVENT
BEGIN:VEVENT
DTSTART;TZID=Europe/Berlin:20290820T190000
DTEND;TZID=Europe/Berlin:20290820T190000
DTSTAMP:20260422T073339
CREATED:20251114T120721Z
LAST-MODIFIED:20251114T120819Z
UID:10001943-1881946800-1881946800@kropp.de
SUMMARY:Stammtisch für Hochsensible
DESCRIPTION:Wir möchten regelmäßig über die Herausforderungen im Alltag für hochsensible Menschen sprechen und uns austauschen.
URL:https://kropp.de/veranstaltung/stammtisch-fuer-hochsensible/2029-08-20/
LOCATION:Forum Kropp\, Am Markt 11\, Kropp\, 24848
ATTACH;FMTTYPE=image/jpeg:https://kropp.de/wp-content/uploads/2025/11/Stammtisch-Hochsensibilitaet_-scaled.jpg
END:VEVENT
BEGIN:VEVENT
DTSTART;TZID=Europe/Berlin:20290917T190000
DTEND;TZID=Europe/Berlin:20290917T190000
DTSTAMP:20260422T073339
CREATED:20251114T120721Z
LAST-MODIFIED:20251114T120819Z
UID:10001944-1884366000-1884366000@kropp.de
SUMMARY:Stammtisch für Hochsensible
DESCRIPTION:Wir möchten regelmäßig über die Herausforderungen im Alltag für hochsensible Menschen sprechen und uns austauschen.
URL:https://kropp.de/veranstaltung/stammtisch-fuer-hochsensible/2029-09-17/
LOCATION:Forum Kropp\, Am Markt 11\, Kropp\, 24848
ATTACH;FMTTYPE=image/jpeg:https://kropp.de/wp-content/uploads/2025/11/Stammtisch-Hochsensibilitaet_-scaled.jpg
END:VEVENT
BEGIN:VEVENT
DTSTART;TZID=Europe/Berlin:20291015T190000
DTEND;TZID=Europe/Berlin:20291015T190000
DTSTAMP:20260422T073339
CREATED:20251114T120721Z
LAST-MODIFIED:20251114T120819Z
UID:10001945-1886785200-1886785200@kropp.de
SUMMARY:Stammtisch für Hochsensible
DESCRIPTION:Wir möchten regelmäßig über die Herausforderungen im Alltag für hochsensible Menschen sprechen und uns austauschen.
URL:https://kropp.de/veranstaltung/stammtisch-fuer-hochsensible/2029-10-15/
LOCATION:Forum Kropp\, Am Markt 11\, Kropp\, 24848
ATTACH;FMTTYPE=image/jpeg:https://kropp.de/wp-content/uploads/2025/11/Stammtisch-Hochsensibilitaet_-scaled.jpg
END:VEVENT
BEGIN:VEVENT
DTSTART;TZID=Europe/Berlin:20291119T190000
DTEND;TZID=Europe/Berlin:20291119T190000
DTSTAMP:20260422T073339
CREATED:20251114T120721Z
LAST-MODIFIED:20251114T120819Z
UID:10001946-1889809200-1889809200@kropp.de
SUMMARY:Stammtisch für Hochsensible
DESCRIPTION:Wir möchten regelmäßig über die Herausforderungen im Alltag für hochsensible Menschen sprechen und uns austauschen.
URL:https://kropp.de/veranstaltung/stammtisch-fuer-hochsensible/2029-11-19/
LOCATION:Forum Kropp\, Am Markt 11\, Kropp\, 24848
ATTACH;FMTTYPE=image/jpeg:https://kropp.de/wp-content/uploads/2025/11/Stammtisch-Hochsensibilitaet_-scaled.jpg
END:VEVENT
BEGIN:VEVENT
DTSTART;TZID=Europe/Berlin:20291217T190000
DTEND;TZID=Europe/Berlin:20291217T190000
DTSTAMP:20260422T073339
CREATED:20251114T120721Z
LAST-MODIFIED:20251114T120819Z
UID:10001947-1892228400-1892228400@kropp.de
SUMMARY:Stammtisch für Hochsensible
DESCRIPTION:Wir möchten regelmäßig über die Herausforderungen im Alltag für hochsensible Menschen sprechen und uns austauschen.
URL:https://kropp.de/veranstaltung/stammtisch-fuer-hochsensible/2029-12-17/
LOCATION:Forum Kropp\, Am Markt 11\, Kropp\, 24848
ATTACH;FMTTYPE=image/jpeg:https://kropp.de/wp-content/uploads/2025/11/Stammtisch-Hochsensibilitaet_-scaled.jpg
END:VEVENT
BEGIN:VEVENT
DTSTART;TZID=Europe/Berlin:20300121T190000
DTEND;TZID=Europe/Berlin:20300121T190000
DTSTAMP:20260422T073339
CREATED:20251114T120721Z
LAST-MODIFIED:20251114T120819Z
UID:10001948-1895252400-1895252400@kropp.de
SUMMARY:Stammtisch für Hochsensible
DESCRIPTION:Wir möchten regelmäßig über die Herausforderungen im Alltag für hochsensible Menschen sprechen und uns austauschen.
URL:https://kropp.de/veranstaltung/stammtisch-fuer-hochsensible/2030-01-21/
LOCATION:Forum Kropp\, Am Markt 11\, Kropp\, 24848
ATTACH;FMTTYPE=image/jpeg:https://kropp.de/wp-content/uploads/2025/11/Stammtisch-Hochsensibilitaet_-scaled.jpg
END:VEVENT
BEGIN:VEVENT
DTSTART;TZID=Europe/Berlin:20300218T190000
DTEND;TZID=Europe/Berlin:20300218T190000
DTSTAMP:20260422T073339
CREATED:20251114T120721Z
LAST-MODIFIED:20251114T120819Z
UID:10001949-1897671600-1897671600@kropp.de
SUMMARY:Stammtisch für Hochsensible
DESCRIPTION:Wir möchten regelmäßig über die Herausforderungen im Alltag für hochsensible Menschen sprechen und uns austauschen.
URL:https://kropp.de/veranstaltung/stammtisch-fuer-hochsensible/2030-02-18/
LOCATION:Forum Kropp\, Am Markt 11\, Kropp\, 24848
ATTACH;FMTTYPE=image/jpeg:https://kropp.de/wp-content/uploads/2025/11/Stammtisch-Hochsensibilitaet_-scaled.jpg
END:VEVENT
BEGIN:VEVENT
DTSTART;TZID=Europe/Berlin:20300318T190000
DTEND;TZID=Europe/Berlin:20300318T190000
DTSTAMP:20260422T073339
CREATED:20251114T120721Z
LAST-MODIFIED:20251114T120819Z
UID:10001950-1900090800-1900090800@kropp.de
SUMMARY:Stammtisch für Hochsensible
DESCRIPTION:Wir möchten regelmäßig über die Herausforderungen im Alltag für hochsensible Menschen sprechen und uns austauschen.
URL:https://kropp.de/veranstaltung/stammtisch-fuer-hochsensible/2030-03-18/
LOCATION:Forum Kropp\, Am Markt 11\, Kropp\, 24848
ATTACH;FMTTYPE=image/jpeg:https://kropp.de/wp-content/uploads/2025/11/Stammtisch-Hochsensibilitaet_-scaled.jpg
END:VEVENT
BEGIN:VEVENT
DTSTART;TZID=Europe/Berlin:20300415T190000
DTEND;TZID=Europe/Berlin:20300415T190000
DTSTAMP:20260422T073339
CREATED:20251114T120721Z
LAST-MODIFIED:20251114T120819Z
UID:10001951-1902510000-1902510000@kropp.de
SUMMARY:Stammtisch für Hochsensible
DESCRIPTION:Wir möchten regelmäßig über die Herausforderungen im Alltag für hochsensible Menschen sprechen und uns austauschen.
URL:https://kropp.de/veranstaltung/stammtisch-fuer-hochsensible/2030-04-15/
LOCATION:Forum Kropp\, Am Markt 11\, Kropp\, 24848
ATTACH;FMTTYPE=image/jpeg:https://kropp.de/wp-content/uploads/2025/11/Stammtisch-Hochsensibilitaet_-scaled.jpg
END:VEVENT
BEGIN:VEVENT
DTSTART;TZID=Europe/Berlin:20300520T190000
DTEND;TZID=Europe/Berlin:20300520T190000
DTSTAMP:20260422T073339
CREATED:20251114T120721Z
LAST-MODIFIED:20251114T120819Z
UID:10001952-1905534000-1905534000@kropp.de
SUMMARY:Stammtisch für Hochsensible
DESCRIPTION:Wir möchten regelmäßig über die Herausforderungen im Alltag für hochsensible Menschen sprechen und uns austauschen.
URL:https://kropp.de/veranstaltung/stammtisch-fuer-hochsensible/2030-05-20/
LOCATION:Forum Kropp\, Am Markt 11\, Kropp\, 24848
ATTACH;FMTTYPE=image/jpeg:https://kropp.de/wp-content/uploads/2025/11/Stammtisch-Hochsensibilitaet_-scaled.jpg
END:VEVENT
BEGIN:VEVENT
DTSTART;TZID=Europe/Berlin:20300617T190000
DTEND;TZID=Europe/Berlin:20300617T190000
DTSTAMP:20260422T073339
CREATED:20251114T120721Z
LAST-MODIFIED:20251114T120819Z
UID:10001953-1907953200-1907953200@kropp.de
SUMMARY:Stammtisch für Hochsensible
DESCRIPTION:Wir möchten regelmäßig über die Herausforderungen im Alltag für hochsensible Menschen sprechen und uns austauschen.
URL:https://kropp.de/veranstaltung/stammtisch-fuer-hochsensible/2030-06-17/
LOCATION:Forum Kropp\, Am Markt 11\, Kropp\, 24848
ATTACH;FMTTYPE=image/jpeg:https://kropp.de/wp-content/uploads/2025/11/Stammtisch-Hochsensibilitaet_-scaled.jpg
END:VEVENT
BEGIN:VEVENT
DTSTART;TZID=Europe/Berlin:20300715T190000
DTEND;TZID=Europe/Berlin:20300715T190000
DTSTAMP:20260422T073339
CREATED:20251114T120721Z
LAST-MODIFIED:20251114T120819Z
UID:10001954-1910372400-1910372400@kropp.de
SUMMARY:Stammtisch für Hochsensible
DESCRIPTION:Wir möchten regelmäßig über die Herausforderungen im Alltag für hochsensible Menschen sprechen und uns austauschen.
URL:https://kropp.de/veranstaltung/stammtisch-fuer-hochsensible/2030-07-15/
LOCATION:Forum Kropp\, Am Markt 11\, Kropp\, 24848
ATTACH;FMTTYPE=image/jpeg:https://kropp.de/wp-content/uploads/2025/11/Stammtisch-Hochsensibilitaet_-scaled.jpg
END:VEVENT
BEGIN:VEVENT
DTSTART;TZID=Europe/Berlin:20300819T190000
DTEND;TZID=Europe/Berlin:20300819T190000
DTSTAMP:20260422T073339
CREATED:20251114T120721Z
LAST-MODIFIED:20251114T120819Z
UID:10001955-1913396400-1913396400@kropp.de
SUMMARY:Stammtisch für Hochsensible
DESCRIPTION:Wir möchten regelmäßig über die Herausforderungen im Alltag für hochsensible Menschen sprechen und uns austauschen.
URL:https://kropp.de/veranstaltung/stammtisch-fuer-hochsensible/2030-08-19/
LOCATION:Forum Kropp\, Am Markt 11\, Kropp\, 24848
ATTACH;FMTTYPE=image/jpeg:https://kropp.de/wp-content/uploads/2025/11/Stammtisch-Hochsensibilitaet_-scaled.jpg
END:VEVENT
BEGIN:VEVENT
DTSTART;TZID=Europe/Berlin:20300916T190000
DTEND;TZID=Europe/Berlin:20300916T190000
DTSTAMP:20260422T073339
CREATED:20251114T120721Z
LAST-MODIFIED:20251114T120819Z
UID:10001956-1915815600-1915815600@kropp.de
SUMMARY:Stammtisch für Hochsensible
DESCRIPTION:Wir möchten regelmäßig über die Herausforderungen im Alltag für hochsensible Menschen sprechen und uns austauschen.
URL:https://kropp.de/veranstaltung/stammtisch-fuer-hochsensible/2030-09-16/
LOCATION:Forum Kropp\, Am Markt 11\, Kropp\, 24848
ATTACH;FMTTYPE=image/jpeg:https://kropp.de/wp-content/uploads/2025/11/Stammtisch-Hochsensibilitaet_-scaled.jpg
END:VEVENT
BEGIN:VEVENT
DTSTART;TZID=Europe/Berlin:20301021T190000
DTEND;TZID=Europe/Berlin:20301021T190000
DTSTAMP:20260422T073339
CREATED:20251114T120721Z
LAST-MODIFIED:20251114T120819Z
UID:10001957-1918839600-1918839600@kropp.de
SUMMARY:Stammtisch für Hochsensible
DESCRIPTION:Wir möchten regelmäßig über die Herausforderungen im Alltag für hochsensible Menschen sprechen und uns austauschen.
URL:https://kropp.de/veranstaltung/stammtisch-fuer-hochsensible/2030-10-21/
LOCATION:Forum Kropp\, Am Markt 11\, Kropp\, 24848
ATTACH;FMTTYPE=image/jpeg:https://kropp.de/wp-content/uploads/2025/11/Stammtisch-Hochsensibilitaet_-scaled.jpg
END:VEVENT
END:VCALENDAR