BEGIN:VCALENDAR
VERSION:2.0
PRODID:-//Gemeinde Kropp - ECPv6.15.20//NONSGML v1.0//EN
CALSCALE:GREGORIAN
METHOD:PUBLISH
X-ORIGINAL-URL:https://kropp.de
X-WR-CALDESC:Veranstaltungen für Gemeinde Kropp
REFRESH-INTERVAL;VALUE=DURATION:PT1H
X-Robots-Tag:noindex
X-PUBLISHED-TTL:PT1H
BEGIN:VTIMEZONE
TZID:Europe/Berlin
BEGIN:DAYLIGHT
TZOFFSETFROM:+0100
TZOFFSETTO:+0200
TZNAME:CEST
DTSTART:20250330T010000
END:DAYLIGHT
BEGIN:STANDARD
TZOFFSETFROM:+0200
TZOFFSETTO:+0100
TZNAME:CET
DTSTART:20251026T010000
END:STANDARD
BEGIN:DAYLIGHT
TZOFFSETFROM:+0100
TZOFFSETTO:+0200
TZNAME:CEST
DTSTART:20260329T010000
END:DAYLIGHT
BEGIN:STANDARD
TZOFFSETFROM:+0200
TZOFFSETTO:+0100
TZNAME:CET
DTSTART:20261025T010000
END:STANDARD
BEGIN:DAYLIGHT
TZOFFSETFROM:+0100
TZOFFSETTO:+0200
TZNAME:CEST
DTSTART:20270328T010000
END:DAYLIGHT
BEGIN:STANDARD
TZOFFSETFROM:+0200
TZOFFSETTO:+0100
TZNAME:CET
DTSTART:20271031T010000
END:STANDARD
END:VTIMEZONE
BEGIN:VEVENT
DTSTART;TZID=Europe/Berlin:20260131T190000
DTEND;TZID=Europe/Berlin:20260131T230000
DTSTAMP:20260425T125131
CREATED:20260112T123026Z
LAST-MODIFIED:20260112T123026Z
UID:10006553-1769886000-1769900400@kropp.de
SUMMARY:Grünkohlessen Schützengilde Kropp
DESCRIPTION:Gemütliches Feiern und Tanzen zur ersten Gildeveranstaltung des Jahres. Das Mitbringen von Gästen ist stets willkommen.
URL:https://kropp.de/veranstaltung/gruenkohlessen-schuetzengilde-kropp/
LOCATION:Landgasthof Moi\, Hauptstraße 4\, Tetenhusen\, 24817
ATTACH;FMTTYPE=image/webp:https://kropp.de/wp-content/uploads/2026/01/Gilde-Kropp.webp
ORGANIZER;CN="Sch%C3%BCtzengilde Kropp":MAILTO:kontakt@schuetzengilde-kropp.de
END:VEVENT
END:VCALENDAR