BEGIN:VCALENDAR
VERSION:2.0
PRODID:-//Gemeinde Kropp - ECPv6.15.20//NONSGML v1.0//EN
CALSCALE:GREGORIAN
METHOD:PUBLISH
X-ORIGINAL-URL:https://kropp.de
X-WR-CALDESC:Veranstaltungen für Gemeinde Kropp
REFRESH-INTERVAL;VALUE=DURATION:PT1H
X-Robots-Tag:noindex
X-PUBLISHED-TTL:PT1H
BEGIN:VTIMEZONE
TZID:Europe/Berlin
BEGIN:DAYLIGHT
TZOFFSETFROM:+0100
TZOFFSETTO:+0200
TZNAME:CEST
DTSTART:20250330T010000
END:DAYLIGHT
BEGIN:STANDARD
TZOFFSETFROM:+0200
TZOFFSETTO:+0100
TZNAME:CET
DTSTART:20251026T010000
END:STANDARD
BEGIN:DAYLIGHT
TZOFFSETFROM:+0100
TZOFFSETTO:+0200
TZNAME:CEST
DTSTART:20260329T010000
END:DAYLIGHT
BEGIN:STANDARD
TZOFFSETFROM:+0200
TZOFFSETTO:+0100
TZNAME:CET
DTSTART:20261025T010000
END:STANDARD
BEGIN:DAYLIGHT
TZOFFSETFROM:+0100
TZOFFSETTO:+0200
TZNAME:CEST
DTSTART:20270328T010000
END:DAYLIGHT
BEGIN:STANDARD
TZOFFSETFROM:+0200
TZOFFSETTO:+0100
TZNAME:CET
DTSTART:20271031T010000
END:STANDARD
END:VTIMEZONE
BEGIN:VEVENT
DTSTART;TZID=Europe/Berlin:20260618T190000
DTEND;TZID=Europe/Berlin:20260618T230000
DTSTAMP:20260421T181245
CREATED:20260112T123243Z
LAST-MODIFIED:20260112T123243Z
UID:10006554-1781809200-1781823600@kropp.de
SUMMARY:Ermittlung der neuen Gildekönigin Kropp
DESCRIPTION:Um 19:00 Uhr Treffen der Gildeschwestern zum Girlandebinden\, anschließend Ermittlung der neuen Gildekönigin. \nUm 19:00 Uhr Antreten der Gildebrüder auf dem Schießstand zum herrichten des Schießstandes\, anschließend Gildebaum aufstellen.
URL:https://kropp.de/veranstaltung/ermittlung-der-neuen-gildekoenigin-kropp/
ATTACH;FMTTYPE=image/webp:https://kropp.de/wp-content/uploads/2026/01/Gilde-Kropp.webp
ORGANIZER;CN="Sch%C3%BCtzengilde Kropp":MAILTO:kontakt@schuetzengilde-kropp.de
END:VEVENT
BEGIN:VEVENT
DTSTART;TZID=Europe/Berlin:20260620T080000
DTEND;TZID=Europe/Berlin:20260620T170000
DTSTAMP:20260421T181245
CREATED:20260112T123737Z
LAST-MODIFIED:20260112T123737Z
UID:10006555-1781942400-1781974800@kropp.de
SUMMARY:Gildeschießen Kropp
DESCRIPTION:Um 08:00 Uhr Antreten der Schützengilde zur Abholung des alten Königs und anschließender Ermittlung des neuen Königs. Schaulistige die mit fiebern möchten\, sind herzlich Willkommen auf der Festplatz hinter dem ADS Kindergarten.
URL:https://kropp.de/veranstaltung/gildeschiessen-kropp/
ATTACH;FMTTYPE=image/jpeg:https://kropp.de/wp-content/uploads/2026/01/Blick-beim-Schiessen_klein.jpg
ORGANIZER;CN="Sch%C3%BCtzengilde Kropp":MAILTO:kontakt@schuetzengilde-kropp.de
END:VEVENT
BEGIN:VEVENT
DTSTART;TZID=Europe/Berlin:20260627T173000
DTEND;TZID=Europe/Berlin:20260627T230000
DTSTAMP:20260421T181245
CREATED:20260112T124113Z
LAST-MODIFIED:20260112T124113Z
UID:10006556-1782581400-1782601200@kropp.de
SUMMARY:Gildeball mit Festumzung
DESCRIPTION:Um 17:30 Uhr Antreten der Schützengilde\, anschließend Umzug durch Kropp. \nUm 19:00 Uhr Vorstellung des neuen Königs vor dem Rathaus (alter Viehmarkt)\, anschließend Festball.
URL:https://kropp.de/veranstaltung/gildeball-mit-festumzung/
ATTACH;FMTTYPE=image/jpeg:https://kropp.de/wp-content/uploads/2026/01/Tanz-auf-dem-Marktplatz-beim-Vorstellen-des-Koenigspaar_klein.jpg
ORGANIZER;CN="Sch%C3%BCtzengilde Kropp":MAILTO:kontakt@schuetzengilde-kropp.de
END:VEVENT
END:VCALENDAR