BEGIN:VCALENDAR
VERSION:2.0
PRODID:-//Gemeinde Kropp - ECPv6.15.20//NONSGML v1.0//EN
CALSCALE:GREGORIAN
METHOD:PUBLISH
X-WR-CALNAME:Gemeinde Kropp
X-ORIGINAL-URL:https://kropp.de
X-WR-CALDESC:Veranstaltungen für Gemeinde Kropp
REFRESH-INTERVAL;VALUE=DURATION:PT1H
X-Robots-Tag:noindex
X-PUBLISHED-TTL:PT1H
BEGIN:VTIMEZONE
TZID:Europe/Berlin
BEGIN:DAYLIGHT
TZOFFSETFROM:+0100
TZOFFSETTO:+0200
TZNAME:CEST
DTSTART:20250330T010000
END:DAYLIGHT
BEGIN:STANDARD
TZOFFSETFROM:+0200
TZOFFSETTO:+0100
TZNAME:CET
DTSTART:20251026T010000
END:STANDARD
BEGIN:DAYLIGHT
TZOFFSETFROM:+0100
TZOFFSETTO:+0200
TZNAME:CEST
DTSTART:20260329T010000
END:DAYLIGHT
BEGIN:STANDARD
TZOFFSETFROM:+0200
TZOFFSETTO:+0100
TZNAME:CET
DTSTART:20261025T010000
END:STANDARD
BEGIN:DAYLIGHT
TZOFFSETFROM:+0100
TZOFFSETTO:+0200
TZNAME:CEST
DTSTART:20270328T010000
END:DAYLIGHT
BEGIN:STANDARD
TZOFFSETFROM:+0200
TZOFFSETTO:+0100
TZNAME:CET
DTSTART:20271031T010000
END:STANDARD
END:VTIMEZONE
BEGIN:VEVENT
DTSTART;TZID=Europe/Berlin:20260422T193000
DTEND;TZID=Europe/Berlin:20260422T220000
DTSTAMP:20260421T000842
CREATED:20260108T120429Z
LAST-MODIFIED:20260108T120429Z
UID:10004965-1776886200-1776895200@kropp.de
SUMMARY:Sportschießen: Erwachsenentraining
DESCRIPTION:
URL:https://kropp.de/veranstaltung/sportschiessen-erwachsenentraining/2026-04-22/
LOCATION:Schützenheim Börm\, Meierhof 61\, Börm\, 24863
ATTACH;FMTTYPE=image/jpeg:https://kropp.de/wp-content/uploads/2025/12/Schuetzenheim_Boerm_geaendert.jpg
END:VEVENT
BEGIN:VEVENT
DTSTART;TZID=Europe/Berlin:20260429T193000
DTEND;TZID=Europe/Berlin:20260429T220000
DTSTAMP:20260421T000843
CREATED:20260108T120429Z
LAST-MODIFIED:20260108T120429Z
UID:10004966-1777491000-1777500000@kropp.de
SUMMARY:Sportschießen: Erwachsenentraining
DESCRIPTION:
URL:https://kropp.de/veranstaltung/sportschiessen-erwachsenentraining/2026-04-29/
LOCATION:Schützenheim Börm\, Meierhof 61\, Börm\, 24863
ATTACH;FMTTYPE=image/jpeg:https://kropp.de/wp-content/uploads/2025/12/Schuetzenheim_Boerm_geaendert.jpg
END:VEVENT
BEGIN:VEVENT
DTSTART;TZID=Europe/Berlin:20260506T193000
DTEND;TZID=Europe/Berlin:20260506T220000
DTSTAMP:20260421T000843
CREATED:20260108T120429Z
LAST-MODIFIED:20260108T120429Z
UID:10004967-1778095800-1778104800@kropp.de
SUMMARY:Sportschießen: Erwachsenentraining
DESCRIPTION:
URL:https://kropp.de/veranstaltung/sportschiessen-erwachsenentraining/2026-05-06/
LOCATION:Schützenheim Börm\, Meierhof 61\, Börm\, 24863
ATTACH;FMTTYPE=image/jpeg:https://kropp.de/wp-content/uploads/2025/12/Schuetzenheim_Boerm_geaendert.jpg
END:VEVENT
BEGIN:VEVENT
DTSTART;TZID=Europe/Berlin:20260513T193000
DTEND;TZID=Europe/Berlin:20260513T220000
DTSTAMP:20260421T000843
CREATED:20260108T120429Z
LAST-MODIFIED:20260108T120429Z
UID:10004968-1778700600-1778709600@kropp.de
SUMMARY:Sportschießen: Erwachsenentraining
DESCRIPTION:
URL:https://kropp.de/veranstaltung/sportschiessen-erwachsenentraining/2026-05-13/
LOCATION:Schützenheim Börm\, Meierhof 61\, Börm\, 24863
ATTACH;FMTTYPE=image/jpeg:https://kropp.de/wp-content/uploads/2025/12/Schuetzenheim_Boerm_geaendert.jpg
END:VEVENT
BEGIN:VEVENT
DTSTART;TZID=Europe/Berlin:20260520T193000
DTEND;TZID=Europe/Berlin:20260520T220000
DTSTAMP:20260421T000843
CREATED:20260108T120429Z
LAST-MODIFIED:20260108T120429Z
UID:10004969-1779305400-1779314400@kropp.de
SUMMARY:Sportschießen: Erwachsenentraining
DESCRIPTION:
URL:https://kropp.de/veranstaltung/sportschiessen-erwachsenentraining/2026-05-20/
LOCATION:Schützenheim Börm\, Meierhof 61\, Börm\, 24863
ATTACH;FMTTYPE=image/jpeg:https://kropp.de/wp-content/uploads/2025/12/Schuetzenheim_Boerm_geaendert.jpg
END:VEVENT
BEGIN:VEVENT
DTSTART;TZID=Europe/Berlin:20260527T193000
DTEND;TZID=Europe/Berlin:20260527T220000
DTSTAMP:20260421T000843
CREATED:20260108T120429Z
LAST-MODIFIED:20260108T120429Z
UID:10004970-1779910200-1779919200@kropp.de
SUMMARY:Sportschießen: Erwachsenentraining
DESCRIPTION:
URL:https://kropp.de/veranstaltung/sportschiessen-erwachsenentraining/2026-05-27/
LOCATION:Schützenheim Börm\, Meierhof 61\, Börm\, 24863
ATTACH;FMTTYPE=image/jpeg:https://kropp.de/wp-content/uploads/2025/12/Schuetzenheim_Boerm_geaendert.jpg
END:VEVENT
BEGIN:VEVENT
DTSTART;TZID=Europe/Berlin:20260603T193000
DTEND;TZID=Europe/Berlin:20260603T220000
DTSTAMP:20260421T000843
CREATED:20260108T120429Z
LAST-MODIFIED:20260108T120429Z
UID:10004971-1780515000-1780524000@kropp.de
SUMMARY:Sportschießen: Erwachsenentraining
DESCRIPTION:
URL:https://kropp.de/veranstaltung/sportschiessen-erwachsenentraining/2026-06-03/
LOCATION:Schützenheim Börm\, Meierhof 61\, Börm\, 24863
ATTACH;FMTTYPE=image/jpeg:https://kropp.de/wp-content/uploads/2025/12/Schuetzenheim_Boerm_geaendert.jpg
END:VEVENT
BEGIN:VEVENT
DTSTART;TZID=Europe/Berlin:20260610T193000
DTEND;TZID=Europe/Berlin:20260610T220000
DTSTAMP:20260421T000843
CREATED:20260108T120429Z
LAST-MODIFIED:20260108T120429Z
UID:10004972-1781119800-1781128800@kropp.de
SUMMARY:Sportschießen: Erwachsenentraining
DESCRIPTION:
URL:https://kropp.de/veranstaltung/sportschiessen-erwachsenentraining/2026-06-10/
LOCATION:Schützenheim Börm\, Meierhof 61\, Börm\, 24863
ATTACH;FMTTYPE=image/jpeg:https://kropp.de/wp-content/uploads/2025/12/Schuetzenheim_Boerm_geaendert.jpg
END:VEVENT
BEGIN:VEVENT
DTSTART;TZID=Europe/Berlin:20260617T193000
DTEND;TZID=Europe/Berlin:20260617T220000
DTSTAMP:20260421T000843
CREATED:20260108T120429Z
LAST-MODIFIED:20260108T120429Z
UID:10004973-1781724600-1781733600@kropp.de
SUMMARY:Sportschießen: Erwachsenentraining
DESCRIPTION:
URL:https://kropp.de/veranstaltung/sportschiessen-erwachsenentraining/2026-06-17/
LOCATION:Schützenheim Börm\, Meierhof 61\, Börm\, 24863
ATTACH;FMTTYPE=image/jpeg:https://kropp.de/wp-content/uploads/2025/12/Schuetzenheim_Boerm_geaendert.jpg
END:VEVENT
BEGIN:VEVENT
DTSTART;TZID=Europe/Berlin:20260624T193000
DTEND;TZID=Europe/Berlin:20260624T220000
DTSTAMP:20260421T000843
CREATED:20260108T120429Z
LAST-MODIFIED:20260108T120429Z
UID:10004974-1782329400-1782338400@kropp.de
SUMMARY:Sportschießen: Erwachsenentraining
DESCRIPTION:
URL:https://kropp.de/veranstaltung/sportschiessen-erwachsenentraining/2026-06-24/
LOCATION:Schützenheim Börm\, Meierhof 61\, Börm\, 24863
ATTACH;FMTTYPE=image/jpeg:https://kropp.de/wp-content/uploads/2025/12/Schuetzenheim_Boerm_geaendert.jpg
END:VEVENT
BEGIN:VEVENT
DTSTART;TZID=Europe/Berlin:20260701T193000
DTEND;TZID=Europe/Berlin:20260701T220000
DTSTAMP:20260421T000843
CREATED:20260108T120429Z
LAST-MODIFIED:20260108T120429Z
UID:10004975-1782934200-1782943200@kropp.de
SUMMARY:Sportschießen: Erwachsenentraining
DESCRIPTION:
URL:https://kropp.de/veranstaltung/sportschiessen-erwachsenentraining/2026-07-01/
LOCATION:Schützenheim Börm\, Meierhof 61\, Börm\, 24863
ATTACH;FMTTYPE=image/jpeg:https://kropp.de/wp-content/uploads/2025/12/Schuetzenheim_Boerm_geaendert.jpg
END:VEVENT
BEGIN:VEVENT
DTSTART;TZID=Europe/Berlin:20260708T193000
DTEND;TZID=Europe/Berlin:20260708T220000
DTSTAMP:20260421T000843
CREATED:20260108T120429Z
LAST-MODIFIED:20260108T120429Z
UID:10004976-1783539000-1783548000@kropp.de
SUMMARY:Sportschießen: Erwachsenentraining
DESCRIPTION:
URL:https://kropp.de/veranstaltung/sportschiessen-erwachsenentraining/2026-07-08/
LOCATION:Schützenheim Börm\, Meierhof 61\, Börm\, 24863
ATTACH;FMTTYPE=image/jpeg:https://kropp.de/wp-content/uploads/2025/12/Schuetzenheim_Boerm_geaendert.jpg
END:VEVENT
BEGIN:VEVENT
DTSTART;TZID=Europe/Berlin:20260715T193000
DTEND;TZID=Europe/Berlin:20260715T220000
DTSTAMP:20260421T000843
CREATED:20260108T120429Z
LAST-MODIFIED:20260108T120429Z
UID:10004977-1784143800-1784152800@kropp.de
SUMMARY:Sportschießen: Erwachsenentraining
DESCRIPTION:
URL:https://kropp.de/veranstaltung/sportschiessen-erwachsenentraining/2026-07-15/
LOCATION:Schützenheim Börm\, Meierhof 61\, Börm\, 24863
ATTACH;FMTTYPE=image/jpeg:https://kropp.de/wp-content/uploads/2025/12/Schuetzenheim_Boerm_geaendert.jpg
END:VEVENT
BEGIN:VEVENT
DTSTART;TZID=Europe/Berlin:20260722T193000
DTEND;TZID=Europe/Berlin:20260722T220000
DTSTAMP:20260421T000843
CREATED:20260108T120429Z
LAST-MODIFIED:20260108T120429Z
UID:10004978-1784748600-1784757600@kropp.de
SUMMARY:Sportschießen: Erwachsenentraining
DESCRIPTION:
URL:https://kropp.de/veranstaltung/sportschiessen-erwachsenentraining/2026-07-22/
LOCATION:Schützenheim Börm\, Meierhof 61\, Börm\, 24863
ATTACH;FMTTYPE=image/jpeg:https://kropp.de/wp-content/uploads/2025/12/Schuetzenheim_Boerm_geaendert.jpg
END:VEVENT
BEGIN:VEVENT
DTSTART;TZID=Europe/Berlin:20260729T193000
DTEND;TZID=Europe/Berlin:20260729T220000
DTSTAMP:20260421T000843
CREATED:20260108T120429Z
LAST-MODIFIED:20260108T120429Z
UID:10004979-1785353400-1785362400@kropp.de
SUMMARY:Sportschießen: Erwachsenentraining
DESCRIPTION:
URL:https://kropp.de/veranstaltung/sportschiessen-erwachsenentraining/2026-07-29/
LOCATION:Schützenheim Börm\, Meierhof 61\, Börm\, 24863
ATTACH;FMTTYPE=image/jpeg:https://kropp.de/wp-content/uploads/2025/12/Schuetzenheim_Boerm_geaendert.jpg
END:VEVENT
BEGIN:VEVENT
DTSTART;TZID=Europe/Berlin:20260805T193000
DTEND;TZID=Europe/Berlin:20260805T220000
DTSTAMP:20260421T000843
CREATED:20260108T120429Z
LAST-MODIFIED:20260108T120429Z
UID:10004980-1785958200-1785967200@kropp.de
SUMMARY:Sportschießen: Erwachsenentraining
DESCRIPTION:
URL:https://kropp.de/veranstaltung/sportschiessen-erwachsenentraining/2026-08-05/
LOCATION:Schützenheim Börm\, Meierhof 61\, Börm\, 24863
ATTACH;FMTTYPE=image/jpeg:https://kropp.de/wp-content/uploads/2025/12/Schuetzenheim_Boerm_geaendert.jpg
END:VEVENT
BEGIN:VEVENT
DTSTART;TZID=Europe/Berlin:20260812T193000
DTEND;TZID=Europe/Berlin:20260812T220000
DTSTAMP:20260421T000843
CREATED:20260108T120429Z
LAST-MODIFIED:20260108T120429Z
UID:10004981-1786563000-1786572000@kropp.de
SUMMARY:Sportschießen: Erwachsenentraining
DESCRIPTION:
URL:https://kropp.de/veranstaltung/sportschiessen-erwachsenentraining/2026-08-12/
LOCATION:Schützenheim Börm\, Meierhof 61\, Börm\, 24863
ATTACH;FMTTYPE=image/jpeg:https://kropp.de/wp-content/uploads/2025/12/Schuetzenheim_Boerm_geaendert.jpg
END:VEVENT
BEGIN:VEVENT
DTSTART;TZID=Europe/Berlin:20260819T193000
DTEND;TZID=Europe/Berlin:20260819T220000
DTSTAMP:20260421T000843
CREATED:20260108T120429Z
LAST-MODIFIED:20260108T120429Z
UID:10004982-1787167800-1787176800@kropp.de
SUMMARY:Sportschießen: Erwachsenentraining
DESCRIPTION:
URL:https://kropp.de/veranstaltung/sportschiessen-erwachsenentraining/2026-08-19/
LOCATION:Schützenheim Börm\, Meierhof 61\, Börm\, 24863
ATTACH;FMTTYPE=image/jpeg:https://kropp.de/wp-content/uploads/2025/12/Schuetzenheim_Boerm_geaendert.jpg
END:VEVENT
BEGIN:VEVENT
DTSTART;TZID=Europe/Berlin:20260826T193000
DTEND;TZID=Europe/Berlin:20260826T220000
DTSTAMP:20260421T000843
CREATED:20260108T120429Z
LAST-MODIFIED:20260108T120429Z
UID:10004983-1787772600-1787781600@kropp.de
SUMMARY:Sportschießen: Erwachsenentraining
DESCRIPTION:
URL:https://kropp.de/veranstaltung/sportschiessen-erwachsenentraining/2026-08-26/
LOCATION:Schützenheim Börm\, Meierhof 61\, Börm\, 24863
ATTACH;FMTTYPE=image/jpeg:https://kropp.de/wp-content/uploads/2025/12/Schuetzenheim_Boerm_geaendert.jpg
END:VEVENT
BEGIN:VEVENT
DTSTART;TZID=Europe/Berlin:20260902T193000
DTEND;TZID=Europe/Berlin:20260902T220000
DTSTAMP:20260421T000843
CREATED:20260108T120429Z
LAST-MODIFIED:20260108T120429Z
UID:10004984-1788377400-1788386400@kropp.de
SUMMARY:Sportschießen: Erwachsenentraining
DESCRIPTION:
URL:https://kropp.de/veranstaltung/sportschiessen-erwachsenentraining/2026-09-02/
LOCATION:Schützenheim Börm\, Meierhof 61\, Börm\, 24863
ATTACH;FMTTYPE=image/jpeg:https://kropp.de/wp-content/uploads/2025/12/Schuetzenheim_Boerm_geaendert.jpg
END:VEVENT
BEGIN:VEVENT
DTSTART;TZID=Europe/Berlin:20260909T193000
DTEND;TZID=Europe/Berlin:20260909T220000
DTSTAMP:20260421T000843
CREATED:20260108T120429Z
LAST-MODIFIED:20260108T120429Z
UID:10004985-1788982200-1788991200@kropp.de
SUMMARY:Sportschießen: Erwachsenentraining
DESCRIPTION:
URL:https://kropp.de/veranstaltung/sportschiessen-erwachsenentraining/2026-09-09/
LOCATION:Schützenheim Börm\, Meierhof 61\, Börm\, 24863
ATTACH;FMTTYPE=image/jpeg:https://kropp.de/wp-content/uploads/2025/12/Schuetzenheim_Boerm_geaendert.jpg
END:VEVENT
BEGIN:VEVENT
DTSTART;TZID=Europe/Berlin:20260916T193000
DTEND;TZID=Europe/Berlin:20260916T220000
DTSTAMP:20260421T000843
CREATED:20260108T120429Z
LAST-MODIFIED:20260108T120429Z
UID:10004986-1789587000-1789596000@kropp.de
SUMMARY:Sportschießen: Erwachsenentraining
DESCRIPTION:
URL:https://kropp.de/veranstaltung/sportschiessen-erwachsenentraining/2026-09-16/
LOCATION:Schützenheim Börm\, Meierhof 61\, Börm\, 24863
ATTACH;FMTTYPE=image/jpeg:https://kropp.de/wp-content/uploads/2025/12/Schuetzenheim_Boerm_geaendert.jpg
END:VEVENT
BEGIN:VEVENT
DTSTART;TZID=Europe/Berlin:20260923T193000
DTEND;TZID=Europe/Berlin:20260923T220000
DTSTAMP:20260421T000843
CREATED:20260108T120429Z
LAST-MODIFIED:20260108T120429Z
UID:10004987-1790191800-1790200800@kropp.de
SUMMARY:Sportschießen: Erwachsenentraining
DESCRIPTION:
URL:https://kropp.de/veranstaltung/sportschiessen-erwachsenentraining/2026-09-23/
LOCATION:Schützenheim Börm\, Meierhof 61\, Börm\, 24863
ATTACH;FMTTYPE=image/jpeg:https://kropp.de/wp-content/uploads/2025/12/Schuetzenheim_Boerm_geaendert.jpg
END:VEVENT
BEGIN:VEVENT
DTSTART;TZID=Europe/Berlin:20260930T193000
DTEND;TZID=Europe/Berlin:20260930T220000
DTSTAMP:20260421T000843
CREATED:20260108T120429Z
LAST-MODIFIED:20260108T120429Z
UID:10004988-1790796600-1790805600@kropp.de
SUMMARY:Sportschießen: Erwachsenentraining
DESCRIPTION:
URL:https://kropp.de/veranstaltung/sportschiessen-erwachsenentraining/2026-09-30/
LOCATION:Schützenheim Börm\, Meierhof 61\, Börm\, 24863
ATTACH;FMTTYPE=image/jpeg:https://kropp.de/wp-content/uploads/2025/12/Schuetzenheim_Boerm_geaendert.jpg
END:VEVENT
BEGIN:VEVENT
DTSTART;TZID=Europe/Berlin:20261007T193000
DTEND;TZID=Europe/Berlin:20261007T220000
DTSTAMP:20260421T000843
CREATED:20260108T120429Z
LAST-MODIFIED:20260108T120429Z
UID:10004989-1791401400-1791410400@kropp.de
SUMMARY:Sportschießen: Erwachsenentraining
DESCRIPTION:
URL:https://kropp.de/veranstaltung/sportschiessen-erwachsenentraining/2026-10-07/
LOCATION:Schützenheim Börm\, Meierhof 61\, Börm\, 24863
ATTACH;FMTTYPE=image/jpeg:https://kropp.de/wp-content/uploads/2025/12/Schuetzenheim_Boerm_geaendert.jpg
END:VEVENT
BEGIN:VEVENT
DTSTART;TZID=Europe/Berlin:20261014T193000
DTEND;TZID=Europe/Berlin:20261014T220000
DTSTAMP:20260421T000843
CREATED:20260108T120429Z
LAST-MODIFIED:20260108T120429Z
UID:10004990-1792006200-1792015200@kropp.de
SUMMARY:Sportschießen: Erwachsenentraining
DESCRIPTION:
URL:https://kropp.de/veranstaltung/sportschiessen-erwachsenentraining/2026-10-14/
LOCATION:Schützenheim Börm\, Meierhof 61\, Börm\, 24863
ATTACH;FMTTYPE=image/jpeg:https://kropp.de/wp-content/uploads/2025/12/Schuetzenheim_Boerm_geaendert.jpg
END:VEVENT
BEGIN:VEVENT
DTSTART;TZID=Europe/Berlin:20261021T193000
DTEND;TZID=Europe/Berlin:20261021T220000
DTSTAMP:20260421T000843
CREATED:20260108T120429Z
LAST-MODIFIED:20260108T120429Z
UID:10004991-1792611000-1792620000@kropp.de
SUMMARY:Sportschießen: Erwachsenentraining
DESCRIPTION:
URL:https://kropp.de/veranstaltung/sportschiessen-erwachsenentraining/2026-10-21/
LOCATION:Schützenheim Börm\, Meierhof 61\, Börm\, 24863
ATTACH;FMTTYPE=image/jpeg:https://kropp.de/wp-content/uploads/2025/12/Schuetzenheim_Boerm_geaendert.jpg
END:VEVENT
BEGIN:VEVENT
DTSTART;TZID=Europe/Berlin:20261028T193000
DTEND;TZID=Europe/Berlin:20261028T220000
DTSTAMP:20260421T000843
CREATED:20260108T120429Z
LAST-MODIFIED:20260108T120429Z
UID:10004992-1793215800-1793224800@kropp.de
SUMMARY:Sportschießen: Erwachsenentraining
DESCRIPTION:
URL:https://kropp.de/veranstaltung/sportschiessen-erwachsenentraining/2026-10-28/
LOCATION:Schützenheim Börm\, Meierhof 61\, Börm\, 24863
ATTACH;FMTTYPE=image/jpeg:https://kropp.de/wp-content/uploads/2025/12/Schuetzenheim_Boerm_geaendert.jpg
END:VEVENT
BEGIN:VEVENT
DTSTART;TZID=Europe/Berlin:20261104T193000
DTEND;TZID=Europe/Berlin:20261104T220000
DTSTAMP:20260421T000843
CREATED:20260108T120429Z
LAST-MODIFIED:20260108T120429Z
UID:10004993-1793820600-1793829600@kropp.de
SUMMARY:Sportschießen: Erwachsenentraining
DESCRIPTION:
URL:https://kropp.de/veranstaltung/sportschiessen-erwachsenentraining/2026-11-04/
LOCATION:Schützenheim Börm\, Meierhof 61\, Börm\, 24863
ATTACH;FMTTYPE=image/jpeg:https://kropp.de/wp-content/uploads/2025/12/Schuetzenheim_Boerm_geaendert.jpg
END:VEVENT
BEGIN:VEVENT
DTSTART;TZID=Europe/Berlin:20261111T193000
DTEND;TZID=Europe/Berlin:20261111T220000
DTSTAMP:20260421T000843
CREATED:20260108T120429Z
LAST-MODIFIED:20260108T120429Z
UID:10004994-1794425400-1794434400@kropp.de
SUMMARY:Sportschießen: Erwachsenentraining
DESCRIPTION:
URL:https://kropp.de/veranstaltung/sportschiessen-erwachsenentraining/2026-11-11/
LOCATION:Schützenheim Börm\, Meierhof 61\, Börm\, 24863
ATTACH;FMTTYPE=image/jpeg:https://kropp.de/wp-content/uploads/2025/12/Schuetzenheim_Boerm_geaendert.jpg
END:VEVENT
END:VCALENDAR