BEGIN:VCALENDAR
VERSION:2.0
PRODID:-//Gemeinde Kropp - ECPv6.15.20//NONSGML v1.0//EN
CALSCALE:GREGORIAN
METHOD:PUBLISH
X-WR-CALNAME:Gemeinde Kropp
X-ORIGINAL-URL:https://kropp.de
X-WR-CALDESC:Veranstaltungen für Gemeinde Kropp
REFRESH-INTERVAL;VALUE=DURATION:PT1H
X-Robots-Tag:noindex
X-PUBLISHED-TTL:PT1H
BEGIN:VTIMEZONE
TZID:Europe/Berlin
BEGIN:DAYLIGHT
TZOFFSETFROM:+0100
TZOFFSETTO:+0200
TZNAME:CEST
DTSTART:20250330T010000
END:DAYLIGHT
BEGIN:STANDARD
TZOFFSETFROM:+0200
TZOFFSETTO:+0100
TZNAME:CET
DTSTART:20251026T010000
END:STANDARD
BEGIN:DAYLIGHT
TZOFFSETFROM:+0100
TZOFFSETTO:+0200
TZNAME:CEST
DTSTART:20260329T010000
END:DAYLIGHT
BEGIN:STANDARD
TZOFFSETFROM:+0200
TZOFFSETTO:+0100
TZNAME:CET
DTSTART:20261025T010000
END:STANDARD
BEGIN:DAYLIGHT
TZOFFSETFROM:+0100
TZOFFSETTO:+0200
TZNAME:CEST
DTSTART:20270328T010000
END:DAYLIGHT
BEGIN:STANDARD
TZOFFSETFROM:+0200
TZOFFSETTO:+0100
TZNAME:CET
DTSTART:20271031T010000
END:STANDARD
END:VTIMEZONE
BEGIN:VEVENT
DTSTART;TZID=Europe/Berlin:20260204T193000
DTEND;TZID=Europe/Berlin:20260204T220000
DTSTAMP:20260421T034735
CREATED:20260108T120429Z
LAST-MODIFIED:20260108T120429Z
UID:10004954-1770233400-1770242400@kropp.de
SUMMARY:Sportschießen: Erwachsenentraining
DESCRIPTION:
URL:https://kropp.de/veranstaltung/sportschiessen-erwachsenentraining/2026-02-04/
LOCATION:Schützenheim Börm\, Meierhof 61\, Börm\, 24863
ATTACH;FMTTYPE=image/jpeg:https://kropp.de/wp-content/uploads/2025/12/Schuetzenheim_Boerm_geaendert.jpg
END:VEVENT
BEGIN:VEVENT
DTSTART;TZID=Europe/Berlin:20260128T193000
DTEND;TZID=Europe/Berlin:20260128T220000
DTSTAMP:20260421T034735
CREATED:20260108T120429Z
LAST-MODIFIED:20260108T120429Z
UID:10004953-1769628600-1769637600@kropp.de
SUMMARY:Sportschießen: Erwachsenentraining
DESCRIPTION:
URL:https://kropp.de/veranstaltung/sportschiessen-erwachsenentraining/2026-01-28/
LOCATION:Schützenheim Börm\, Meierhof 61\, Börm\, 24863
ATTACH;FMTTYPE=image/jpeg:https://kropp.de/wp-content/uploads/2025/12/Schuetzenheim_Boerm_geaendert.jpg
END:VEVENT
BEGIN:VEVENT
DTSTART;TZID=Europe/Berlin:20260121T193000
DTEND;TZID=Europe/Berlin:20260121T220000
DTSTAMP:20260421T034735
CREATED:20260108T120429Z
LAST-MODIFIED:20260108T120429Z
UID:10004952-1769023800-1769032800@kropp.de
SUMMARY:Sportschießen: Erwachsenentraining
DESCRIPTION:
URL:https://kropp.de/veranstaltung/sportschiessen-erwachsenentraining/2026-01-21/
LOCATION:Schützenheim Börm\, Meierhof 61\, Börm\, 24863
ATTACH;FMTTYPE=image/jpeg:https://kropp.de/wp-content/uploads/2025/12/Schuetzenheim_Boerm_geaendert.jpg
END:VEVENT
BEGIN:VEVENT
DTSTART;TZID=Europe/Berlin:20260114T193000
DTEND;TZID=Europe/Berlin:20260114T220000
DTSTAMP:20260421T034735
CREATED:20260108T120429Z
LAST-MODIFIED:20260108T120429Z
UID:10004951-1768419000-1768428000@kropp.de
SUMMARY:Sportschießen: Erwachsenentraining
DESCRIPTION:
URL:https://kropp.de/veranstaltung/sportschiessen-erwachsenentraining/2026-01-14/
LOCATION:Schützenheim Börm\, Meierhof 61\, Börm\, 24863
ATTACH;FMTTYPE=image/jpeg:https://kropp.de/wp-content/uploads/2025/12/Schuetzenheim_Boerm_geaendert.jpg
END:VEVENT
BEGIN:VEVENT
DTSTART;TZID=Europe/Berlin:20260107T193000
DTEND;TZID=Europe/Berlin:20260107T220000
DTSTAMP:20260421T034735
CREATED:20260108T120429Z
LAST-MODIFIED:20260108T120429Z
UID:10004950-1767814200-1767823200@kropp.de
SUMMARY:Sportschießen: Erwachsenentraining
DESCRIPTION:
URL:https://kropp.de/veranstaltung/sportschiessen-erwachsenentraining/2026-01-07/
LOCATION:Schützenheim Börm\, Meierhof 61\, Börm\, 24863
ATTACH;FMTTYPE=image/jpeg:https://kropp.de/wp-content/uploads/2025/12/Schuetzenheim_Boerm_geaendert.jpg
END:VEVENT
END:VCALENDAR