BEGIN:VCALENDAR
VERSION:2.0
PRODID:-//Gemeinde Kropp - ECPv6.15.20//NONSGML v1.0//EN
CALSCALE:GREGORIAN
METHOD:PUBLISH
X-ORIGINAL-URL:https://kropp.de
X-WR-CALDESC:Veranstaltungen für Gemeinde Kropp
REFRESH-INTERVAL;VALUE=DURATION:PT1H
X-Robots-Tag:noindex
X-PUBLISHED-TTL:PT1H
BEGIN:VTIMEZONE
TZID:Europe/Berlin
BEGIN:DAYLIGHT
TZOFFSETFROM:+0100
TZOFFSETTO:+0200
TZNAME:CEST
DTSTART:20250330T010000
END:DAYLIGHT
BEGIN:STANDARD
TZOFFSETFROM:+0200
TZOFFSETTO:+0100
TZNAME:CET
DTSTART:20251026T010000
END:STANDARD
BEGIN:DAYLIGHT
TZOFFSETFROM:+0100
TZOFFSETTO:+0200
TZNAME:CEST
DTSTART:20260329T010000
END:DAYLIGHT
BEGIN:STANDARD
TZOFFSETFROM:+0200
TZOFFSETTO:+0100
TZNAME:CET
DTSTART:20261025T010000
END:STANDARD
BEGIN:DAYLIGHT
TZOFFSETFROM:+0100
TZOFFSETTO:+0200
TZNAME:CEST
DTSTART:20270328T010000
END:DAYLIGHT
BEGIN:STANDARD
TZOFFSETFROM:+0200
TZOFFSETTO:+0100
TZNAME:CET
DTSTART:20271031T010000
END:STANDARD
END:VTIMEZONE
BEGIN:VEVENT
DTSTART;TZID=Europe/Berlin:20260415T193000
DTEND;TZID=Europe/Berlin:20260415T210000
DTSTAMP:20260421T093646
CREATED:20260108T120247Z
LAST-MODIFIED:20260108T120247Z
UID:10005747-1776281400-1776286800@kropp.de
SUMMARY:Fußballtraining der Herren
DESCRIPTION:
URL:https://kropp.de/veranstaltung/fussballtraining-der-herren/2026-04-15/
LOCATION:Sportplatz Börm
ATTACH;FMTTYPE=image/jpeg:https://kropp.de/wp-content/uploads/2025/11/Fussballplatz.jpg
END:VEVENT
BEGIN:VEVENT
DTSTART;TZID=Europe/Berlin:20260410T193000
DTEND;TZID=Europe/Berlin:20260410T193000
DTSTAMP:20260421T093646
CREATED:20260324T111549Z
LAST-MODIFIED:20260324T111549Z
UID:10009560-1775849400-1775849400@kropp.de
SUMMARY:TSV Wohlde - FT Eintracht Rendsburg
DESCRIPTION:
URL:https://kropp.de/veranstaltung/tsv-wohlde-ft-eintracht-rendsburg/
LOCATION:Sportplatz Wohlde\, Sandberg\, Wohlde\, 24899
END:VEVENT
BEGIN:VEVENT
DTSTART;TZID=Europe/Berlin:20260408T193000
DTEND;TZID=Europe/Berlin:20260408T210000
DTSTAMP:20260421T093646
CREATED:20260108T120247Z
LAST-MODIFIED:20260108T120247Z
UID:10005746-1775676600-1775682000@kropp.de
SUMMARY:Fußballtraining der Herren
DESCRIPTION:
URL:https://kropp.de/veranstaltung/fussballtraining-der-herren/2026-04-08/
LOCATION:Sportplatz Börm
ATTACH;FMTTYPE=image/jpeg:https://kropp.de/wp-content/uploads/2025/11/Fussballplatz.jpg
END:VEVENT
BEGIN:VEVENT
DTSTART;TZID=Europe/Berlin:20260404T140000
DTEND;TZID=Europe/Berlin:20260404T160000
DTSTAMP:20260421T093646
CREATED:20260112T121022Z
LAST-MODIFIED:20260112T121022Z
UID:10006548-1775311200-1775318400@kropp.de
SUMMARY:Ostereiersammeln Wohlde
DESCRIPTION:Der TSV Wohlde lädt alle Kinder zum Ostereier sammeln auf dem Sportplatz ein.
URL:https://kropp.de/veranstaltung/ostereiersammeln-wohlde/
LOCATION:Sportplatz Wohlde\, Sandberg\, Wohlde\, 24899
ATTACH;FMTTYPE=image/jpeg:https://kropp.de/wp-content/uploads/2026/01/Eier-im-Osternest-klein.jpg
END:VEVENT
BEGIN:VEVENT
DTSTART;TZID=Europe/Berlin:20260401T193000
DTEND;TZID=Europe/Berlin:20260401T210000
DTSTAMP:20260421T093646
CREATED:20260108T120247Z
LAST-MODIFIED:20260108T120247Z
UID:10005745-1775071800-1775077200@kropp.de
SUMMARY:Fußballtraining der Herren
DESCRIPTION:
URL:https://kropp.de/veranstaltung/fussballtraining-der-herren/2026-04-01/
LOCATION:Sportplatz Börm
ATTACH;FMTTYPE=image/jpeg:https://kropp.de/wp-content/uploads/2025/11/Fussballplatz.jpg
END:VEVENT
BEGIN:VEVENT
DTSTART;TZID=Europe/Berlin:20260325T193000
DTEND;TZID=Europe/Berlin:20260325T210000
DTSTAMP:20260421T093646
CREATED:20260108T120247Z
LAST-MODIFIED:20260108T120247Z
UID:10005744-1774467000-1774472400@kropp.de
SUMMARY:Fußballtraining der Herren
DESCRIPTION:
URL:https://kropp.de/veranstaltung/fussballtraining-der-herren/2026-03-25/
LOCATION:Sportplatz Börm
ATTACH;FMTTYPE=image/jpeg:https://kropp.de/wp-content/uploads/2025/11/Fussballplatz.jpg
END:VEVENT
BEGIN:VEVENT
DTSTART;TZID=Europe/Berlin:20260321T140000
DTEND;TZID=Europe/Berlin:20260321T170000
DTSTAMP:20260421T093646
CREATED:20260112T114138Z
LAST-MODIFIED:20260112T114138Z
UID:10006545-1774101600-1774112400@kropp.de
SUMMARY:Osterbasteln Wohlde
DESCRIPTION:Der TSV Wohlde lädt zum Osterbasteln ein.
URL:https://kropp.de/veranstaltung/osterbasteln-wohlde/
LOCATION:Muhl´s Gasthof\, Dorfstraße 44\, Wohlde\, 24899
ATTACH;FMTTYPE=image/jpeg:https://kropp.de/wp-content/uploads/2026/01/Ostern-Nest-und-Eier-im-Garten.jpg
END:VEVENT
BEGIN:VEVENT
DTSTART;TZID=Europe/Berlin:20260318T193000
DTEND;TZID=Europe/Berlin:20260318T210000
DTSTAMP:20260421T093646
CREATED:20260108T120247Z
LAST-MODIFIED:20260108T120247Z
UID:10005743-1773862200-1773867600@kropp.de
SUMMARY:Fußballtraining der Herren
DESCRIPTION:
URL:https://kropp.de/veranstaltung/fussballtraining-der-herren/2026-03-18/
LOCATION:Sportplatz Börm
ATTACH;FMTTYPE=image/jpeg:https://kropp.de/wp-content/uploads/2025/11/Fussballplatz.jpg
END:VEVENT
BEGIN:VEVENT
DTSTART;TZID=Europe/Berlin:20260311T193000
DTEND;TZID=Europe/Berlin:20260311T210000
DTSTAMP:20260421T093646
CREATED:20260108T120247Z
LAST-MODIFIED:20260108T120247Z
UID:10005742-1773257400-1773262800@kropp.de
SUMMARY:Fußballtraining der Herren
DESCRIPTION:
URL:https://kropp.de/veranstaltung/fussballtraining-der-herren/2026-03-11/
LOCATION:Sportplatz Börm
ATTACH;FMTTYPE=image/jpeg:https://kropp.de/wp-content/uploads/2025/11/Fussballplatz.jpg
END:VEVENT
BEGIN:VEVENT
DTSTART;TZID=Europe/Berlin:20260304T193000
DTEND;TZID=Europe/Berlin:20260304T210000
DTSTAMP:20260421T093646
CREATED:20260108T120247Z
LAST-MODIFIED:20260108T120247Z
UID:10005741-1772652600-1772658000@kropp.de
SUMMARY:Fußballtraining der Herren
DESCRIPTION:
URL:https://kropp.de/veranstaltung/fussballtraining-der-herren/2026-03-04/
LOCATION:Sportplatz Börm
ATTACH;FMTTYPE=image/jpeg:https://kropp.de/wp-content/uploads/2025/11/Fussballplatz.jpg
END:VEVENT
BEGIN:VEVENT
DTSTART;TZID=Europe/Berlin:20260228T190000
DTEND;TZID=Europe/Berlin:20260228T230000
DTSTAMP:20260421T093646
CREATED:20260112T112253Z
LAST-MODIFIED:20260113T123234Z
UID:10006539-1772305200-1772319600@kropp.de
SUMMARY:Kneipenquiz Wohlde
DESCRIPTION:Der TSV Wohlde lädt ein zum Kneipenquiz. Teams bis zu 6 Personen melden sich bis zum 21.02. bei Leon Möller an.
URL:https://kropp.de/veranstaltung/kneipenquiz-wohlde/2026-02-28/
LOCATION:Muhl´s Gasthof\, Dorfstraße 44\, Wohlde\, 24899
ATTACH;FMTTYPE=image/jpeg:https://kropp.de/wp-content/uploads/2026/01/Kneipenquiz.jpg
END:VEVENT
BEGIN:VEVENT
DTSTART;TZID=Europe/Berlin:20260225T193000
DTEND;TZID=Europe/Berlin:20260225T210000
DTSTAMP:20260421T093646
CREATED:20260108T120247Z
LAST-MODIFIED:20260108T120247Z
UID:10005740-1772047800-1772053200@kropp.de
SUMMARY:Fußballtraining der Herren
DESCRIPTION:
URL:https://kropp.de/veranstaltung/fussballtraining-der-herren/2026-02-25/
LOCATION:Sportplatz Börm
ATTACH;FMTTYPE=image/jpeg:https://kropp.de/wp-content/uploads/2025/11/Fussballplatz.jpg
END:VEVENT
BEGIN:VEVENT
DTSTART;TZID=Europe/Berlin:20260218T193000
DTEND;TZID=Europe/Berlin:20260218T210000
DTSTAMP:20260421T093646
CREATED:20260108T120247Z
LAST-MODIFIED:20260108T120247Z
UID:10005739-1771443000-1771448400@kropp.de
SUMMARY:Fußballtraining der Herren
DESCRIPTION:
URL:https://kropp.de/veranstaltung/fussballtraining-der-herren/2026-02-18/
LOCATION:Sportplatz Börm
ATTACH;FMTTYPE=image/jpeg:https://kropp.de/wp-content/uploads/2025/11/Fussballplatz.jpg
END:VEVENT
BEGIN:VEVENT
DTSTART;TZID=Europe/Berlin:20260214T100000
DTEND;TZID=Europe/Berlin:20260214T170000
DTSTAMP:20260421T093646
CREATED:20260112T110404Z
LAST-MODIFIED:20260112T110404Z
UID:10006535-1771063200-1771088400@kropp.de
SUMMARY:Bosseln Wohlde
DESCRIPTION:Der TSV Wohlde lädt zum Bosseln ein.
URL:https://kropp.de/veranstaltung/bosseln-wohlde/
LOCATION:Sportplatz Wohlde\, Sandberg\, Wohlde\, 24899
ATTACH;FMTTYPE=image/png:https://kropp.de/wp-content/uploads/2026/01/Bosseln.png
END:VEVENT
BEGIN:VEVENT
DTSTART;TZID=Europe/Berlin:20260211T193000
DTEND;TZID=Europe/Berlin:20260211T210000
DTSTAMP:20260421T093646
CREATED:20260108T120247Z
LAST-MODIFIED:20260108T120247Z
UID:10005738-1770838200-1770843600@kropp.de
SUMMARY:Fußballtraining der Herren
DESCRIPTION:
URL:https://kropp.de/veranstaltung/fussballtraining-der-herren/2026-02-11/
LOCATION:Sportplatz Börm
ATTACH;FMTTYPE=image/jpeg:https://kropp.de/wp-content/uploads/2025/11/Fussballplatz.jpg
END:VEVENT
BEGIN:VEVENT
DTSTART;TZID=Europe/Berlin:20260207T143000
DTEND;TZID=Europe/Berlin:20260207T193000
DTSTAMP:20260421T093646
CREATED:20260112T103215Z
LAST-MODIFIED:20260126T090010Z
UID:10006474-1770474600-1770492600@kropp.de
SUMMARY:Kinderfilm Nachmittag
DESCRIPTION:Der TSV Wohlde bietet einen Filmnachmittag für Kinder an. \nAb 14:30 Uhr ICE Age 1 \nAb 17:00 Uhr Schule der Magischen Tiere \nBitte Sitzkissen mitbringen
URL:https://kropp.de/veranstaltung/kinderfilm-nachmittag/
LOCATION:Muhl´s Gasthof\, Dorfstraße 44\, Wohlde\, 24899
ATTACH;FMTTYPE=image/png:https://kropp.de/wp-content/uploads/2026/01/Kinderfilmnachmittag-in-Wohlde.png
END:VEVENT
BEGIN:VEVENT
DTSTART;TZID=Europe/Berlin:20260204T193000
DTEND;TZID=Europe/Berlin:20260204T210000
DTSTAMP:20260421T093646
CREATED:20260108T120247Z
LAST-MODIFIED:20260108T120247Z
UID:10005737-1770233400-1770238800@kropp.de
SUMMARY:Fußballtraining der Herren
DESCRIPTION:
URL:https://kropp.de/veranstaltung/fussballtraining-der-herren/2026-02-04/
LOCATION:Sportplatz Börm
ATTACH;FMTTYPE=image/jpeg:https://kropp.de/wp-content/uploads/2025/11/Fussballplatz.jpg
END:VEVENT
BEGIN:VEVENT
DTSTART;TZID=Europe/Berlin:20260128T193000
DTEND;TZID=Europe/Berlin:20260128T210000
DTSTAMP:20260421T093646
CREATED:20260108T120247Z
LAST-MODIFIED:20260108T120247Z
UID:10005736-1769628600-1769634000@kropp.de
SUMMARY:Fußballtraining der Herren
DESCRIPTION:
URL:https://kropp.de/veranstaltung/fussballtraining-der-herren/2026-01-28/
LOCATION:Sportplatz Börm
ATTACH;FMTTYPE=image/jpeg:https://kropp.de/wp-content/uploads/2025/11/Fussballplatz.jpg
END:VEVENT
BEGIN:VEVENT
DTSTART;TZID=Europe/Berlin:20260121T193000
DTEND;TZID=Europe/Berlin:20260121T210000
DTSTAMP:20260421T093646
CREATED:20260108T120247Z
LAST-MODIFIED:20260108T120247Z
UID:10005735-1769023800-1769029200@kropp.de
SUMMARY:Fußballtraining der Herren
DESCRIPTION:
URL:https://kropp.de/veranstaltung/fussballtraining-der-herren/2026-01-21/
LOCATION:Sportplatz Börm
ATTACH;FMTTYPE=image/jpeg:https://kropp.de/wp-content/uploads/2025/11/Fussballplatz.jpg
END:VEVENT
BEGIN:VEVENT
DTSTART;TZID=Europe/Berlin:20260114T193000
DTEND;TZID=Europe/Berlin:20260114T210000
DTSTAMP:20260421T093646
CREATED:20260108T120247Z
LAST-MODIFIED:20260108T120247Z
UID:10005734-1768419000-1768424400@kropp.de
SUMMARY:Fußballtraining der Herren
DESCRIPTION:
URL:https://kropp.de/veranstaltung/fussballtraining-der-herren/2026-01-14/
LOCATION:Sportplatz Börm
ATTACH;FMTTYPE=image/jpeg:https://kropp.de/wp-content/uploads/2025/11/Fussballplatz.jpg
END:VEVENT
BEGIN:VEVENT
DTSTART;TZID=Europe/Berlin:20260107T193000
DTEND;TZID=Europe/Berlin:20260107T210000
DTSTAMP:20260421T093646
CREATED:20260108T120247Z
LAST-MODIFIED:20260108T120247Z
UID:10005733-1767814200-1767819600@kropp.de
SUMMARY:Fußballtraining der Herren
DESCRIPTION:
URL:https://kropp.de/veranstaltung/fussballtraining-der-herren/2026-01-07/
LOCATION:Sportplatz Börm
ATTACH;FMTTYPE=image/jpeg:https://kropp.de/wp-content/uploads/2025/11/Fussballplatz.jpg
END:VEVENT
END:VCALENDAR