BEGIN:VCALENDAR
VERSION:2.0
PRODID:-//Gemeinde Kropp - ECPv6.15.20//NONSGML v1.0//EN
CALSCALE:GREGORIAN
METHOD:PUBLISH
X-WR-CALNAME:Gemeinde Kropp
X-ORIGINAL-URL:https://kropp.de
X-WR-CALDESC:Veranstaltungen für Gemeinde Kropp
REFRESH-INTERVAL;VALUE=DURATION:PT1H
X-Robots-Tag:noindex
X-PUBLISHED-TTL:PT1H
BEGIN:VTIMEZONE
TZID:Europe/Berlin
BEGIN:DAYLIGHT
TZOFFSETFROM:+0100
TZOFFSETTO:+0200
TZNAME:CEST
DTSTART:20250330T010000
END:DAYLIGHT
BEGIN:STANDARD
TZOFFSETFROM:+0200
TZOFFSETTO:+0100
TZNAME:CET
DTSTART:20251026T010000
END:STANDARD
BEGIN:DAYLIGHT
TZOFFSETFROM:+0100
TZOFFSETTO:+0200
TZNAME:CEST
DTSTART:20260329T010000
END:DAYLIGHT
BEGIN:STANDARD
TZOFFSETFROM:+0200
TZOFFSETTO:+0100
TZNAME:CET
DTSTART:20261025T010000
END:STANDARD
BEGIN:DAYLIGHT
TZOFFSETFROM:+0100
TZOFFSETTO:+0200
TZNAME:CEST
DTSTART:20270328T010000
END:DAYLIGHT
BEGIN:STANDARD
TZOFFSETFROM:+0200
TZOFFSETTO:+0100
TZNAME:CET
DTSTART:20271031T010000
END:STANDARD
END:VTIMEZONE
BEGIN:VEVENT
DTSTART;TZID=Europe/Berlin:20260427T183000
DTEND;TZID=Europe/Berlin:20260427T193000
DTSTAMP:20260421T235835
CREATED:20260108T120154Z
LAST-MODIFIED:20260108T120154Z
UID:10004384-1777314600-1777318200@kropp.de
SUMMARY:Frauensport
DESCRIPTION:
URL:https://kropp.de/veranstaltung/frauensport/2026-04-27/
LOCATION:Sporthalle Groß Rheide\, Hauptstraße 45\, Groß Rheide\, 24872\, Germany
ATTACH;FMTTYPE=image/jpeg:https://kropp.de/wp-content/uploads/2025/11/Gross_Rheide-Sporthalle.jpg
END:VEVENT
BEGIN:VEVENT
DTSTART;TZID=Europe/Berlin:20260504T183000
DTEND;TZID=Europe/Berlin:20260504T193000
DTSTAMP:20260421T235835
CREATED:20260108T120154Z
LAST-MODIFIED:20260108T120154Z
UID:10004385-1777919400-1777923000@kropp.de
SUMMARY:Frauensport
DESCRIPTION:
URL:https://kropp.de/veranstaltung/frauensport/2026-05-04/
LOCATION:Sporthalle Groß Rheide\, Hauptstraße 45\, Groß Rheide\, 24872\, Germany
ATTACH;FMTTYPE=image/jpeg:https://kropp.de/wp-content/uploads/2025/11/Gross_Rheide-Sporthalle.jpg
END:VEVENT
BEGIN:VEVENT
DTSTART;TZID=Europe/Berlin:20260511T183000
DTEND;TZID=Europe/Berlin:20260511T193000
DTSTAMP:20260421T235835
CREATED:20260108T120154Z
LAST-MODIFIED:20260108T120154Z
UID:10004386-1778524200-1778527800@kropp.de
SUMMARY:Frauensport
DESCRIPTION:
URL:https://kropp.de/veranstaltung/frauensport/2026-05-11/
LOCATION:Sporthalle Groß Rheide\, Hauptstraße 45\, Groß Rheide\, 24872\, Germany
ATTACH;FMTTYPE=image/jpeg:https://kropp.de/wp-content/uploads/2025/11/Gross_Rheide-Sporthalle.jpg
END:VEVENT
BEGIN:VEVENT
DTSTART;TZID=Europe/Berlin:20260518T183000
DTEND;TZID=Europe/Berlin:20260518T193000
DTSTAMP:20260421T235835
CREATED:20260108T120154Z
LAST-MODIFIED:20260108T120154Z
UID:10004387-1779129000-1779132600@kropp.de
SUMMARY:Frauensport
DESCRIPTION:
URL:https://kropp.de/veranstaltung/frauensport/2026-05-18/
LOCATION:Sporthalle Groß Rheide\, Hauptstraße 45\, Groß Rheide\, 24872\, Germany
ATTACH;FMTTYPE=image/jpeg:https://kropp.de/wp-content/uploads/2025/11/Gross_Rheide-Sporthalle.jpg
END:VEVENT
BEGIN:VEVENT
DTSTART;TZID=Europe/Berlin:20260525T183000
DTEND;TZID=Europe/Berlin:20260525T193000
DTSTAMP:20260421T235835
CREATED:20260108T120154Z
LAST-MODIFIED:20260108T120154Z
UID:10004388-1779733800-1779737400@kropp.de
SUMMARY:Frauensport
DESCRIPTION:
URL:https://kropp.de/veranstaltung/frauensport/2026-05-25/
LOCATION:Sporthalle Groß Rheide\, Hauptstraße 45\, Groß Rheide\, 24872\, Germany
ATTACH;FMTTYPE=image/jpeg:https://kropp.de/wp-content/uploads/2025/11/Gross_Rheide-Sporthalle.jpg
END:VEVENT
BEGIN:VEVENT
DTSTART;TZID=Europe/Berlin:20260601T183000
DTEND;TZID=Europe/Berlin:20260601T193000
DTSTAMP:20260421T235835
CREATED:20260108T120154Z
LAST-MODIFIED:20260108T120154Z
UID:10004389-1780338600-1780342200@kropp.de
SUMMARY:Frauensport
DESCRIPTION:
URL:https://kropp.de/veranstaltung/frauensport/2026-06-01/
LOCATION:Sporthalle Groß Rheide\, Hauptstraße 45\, Groß Rheide\, 24872\, Germany
ATTACH;FMTTYPE=image/jpeg:https://kropp.de/wp-content/uploads/2025/11/Gross_Rheide-Sporthalle.jpg
END:VEVENT
BEGIN:VEVENT
DTSTART;TZID=Europe/Berlin:20260608T183000
DTEND;TZID=Europe/Berlin:20260608T193000
DTSTAMP:20260421T235835
CREATED:20260108T120154Z
LAST-MODIFIED:20260108T120154Z
UID:10004390-1780943400-1780947000@kropp.de
SUMMARY:Frauensport
DESCRIPTION:
URL:https://kropp.de/veranstaltung/frauensport/2026-06-08/
LOCATION:Sporthalle Groß Rheide\, Hauptstraße 45\, Groß Rheide\, 24872\, Germany
ATTACH;FMTTYPE=image/jpeg:https://kropp.de/wp-content/uploads/2025/11/Gross_Rheide-Sporthalle.jpg
END:VEVENT
BEGIN:VEVENT
DTSTART;TZID=Europe/Berlin:20260615T183000
DTEND;TZID=Europe/Berlin:20260615T193000
DTSTAMP:20260421T235835
CREATED:20260108T120154Z
LAST-MODIFIED:20260108T120154Z
UID:10004391-1781548200-1781551800@kropp.de
SUMMARY:Frauensport
DESCRIPTION:
URL:https://kropp.de/veranstaltung/frauensport/2026-06-15/
LOCATION:Sporthalle Groß Rheide\, Hauptstraße 45\, Groß Rheide\, 24872\, Germany
ATTACH;FMTTYPE=image/jpeg:https://kropp.de/wp-content/uploads/2025/11/Gross_Rheide-Sporthalle.jpg
END:VEVENT
BEGIN:VEVENT
DTSTART;TZID=Europe/Berlin:20260622T183000
DTEND;TZID=Europe/Berlin:20260622T193000
DTSTAMP:20260421T235835
CREATED:20260108T120154Z
LAST-MODIFIED:20260108T120154Z
UID:10004392-1782153000-1782156600@kropp.de
SUMMARY:Frauensport
DESCRIPTION:
URL:https://kropp.de/veranstaltung/frauensport/2026-06-22/
LOCATION:Sporthalle Groß Rheide\, Hauptstraße 45\, Groß Rheide\, 24872\, Germany
ATTACH;FMTTYPE=image/jpeg:https://kropp.de/wp-content/uploads/2025/11/Gross_Rheide-Sporthalle.jpg
END:VEVENT
BEGIN:VEVENT
DTSTART;TZID=Europe/Berlin:20260629T183000
DTEND;TZID=Europe/Berlin:20260629T193000
DTSTAMP:20260421T235835
CREATED:20260108T120154Z
LAST-MODIFIED:20260108T120154Z
UID:10004393-1782757800-1782761400@kropp.de
SUMMARY:Frauensport
DESCRIPTION:
URL:https://kropp.de/veranstaltung/frauensport/2026-06-29/
LOCATION:Sporthalle Groß Rheide\, Hauptstraße 45\, Groß Rheide\, 24872\, Germany
ATTACH;FMTTYPE=image/jpeg:https://kropp.de/wp-content/uploads/2025/11/Gross_Rheide-Sporthalle.jpg
END:VEVENT
BEGIN:VEVENT
DTSTART;TZID=Europe/Berlin:20260706T183000
DTEND;TZID=Europe/Berlin:20260706T193000
DTSTAMP:20260421T235835
CREATED:20260108T120154Z
LAST-MODIFIED:20260108T120154Z
UID:10004394-1783362600-1783366200@kropp.de
SUMMARY:Frauensport
DESCRIPTION:
URL:https://kropp.de/veranstaltung/frauensport/2026-07-06/
LOCATION:Sporthalle Groß Rheide\, Hauptstraße 45\, Groß Rheide\, 24872\, Germany
ATTACH;FMTTYPE=image/jpeg:https://kropp.de/wp-content/uploads/2025/11/Gross_Rheide-Sporthalle.jpg
END:VEVENT
BEGIN:VEVENT
DTSTART;TZID=Europe/Berlin:20260713T183000
DTEND;TZID=Europe/Berlin:20260713T193000
DTSTAMP:20260421T235835
CREATED:20260108T120154Z
LAST-MODIFIED:20260108T120154Z
UID:10004395-1783967400-1783971000@kropp.de
SUMMARY:Frauensport
DESCRIPTION:
URL:https://kropp.de/veranstaltung/frauensport/2026-07-13/
LOCATION:Sporthalle Groß Rheide\, Hauptstraße 45\, Groß Rheide\, 24872\, Germany
ATTACH;FMTTYPE=image/jpeg:https://kropp.de/wp-content/uploads/2025/11/Gross_Rheide-Sporthalle.jpg
END:VEVENT
BEGIN:VEVENT
DTSTART;TZID=Europe/Berlin:20260720T183000
DTEND;TZID=Europe/Berlin:20260720T193000
DTSTAMP:20260421T235835
CREATED:20260108T120154Z
LAST-MODIFIED:20260108T120154Z
UID:10004396-1784572200-1784575800@kropp.de
SUMMARY:Frauensport
DESCRIPTION:
URL:https://kropp.de/veranstaltung/frauensport/2026-07-20/
LOCATION:Sporthalle Groß Rheide\, Hauptstraße 45\, Groß Rheide\, 24872\, Germany
ATTACH;FMTTYPE=image/jpeg:https://kropp.de/wp-content/uploads/2025/11/Gross_Rheide-Sporthalle.jpg
END:VEVENT
BEGIN:VEVENT
DTSTART;TZID=Europe/Berlin:20260727T183000
DTEND;TZID=Europe/Berlin:20260727T193000
DTSTAMP:20260421T235835
CREATED:20260108T120154Z
LAST-MODIFIED:20260108T120154Z
UID:10004397-1785177000-1785180600@kropp.de
SUMMARY:Frauensport
DESCRIPTION:
URL:https://kropp.de/veranstaltung/frauensport/2026-07-27/
LOCATION:Sporthalle Groß Rheide\, Hauptstraße 45\, Groß Rheide\, 24872\, Germany
ATTACH;FMTTYPE=image/jpeg:https://kropp.de/wp-content/uploads/2025/11/Gross_Rheide-Sporthalle.jpg
END:VEVENT
BEGIN:VEVENT
DTSTART;TZID=Europe/Berlin:20260803T183000
DTEND;TZID=Europe/Berlin:20260803T193000
DTSTAMP:20260421T235835
CREATED:20260108T120154Z
LAST-MODIFIED:20260108T120154Z
UID:10004398-1785781800-1785785400@kropp.de
SUMMARY:Frauensport
DESCRIPTION:
URL:https://kropp.de/veranstaltung/frauensport/2026-08-03/
LOCATION:Sporthalle Groß Rheide\, Hauptstraße 45\, Groß Rheide\, 24872\, Germany
ATTACH;FMTTYPE=image/jpeg:https://kropp.de/wp-content/uploads/2025/11/Gross_Rheide-Sporthalle.jpg
END:VEVENT
BEGIN:VEVENT
DTSTART;TZID=Europe/Berlin:20260810T183000
DTEND;TZID=Europe/Berlin:20260810T193000
DTSTAMP:20260421T235835
CREATED:20260108T120154Z
LAST-MODIFIED:20260108T120154Z
UID:10004399-1786386600-1786390200@kropp.de
SUMMARY:Frauensport
DESCRIPTION:
URL:https://kropp.de/veranstaltung/frauensport/2026-08-10/
LOCATION:Sporthalle Groß Rheide\, Hauptstraße 45\, Groß Rheide\, 24872\, Germany
ATTACH;FMTTYPE=image/jpeg:https://kropp.de/wp-content/uploads/2025/11/Gross_Rheide-Sporthalle.jpg
END:VEVENT
BEGIN:VEVENT
DTSTART;TZID=Europe/Berlin:20260817T183000
DTEND;TZID=Europe/Berlin:20260817T193000
DTSTAMP:20260421T235835
CREATED:20260108T120154Z
LAST-MODIFIED:20260108T120154Z
UID:10004400-1786991400-1786995000@kropp.de
SUMMARY:Frauensport
DESCRIPTION:
URL:https://kropp.de/veranstaltung/frauensport/2026-08-17/
LOCATION:Sporthalle Groß Rheide\, Hauptstraße 45\, Groß Rheide\, 24872\, Germany
ATTACH;FMTTYPE=image/jpeg:https://kropp.de/wp-content/uploads/2025/11/Gross_Rheide-Sporthalle.jpg
END:VEVENT
BEGIN:VEVENT
DTSTART;TZID=Europe/Berlin:20260824T183000
DTEND;TZID=Europe/Berlin:20260824T193000
DTSTAMP:20260421T235835
CREATED:20260108T120154Z
LAST-MODIFIED:20260108T120154Z
UID:10004401-1787596200-1787599800@kropp.de
SUMMARY:Frauensport
DESCRIPTION:
URL:https://kropp.de/veranstaltung/frauensport/2026-08-24/
LOCATION:Sporthalle Groß Rheide\, Hauptstraße 45\, Groß Rheide\, 24872\, Germany
ATTACH;FMTTYPE=image/jpeg:https://kropp.de/wp-content/uploads/2025/11/Gross_Rheide-Sporthalle.jpg
END:VEVENT
BEGIN:VEVENT
DTSTART;TZID=Europe/Berlin:20260831T183000
DTEND;TZID=Europe/Berlin:20260831T193000
DTSTAMP:20260421T235835
CREATED:20260108T120154Z
LAST-MODIFIED:20260108T120154Z
UID:10004402-1788201000-1788204600@kropp.de
SUMMARY:Frauensport
DESCRIPTION:
URL:https://kropp.de/veranstaltung/frauensport/2026-08-31/
LOCATION:Sporthalle Groß Rheide\, Hauptstraße 45\, Groß Rheide\, 24872\, Germany
ATTACH;FMTTYPE=image/jpeg:https://kropp.de/wp-content/uploads/2025/11/Gross_Rheide-Sporthalle.jpg
END:VEVENT
BEGIN:VEVENT
DTSTART;TZID=Europe/Berlin:20260907T183000
DTEND;TZID=Europe/Berlin:20260907T193000
DTSTAMP:20260421T235835
CREATED:20260108T120154Z
LAST-MODIFIED:20260108T120154Z
UID:10004403-1788805800-1788809400@kropp.de
SUMMARY:Frauensport
DESCRIPTION:
URL:https://kropp.de/veranstaltung/frauensport/2026-09-07/
LOCATION:Sporthalle Groß Rheide\, Hauptstraße 45\, Groß Rheide\, 24872\, Germany
ATTACH;FMTTYPE=image/jpeg:https://kropp.de/wp-content/uploads/2025/11/Gross_Rheide-Sporthalle.jpg
END:VEVENT
BEGIN:VEVENT
DTSTART;TZID=Europe/Berlin:20260914T183000
DTEND;TZID=Europe/Berlin:20260914T193000
DTSTAMP:20260421T235835
CREATED:20260108T120154Z
LAST-MODIFIED:20260108T120154Z
UID:10004404-1789410600-1789414200@kropp.de
SUMMARY:Frauensport
DESCRIPTION:
URL:https://kropp.de/veranstaltung/frauensport/2026-09-14/
LOCATION:Sporthalle Groß Rheide\, Hauptstraße 45\, Groß Rheide\, 24872\, Germany
ATTACH;FMTTYPE=image/jpeg:https://kropp.de/wp-content/uploads/2025/11/Gross_Rheide-Sporthalle.jpg
END:VEVENT
BEGIN:VEVENT
DTSTART;TZID=Europe/Berlin:20260921T183000
DTEND;TZID=Europe/Berlin:20260921T193000
DTSTAMP:20260421T235835
CREATED:20260108T120154Z
LAST-MODIFIED:20260108T120154Z
UID:10004405-1790015400-1790019000@kropp.de
SUMMARY:Frauensport
DESCRIPTION:
URL:https://kropp.de/veranstaltung/frauensport/2026-09-21/
LOCATION:Sporthalle Groß Rheide\, Hauptstraße 45\, Groß Rheide\, 24872\, Germany
ATTACH;FMTTYPE=image/jpeg:https://kropp.de/wp-content/uploads/2025/11/Gross_Rheide-Sporthalle.jpg
END:VEVENT
BEGIN:VEVENT
DTSTART;TZID=Europe/Berlin:20260928T183000
DTEND;TZID=Europe/Berlin:20260928T193000
DTSTAMP:20260421T235835
CREATED:20260108T120154Z
LAST-MODIFIED:20260108T120154Z
UID:10004406-1790620200-1790623800@kropp.de
SUMMARY:Frauensport
DESCRIPTION:
URL:https://kropp.de/veranstaltung/frauensport/2026-09-28/
LOCATION:Sporthalle Groß Rheide\, Hauptstraße 45\, Groß Rheide\, 24872\, Germany
ATTACH;FMTTYPE=image/jpeg:https://kropp.de/wp-content/uploads/2025/11/Gross_Rheide-Sporthalle.jpg
END:VEVENT
BEGIN:VEVENT
DTSTART;TZID=Europe/Berlin:20261005T183000
DTEND;TZID=Europe/Berlin:20261005T193000
DTSTAMP:20260421T235835
CREATED:20260108T120154Z
LAST-MODIFIED:20260108T120154Z
UID:10004407-1791225000-1791228600@kropp.de
SUMMARY:Frauensport
DESCRIPTION:
URL:https://kropp.de/veranstaltung/frauensport/2026-10-05/
LOCATION:Sporthalle Groß Rheide\, Hauptstraße 45\, Groß Rheide\, 24872\, Germany
ATTACH;FMTTYPE=image/jpeg:https://kropp.de/wp-content/uploads/2025/11/Gross_Rheide-Sporthalle.jpg
END:VEVENT
BEGIN:VEVENT
DTSTART;TZID=Europe/Berlin:20261012T183000
DTEND;TZID=Europe/Berlin:20261012T193000
DTSTAMP:20260421T235835
CREATED:20260108T120154Z
LAST-MODIFIED:20260108T120154Z
UID:10004408-1791829800-1791833400@kropp.de
SUMMARY:Frauensport
DESCRIPTION:
URL:https://kropp.de/veranstaltung/frauensport/2026-10-12/
LOCATION:Sporthalle Groß Rheide\, Hauptstraße 45\, Groß Rheide\, 24872\, Germany
ATTACH;FMTTYPE=image/jpeg:https://kropp.de/wp-content/uploads/2025/11/Gross_Rheide-Sporthalle.jpg
END:VEVENT
BEGIN:VEVENT
DTSTART;TZID=Europe/Berlin:20261019T183000
DTEND;TZID=Europe/Berlin:20261019T193000
DTSTAMP:20260421T235835
CREATED:20260108T120154Z
LAST-MODIFIED:20260108T120154Z
UID:10004409-1792434600-1792438200@kropp.de
SUMMARY:Frauensport
DESCRIPTION:
URL:https://kropp.de/veranstaltung/frauensport/2026-10-19/
LOCATION:Sporthalle Groß Rheide\, Hauptstraße 45\, Groß Rheide\, 24872\, Germany
ATTACH;FMTTYPE=image/jpeg:https://kropp.de/wp-content/uploads/2025/11/Gross_Rheide-Sporthalle.jpg
END:VEVENT
BEGIN:VEVENT
DTSTART;TZID=Europe/Berlin:20261026T183000
DTEND;TZID=Europe/Berlin:20261026T193000
DTSTAMP:20260421T235835
CREATED:20260108T120154Z
LAST-MODIFIED:20260108T120154Z
UID:10004410-1793039400-1793043000@kropp.de
SUMMARY:Frauensport
DESCRIPTION:
URL:https://kropp.de/veranstaltung/frauensport/2026-10-26/
LOCATION:Sporthalle Groß Rheide\, Hauptstraße 45\, Groß Rheide\, 24872\, Germany
ATTACH;FMTTYPE=image/jpeg:https://kropp.de/wp-content/uploads/2025/11/Gross_Rheide-Sporthalle.jpg
END:VEVENT
BEGIN:VEVENT
DTSTART;TZID=Europe/Berlin:20261102T183000
DTEND;TZID=Europe/Berlin:20261102T193000
DTSTAMP:20260421T235835
CREATED:20260108T120154Z
LAST-MODIFIED:20260108T120154Z
UID:10004411-1793644200-1793647800@kropp.de
SUMMARY:Frauensport
DESCRIPTION:
URL:https://kropp.de/veranstaltung/frauensport/2026-11-02/
LOCATION:Sporthalle Groß Rheide\, Hauptstraße 45\, Groß Rheide\, 24872\, Germany
ATTACH;FMTTYPE=image/jpeg:https://kropp.de/wp-content/uploads/2025/11/Gross_Rheide-Sporthalle.jpg
END:VEVENT
BEGIN:VEVENT
DTSTART;TZID=Europe/Berlin:20261109T183000
DTEND;TZID=Europe/Berlin:20261109T193000
DTSTAMP:20260421T235836
CREATED:20260108T120154Z
LAST-MODIFIED:20260108T120154Z
UID:10004412-1794249000-1794252600@kropp.de
SUMMARY:Frauensport
DESCRIPTION:
URL:https://kropp.de/veranstaltung/frauensport/2026-11-09/
LOCATION:Sporthalle Groß Rheide\, Hauptstraße 45\, Groß Rheide\, 24872\, Germany
ATTACH;FMTTYPE=image/jpeg:https://kropp.de/wp-content/uploads/2025/11/Gross_Rheide-Sporthalle.jpg
END:VEVENT
BEGIN:VEVENT
DTSTART;TZID=Europe/Berlin:20261116T183000
DTEND;TZID=Europe/Berlin:20261116T193000
DTSTAMP:20260421T235836
CREATED:20260108T120154Z
LAST-MODIFIED:20260108T120154Z
UID:10004413-1794853800-1794857400@kropp.de
SUMMARY:Frauensport
DESCRIPTION:
URL:https://kropp.de/veranstaltung/frauensport/2026-11-16/
LOCATION:Sporthalle Groß Rheide\, Hauptstraße 45\, Groß Rheide\, 24872\, Germany
ATTACH;FMTTYPE=image/jpeg:https://kropp.de/wp-content/uploads/2025/11/Gross_Rheide-Sporthalle.jpg
END:VEVENT
END:VCALENDAR