BEGIN:VCALENDAR
VERSION:2.0
PRODID:-//Gemeinde Kropp - ECPv6.15.20//NONSGML v1.0//EN
CALSCALE:GREGORIAN
METHOD:PUBLISH
X-WR-CALNAME:Gemeinde Kropp
X-ORIGINAL-URL:https://kropp.de
X-WR-CALDESC:Veranstaltungen für Gemeinde Kropp
REFRESH-INTERVAL;VALUE=DURATION:PT1H
X-Robots-Tag:noindex
X-PUBLISHED-TTL:PT1H
BEGIN:VTIMEZONE
TZID:Europe/Berlin
BEGIN:DAYLIGHT
TZOFFSETFROM:+0100
TZOFFSETTO:+0200
TZNAME:CEST
DTSTART:20250330T010000
END:DAYLIGHT
BEGIN:STANDARD
TZOFFSETFROM:+0200
TZOFFSETTO:+0100
TZNAME:CET
DTSTART:20251026T010000
END:STANDARD
BEGIN:DAYLIGHT
TZOFFSETFROM:+0100
TZOFFSETTO:+0200
TZNAME:CEST
DTSTART:20260329T010000
END:DAYLIGHT
BEGIN:STANDARD
TZOFFSETFROM:+0200
TZOFFSETTO:+0100
TZNAME:CET
DTSTART:20261025T010000
END:STANDARD
BEGIN:DAYLIGHT
TZOFFSETFROM:+0100
TZOFFSETTO:+0200
TZNAME:CEST
DTSTART:20270328T010000
END:DAYLIGHT
BEGIN:STANDARD
TZOFFSETFROM:+0200
TZOFFSETTO:+0100
TZNAME:CET
DTSTART:20271031T010000
END:STANDARD
END:VTIMEZONE
BEGIN:VEVENT
DTSTART;TZID=Europe/Berlin:20260429T180000
DTEND;TZID=Europe/Berlin:20260429T190000
DTSTAMP:20260424T111349
CREATED:20260108T120455Z
LAST-MODIFIED:20260108T120455Z
UID:10004705-1777485600-1777489200@kropp.de
SUMMARY:Sportschießen: Jugendtraining
DESCRIPTION:
URL:https://kropp.de/veranstaltung/sportschiessen-jugendtraining/2026-04-29/
LOCATION:Schützenheim Börm\, Meierhof 61\, Börm\, 24863
ATTACH;FMTTYPE=image/jpeg:https://kropp.de/wp-content/uploads/2025/12/Schuetzenheim_Boerm_geaendert.jpg
END:VEVENT
BEGIN:VEVENT
DTSTART;TZID=Europe/Berlin:20260506T180000
DTEND;TZID=Europe/Berlin:20260506T190000
DTSTAMP:20260424T111349
CREATED:20260108T120455Z
LAST-MODIFIED:20260108T120455Z
UID:10004706-1778090400-1778094000@kropp.de
SUMMARY:Sportschießen: Jugendtraining
DESCRIPTION:
URL:https://kropp.de/veranstaltung/sportschiessen-jugendtraining/2026-05-06/
LOCATION:Schützenheim Börm\, Meierhof 61\, Börm\, 24863
ATTACH;FMTTYPE=image/jpeg:https://kropp.de/wp-content/uploads/2025/12/Schuetzenheim_Boerm_geaendert.jpg
END:VEVENT
BEGIN:VEVENT
DTSTART;TZID=Europe/Berlin:20260513T180000
DTEND;TZID=Europe/Berlin:20260513T190000
DTSTAMP:20260424T111349
CREATED:20260108T120455Z
LAST-MODIFIED:20260108T120455Z
UID:10004707-1778695200-1778698800@kropp.de
SUMMARY:Sportschießen: Jugendtraining
DESCRIPTION:
URL:https://kropp.de/veranstaltung/sportschiessen-jugendtraining/2026-05-13/
LOCATION:Schützenheim Börm\, Meierhof 61\, Börm\, 24863
ATTACH;FMTTYPE=image/jpeg:https://kropp.de/wp-content/uploads/2025/12/Schuetzenheim_Boerm_geaendert.jpg
END:VEVENT
BEGIN:VEVENT
DTSTART;TZID=Europe/Berlin:20260520T180000
DTEND;TZID=Europe/Berlin:20260520T190000
DTSTAMP:20260424T111349
CREATED:20260108T120455Z
LAST-MODIFIED:20260108T120455Z
UID:10004708-1779300000-1779303600@kropp.de
SUMMARY:Sportschießen: Jugendtraining
DESCRIPTION:
URL:https://kropp.de/veranstaltung/sportschiessen-jugendtraining/2026-05-20/
LOCATION:Schützenheim Börm\, Meierhof 61\, Börm\, 24863
ATTACH;FMTTYPE=image/jpeg:https://kropp.de/wp-content/uploads/2025/12/Schuetzenheim_Boerm_geaendert.jpg
END:VEVENT
BEGIN:VEVENT
DTSTART;TZID=Europe/Berlin:20260527T180000
DTEND;TZID=Europe/Berlin:20260527T190000
DTSTAMP:20260424T111349
CREATED:20260108T120455Z
LAST-MODIFIED:20260108T120455Z
UID:10004709-1779904800-1779908400@kropp.de
SUMMARY:Sportschießen: Jugendtraining
DESCRIPTION:
URL:https://kropp.de/veranstaltung/sportschiessen-jugendtraining/2026-05-27/
LOCATION:Schützenheim Börm\, Meierhof 61\, Börm\, 24863
ATTACH;FMTTYPE=image/jpeg:https://kropp.de/wp-content/uploads/2025/12/Schuetzenheim_Boerm_geaendert.jpg
END:VEVENT
BEGIN:VEVENT
DTSTART;TZID=Europe/Berlin:20260603T180000
DTEND;TZID=Europe/Berlin:20260603T190000
DTSTAMP:20260424T111349
CREATED:20260108T120455Z
LAST-MODIFIED:20260108T120455Z
UID:10004710-1780509600-1780513200@kropp.de
SUMMARY:Sportschießen: Jugendtraining
DESCRIPTION:
URL:https://kropp.de/veranstaltung/sportschiessen-jugendtraining/2026-06-03/
LOCATION:Schützenheim Börm\, Meierhof 61\, Börm\, 24863
ATTACH;FMTTYPE=image/jpeg:https://kropp.de/wp-content/uploads/2025/12/Schuetzenheim_Boerm_geaendert.jpg
END:VEVENT
BEGIN:VEVENT
DTSTART;TZID=Europe/Berlin:20260610T180000
DTEND;TZID=Europe/Berlin:20260610T190000
DTSTAMP:20260424T111349
CREATED:20260108T120455Z
LAST-MODIFIED:20260108T120455Z
UID:10004711-1781114400-1781118000@kropp.de
SUMMARY:Sportschießen: Jugendtraining
DESCRIPTION:
URL:https://kropp.de/veranstaltung/sportschiessen-jugendtraining/2026-06-10/
LOCATION:Schützenheim Börm\, Meierhof 61\, Börm\, 24863
ATTACH;FMTTYPE=image/jpeg:https://kropp.de/wp-content/uploads/2025/12/Schuetzenheim_Boerm_geaendert.jpg
END:VEVENT
BEGIN:VEVENT
DTSTART;TZID=Europe/Berlin:20260617T180000
DTEND;TZID=Europe/Berlin:20260617T190000
DTSTAMP:20260424T111349
CREATED:20260108T120455Z
LAST-MODIFIED:20260108T120455Z
UID:10004712-1781719200-1781722800@kropp.de
SUMMARY:Sportschießen: Jugendtraining
DESCRIPTION:
URL:https://kropp.de/veranstaltung/sportschiessen-jugendtraining/2026-06-17/
LOCATION:Schützenheim Börm\, Meierhof 61\, Börm\, 24863
ATTACH;FMTTYPE=image/jpeg:https://kropp.de/wp-content/uploads/2025/12/Schuetzenheim_Boerm_geaendert.jpg
END:VEVENT
BEGIN:VEVENT
DTSTART;TZID=Europe/Berlin:20260624T180000
DTEND;TZID=Europe/Berlin:20260624T190000
DTSTAMP:20260424T111349
CREATED:20260108T120455Z
LAST-MODIFIED:20260108T120455Z
UID:10004713-1782324000-1782327600@kropp.de
SUMMARY:Sportschießen: Jugendtraining
DESCRIPTION:
URL:https://kropp.de/veranstaltung/sportschiessen-jugendtraining/2026-06-24/
LOCATION:Schützenheim Börm\, Meierhof 61\, Börm\, 24863
ATTACH;FMTTYPE=image/jpeg:https://kropp.de/wp-content/uploads/2025/12/Schuetzenheim_Boerm_geaendert.jpg
END:VEVENT
BEGIN:VEVENT
DTSTART;TZID=Europe/Berlin:20260701T180000
DTEND;TZID=Europe/Berlin:20260701T190000
DTSTAMP:20260424T111349
CREATED:20260108T120455Z
LAST-MODIFIED:20260108T120455Z
UID:10004714-1782928800-1782932400@kropp.de
SUMMARY:Sportschießen: Jugendtraining
DESCRIPTION:
URL:https://kropp.de/veranstaltung/sportschiessen-jugendtraining/2026-07-01/
LOCATION:Schützenheim Börm\, Meierhof 61\, Börm\, 24863
ATTACH;FMTTYPE=image/jpeg:https://kropp.de/wp-content/uploads/2025/12/Schuetzenheim_Boerm_geaendert.jpg
END:VEVENT
BEGIN:VEVENT
DTSTART;TZID=Europe/Berlin:20260708T180000
DTEND;TZID=Europe/Berlin:20260708T190000
DTSTAMP:20260424T111349
CREATED:20260108T120455Z
LAST-MODIFIED:20260108T120455Z
UID:10004715-1783533600-1783537200@kropp.de
SUMMARY:Sportschießen: Jugendtraining
DESCRIPTION:
URL:https://kropp.de/veranstaltung/sportschiessen-jugendtraining/2026-07-08/
LOCATION:Schützenheim Börm\, Meierhof 61\, Börm\, 24863
ATTACH;FMTTYPE=image/jpeg:https://kropp.de/wp-content/uploads/2025/12/Schuetzenheim_Boerm_geaendert.jpg
END:VEVENT
BEGIN:VEVENT
DTSTART;TZID=Europe/Berlin:20260715T180000
DTEND;TZID=Europe/Berlin:20260715T190000
DTSTAMP:20260424T111349
CREATED:20260108T120455Z
LAST-MODIFIED:20260108T120455Z
UID:10004716-1784138400-1784142000@kropp.de
SUMMARY:Sportschießen: Jugendtraining
DESCRIPTION:
URL:https://kropp.de/veranstaltung/sportschiessen-jugendtraining/2026-07-15/
LOCATION:Schützenheim Börm\, Meierhof 61\, Börm\, 24863
ATTACH;FMTTYPE=image/jpeg:https://kropp.de/wp-content/uploads/2025/12/Schuetzenheim_Boerm_geaendert.jpg
END:VEVENT
BEGIN:VEVENT
DTSTART;TZID=Europe/Berlin:20260722T180000
DTEND;TZID=Europe/Berlin:20260722T190000
DTSTAMP:20260424T111349
CREATED:20260108T120455Z
LAST-MODIFIED:20260108T120455Z
UID:10004717-1784743200-1784746800@kropp.de
SUMMARY:Sportschießen: Jugendtraining
DESCRIPTION:
URL:https://kropp.de/veranstaltung/sportschiessen-jugendtraining/2026-07-22/
LOCATION:Schützenheim Börm\, Meierhof 61\, Börm\, 24863
ATTACH;FMTTYPE=image/jpeg:https://kropp.de/wp-content/uploads/2025/12/Schuetzenheim_Boerm_geaendert.jpg
END:VEVENT
BEGIN:VEVENT
DTSTART;TZID=Europe/Berlin:20260729T180000
DTEND;TZID=Europe/Berlin:20260729T190000
DTSTAMP:20260424T111349
CREATED:20260108T120455Z
LAST-MODIFIED:20260108T120455Z
UID:10004718-1785348000-1785351600@kropp.de
SUMMARY:Sportschießen: Jugendtraining
DESCRIPTION:
URL:https://kropp.de/veranstaltung/sportschiessen-jugendtraining/2026-07-29/
LOCATION:Schützenheim Börm\, Meierhof 61\, Börm\, 24863
ATTACH;FMTTYPE=image/jpeg:https://kropp.de/wp-content/uploads/2025/12/Schuetzenheim_Boerm_geaendert.jpg
END:VEVENT
BEGIN:VEVENT
DTSTART;TZID=Europe/Berlin:20260805T180000
DTEND;TZID=Europe/Berlin:20260805T190000
DTSTAMP:20260424T111349
CREATED:20260108T120455Z
LAST-MODIFIED:20260108T120455Z
UID:10004719-1785952800-1785956400@kropp.de
SUMMARY:Sportschießen: Jugendtraining
DESCRIPTION:
URL:https://kropp.de/veranstaltung/sportschiessen-jugendtraining/2026-08-05/
LOCATION:Schützenheim Börm\, Meierhof 61\, Börm\, 24863
ATTACH;FMTTYPE=image/jpeg:https://kropp.de/wp-content/uploads/2025/12/Schuetzenheim_Boerm_geaendert.jpg
END:VEVENT
BEGIN:VEVENT
DTSTART;TZID=Europe/Berlin:20260812T180000
DTEND;TZID=Europe/Berlin:20260812T190000
DTSTAMP:20260424T111349
CREATED:20260108T120455Z
LAST-MODIFIED:20260108T120455Z
UID:10004720-1786557600-1786561200@kropp.de
SUMMARY:Sportschießen: Jugendtraining
DESCRIPTION:
URL:https://kropp.de/veranstaltung/sportschiessen-jugendtraining/2026-08-12/
LOCATION:Schützenheim Börm\, Meierhof 61\, Börm\, 24863
ATTACH;FMTTYPE=image/jpeg:https://kropp.de/wp-content/uploads/2025/12/Schuetzenheim_Boerm_geaendert.jpg
END:VEVENT
BEGIN:VEVENT
DTSTART;TZID=Europe/Berlin:20260819T180000
DTEND;TZID=Europe/Berlin:20260819T190000
DTSTAMP:20260424T111349
CREATED:20260108T120455Z
LAST-MODIFIED:20260108T120455Z
UID:10004721-1787162400-1787166000@kropp.de
SUMMARY:Sportschießen: Jugendtraining
DESCRIPTION:
URL:https://kropp.de/veranstaltung/sportschiessen-jugendtraining/2026-08-19/
LOCATION:Schützenheim Börm\, Meierhof 61\, Börm\, 24863
ATTACH;FMTTYPE=image/jpeg:https://kropp.de/wp-content/uploads/2025/12/Schuetzenheim_Boerm_geaendert.jpg
END:VEVENT
BEGIN:VEVENT
DTSTART;TZID=Europe/Berlin:20260826T180000
DTEND;TZID=Europe/Berlin:20260826T190000
DTSTAMP:20260424T111349
CREATED:20260108T120455Z
LAST-MODIFIED:20260108T120455Z
UID:10004722-1787767200-1787770800@kropp.de
SUMMARY:Sportschießen: Jugendtraining
DESCRIPTION:
URL:https://kropp.de/veranstaltung/sportschiessen-jugendtraining/2026-08-26/
LOCATION:Schützenheim Börm\, Meierhof 61\, Börm\, 24863
ATTACH;FMTTYPE=image/jpeg:https://kropp.de/wp-content/uploads/2025/12/Schuetzenheim_Boerm_geaendert.jpg
END:VEVENT
BEGIN:VEVENT
DTSTART;TZID=Europe/Berlin:20260902T180000
DTEND;TZID=Europe/Berlin:20260902T190000
DTSTAMP:20260424T111349
CREATED:20260108T120455Z
LAST-MODIFIED:20260108T120455Z
UID:10004723-1788372000-1788375600@kropp.de
SUMMARY:Sportschießen: Jugendtraining
DESCRIPTION:
URL:https://kropp.de/veranstaltung/sportschiessen-jugendtraining/2026-09-02/
LOCATION:Schützenheim Börm\, Meierhof 61\, Börm\, 24863
ATTACH;FMTTYPE=image/jpeg:https://kropp.de/wp-content/uploads/2025/12/Schuetzenheim_Boerm_geaendert.jpg
END:VEVENT
BEGIN:VEVENT
DTSTART;TZID=Europe/Berlin:20260909T180000
DTEND;TZID=Europe/Berlin:20260909T190000
DTSTAMP:20260424T111349
CREATED:20260108T120455Z
LAST-MODIFIED:20260108T120455Z
UID:10004724-1788976800-1788980400@kropp.de
SUMMARY:Sportschießen: Jugendtraining
DESCRIPTION:
URL:https://kropp.de/veranstaltung/sportschiessen-jugendtraining/2026-09-09/
LOCATION:Schützenheim Börm\, Meierhof 61\, Börm\, 24863
ATTACH;FMTTYPE=image/jpeg:https://kropp.de/wp-content/uploads/2025/12/Schuetzenheim_Boerm_geaendert.jpg
END:VEVENT
BEGIN:VEVENT
DTSTART;TZID=Europe/Berlin:20260916T180000
DTEND;TZID=Europe/Berlin:20260916T190000
DTSTAMP:20260424T111349
CREATED:20260108T120455Z
LAST-MODIFIED:20260108T120455Z
UID:10004725-1789581600-1789585200@kropp.de
SUMMARY:Sportschießen: Jugendtraining
DESCRIPTION:
URL:https://kropp.de/veranstaltung/sportschiessen-jugendtraining/2026-09-16/
LOCATION:Schützenheim Börm\, Meierhof 61\, Börm\, 24863
ATTACH;FMTTYPE=image/jpeg:https://kropp.de/wp-content/uploads/2025/12/Schuetzenheim_Boerm_geaendert.jpg
END:VEVENT
BEGIN:VEVENT
DTSTART;TZID=Europe/Berlin:20260923T180000
DTEND;TZID=Europe/Berlin:20260923T190000
DTSTAMP:20260424T111349
CREATED:20260108T120455Z
LAST-MODIFIED:20260108T120455Z
UID:10004726-1790186400-1790190000@kropp.de
SUMMARY:Sportschießen: Jugendtraining
DESCRIPTION:
URL:https://kropp.de/veranstaltung/sportschiessen-jugendtraining/2026-09-23/
LOCATION:Schützenheim Börm\, Meierhof 61\, Börm\, 24863
ATTACH;FMTTYPE=image/jpeg:https://kropp.de/wp-content/uploads/2025/12/Schuetzenheim_Boerm_geaendert.jpg
END:VEVENT
BEGIN:VEVENT
DTSTART;TZID=Europe/Berlin:20260930T180000
DTEND;TZID=Europe/Berlin:20260930T190000
DTSTAMP:20260424T111349
CREATED:20260108T120455Z
LAST-MODIFIED:20260108T120455Z
UID:10004727-1790791200-1790794800@kropp.de
SUMMARY:Sportschießen: Jugendtraining
DESCRIPTION:
URL:https://kropp.de/veranstaltung/sportschiessen-jugendtraining/2026-09-30/
LOCATION:Schützenheim Börm\, Meierhof 61\, Börm\, 24863
ATTACH;FMTTYPE=image/jpeg:https://kropp.de/wp-content/uploads/2025/12/Schuetzenheim_Boerm_geaendert.jpg
END:VEVENT
BEGIN:VEVENT
DTSTART;TZID=Europe/Berlin:20261007T180000
DTEND;TZID=Europe/Berlin:20261007T190000
DTSTAMP:20260424T111349
CREATED:20260108T120455Z
LAST-MODIFIED:20260108T120455Z
UID:10004728-1791396000-1791399600@kropp.de
SUMMARY:Sportschießen: Jugendtraining
DESCRIPTION:
URL:https://kropp.de/veranstaltung/sportschiessen-jugendtraining/2026-10-07/
LOCATION:Schützenheim Börm\, Meierhof 61\, Börm\, 24863
ATTACH;FMTTYPE=image/jpeg:https://kropp.de/wp-content/uploads/2025/12/Schuetzenheim_Boerm_geaendert.jpg
END:VEVENT
BEGIN:VEVENT
DTSTART;TZID=Europe/Berlin:20261014T180000
DTEND;TZID=Europe/Berlin:20261014T190000
DTSTAMP:20260424T111349
CREATED:20260108T120455Z
LAST-MODIFIED:20260108T120455Z
UID:10004729-1792000800-1792004400@kropp.de
SUMMARY:Sportschießen: Jugendtraining
DESCRIPTION:
URL:https://kropp.de/veranstaltung/sportschiessen-jugendtraining/2026-10-14/
LOCATION:Schützenheim Börm\, Meierhof 61\, Börm\, 24863
ATTACH;FMTTYPE=image/jpeg:https://kropp.de/wp-content/uploads/2025/12/Schuetzenheim_Boerm_geaendert.jpg
END:VEVENT
BEGIN:VEVENT
DTSTART;TZID=Europe/Berlin:20261021T180000
DTEND;TZID=Europe/Berlin:20261021T190000
DTSTAMP:20260424T111349
CREATED:20260108T120455Z
LAST-MODIFIED:20260108T120455Z
UID:10004730-1792605600-1792609200@kropp.de
SUMMARY:Sportschießen: Jugendtraining
DESCRIPTION:
URL:https://kropp.de/veranstaltung/sportschiessen-jugendtraining/2026-10-21/
LOCATION:Schützenheim Börm\, Meierhof 61\, Börm\, 24863
ATTACH;FMTTYPE=image/jpeg:https://kropp.de/wp-content/uploads/2025/12/Schuetzenheim_Boerm_geaendert.jpg
END:VEVENT
BEGIN:VEVENT
DTSTART;TZID=Europe/Berlin:20261028T180000
DTEND;TZID=Europe/Berlin:20261028T190000
DTSTAMP:20260424T111349
CREATED:20260108T120455Z
LAST-MODIFIED:20260108T120455Z
UID:10004731-1793210400-1793214000@kropp.de
SUMMARY:Sportschießen: Jugendtraining
DESCRIPTION:
URL:https://kropp.de/veranstaltung/sportschiessen-jugendtraining/2026-10-28/
LOCATION:Schützenheim Börm\, Meierhof 61\, Börm\, 24863
ATTACH;FMTTYPE=image/jpeg:https://kropp.de/wp-content/uploads/2025/12/Schuetzenheim_Boerm_geaendert.jpg
END:VEVENT
BEGIN:VEVENT
DTSTART;TZID=Europe/Berlin:20261104T180000
DTEND;TZID=Europe/Berlin:20261104T190000
DTSTAMP:20260424T111349
CREATED:20260108T120455Z
LAST-MODIFIED:20260108T120455Z
UID:10004732-1793815200-1793818800@kropp.de
SUMMARY:Sportschießen: Jugendtraining
DESCRIPTION:
URL:https://kropp.de/veranstaltung/sportschiessen-jugendtraining/2026-11-04/
LOCATION:Schützenheim Börm\, Meierhof 61\, Börm\, 24863
ATTACH;FMTTYPE=image/jpeg:https://kropp.de/wp-content/uploads/2025/12/Schuetzenheim_Boerm_geaendert.jpg
END:VEVENT
BEGIN:VEVENT
DTSTART;TZID=Europe/Berlin:20261111T180000
DTEND;TZID=Europe/Berlin:20261111T190000
DTSTAMP:20260424T111349
CREATED:20260108T120455Z
LAST-MODIFIED:20260108T120455Z
UID:10004733-1794420000-1794423600@kropp.de
SUMMARY:Sportschießen: Jugendtraining
DESCRIPTION:
URL:https://kropp.de/veranstaltung/sportschiessen-jugendtraining/2026-11-11/
LOCATION:Schützenheim Börm\, Meierhof 61\, Börm\, 24863
ATTACH;FMTTYPE=image/jpeg:https://kropp.de/wp-content/uploads/2025/12/Schuetzenheim_Boerm_geaendert.jpg
END:VEVENT
BEGIN:VEVENT
DTSTART;TZID=Europe/Berlin:20261118T180000
DTEND;TZID=Europe/Berlin:20261118T190000
DTSTAMP:20260424T111349
CREATED:20260108T120455Z
LAST-MODIFIED:20260108T120455Z
UID:10004734-1795024800-1795028400@kropp.de
SUMMARY:Sportschießen: Jugendtraining
DESCRIPTION:
URL:https://kropp.de/veranstaltung/sportschiessen-jugendtraining/2026-11-18/
LOCATION:Schützenheim Börm\, Meierhof 61\, Börm\, 24863
ATTACH;FMTTYPE=image/jpeg:https://kropp.de/wp-content/uploads/2025/12/Schuetzenheim_Boerm_geaendert.jpg
END:VEVENT
END:VCALENDAR