BEGIN:VCALENDAR
VERSION:2.0
PRODID:-//Gemeinde Kropp - ECPv6.15.20//NONSGML v1.0//EN
CALSCALE:GREGORIAN
METHOD:PUBLISH
X-WR-CALNAME:Gemeinde Kropp
X-ORIGINAL-URL:https://kropp.de
X-WR-CALDESC:Veranstaltungen für Gemeinde Kropp
REFRESH-INTERVAL;VALUE=DURATION:PT1H
X-Robots-Tag:noindex
X-PUBLISHED-TTL:PT1H
BEGIN:VTIMEZONE
TZID:Europe/Berlin
BEGIN:DAYLIGHT
TZOFFSETFROM:+0100
TZOFFSETTO:+0200
TZNAME:CEST
DTSTART:20250330T010000
END:DAYLIGHT
BEGIN:STANDARD
TZOFFSETFROM:+0200
TZOFFSETTO:+0100
TZNAME:CET
DTSTART:20251026T010000
END:STANDARD
BEGIN:DAYLIGHT
TZOFFSETFROM:+0100
TZOFFSETTO:+0200
TZNAME:CEST
DTSTART:20260329T010000
END:DAYLIGHT
BEGIN:STANDARD
TZOFFSETFROM:+0200
TZOFFSETTO:+0100
TZNAME:CET
DTSTART:20261025T010000
END:STANDARD
BEGIN:DAYLIGHT
TZOFFSETFROM:+0100
TZOFFSETTO:+0200
TZNAME:CEST
DTSTART:20270328T010000
END:DAYLIGHT
BEGIN:STANDARD
TZOFFSETFROM:+0200
TZOFFSETTO:+0100
TZNAME:CET
DTSTART:20271031T010000
END:STANDARD
END:VTIMEZONE
BEGIN:VEVENT
DTSTART;TZID=Europe/Berlin:20260605T100000
DTEND;TZID=Europe/Berlin:20260605T110000
DTSTAMP:20260421T020437
CREATED:20260108T122354Z
LAST-MODIFIED:20260108T122422Z
UID:10006028-1780653600-1780657200@kropp.de
SUMMARY:Bürgermeistersprechstunde auf dem Wochenmarkt
DESCRIPTION:Bürgermeister Stefan Ploog lädt herzlich zur Bürgermeistersprechstunde auf dem Wochenmarkt ein. In entspannter Atmosphäre freut er sich auf den persönlichen Austausch mit den Bürgerinnen und Bürgern. \nOb konkrete Anliegen\, Fragen oder einfach ein kurzer Plausch – kommen Sie gern vorbei und nutzen Sie die Gelegenheit zum Gespräch.
URL:https://kropp.de/veranstaltung/buergermeistersprechstunde-auf-dem-wochenmarkt-2/2026-06-05/
LOCATION:Wochenmarkt Kropp\, Alter Viehmarkt\, Kropp\, 24848
ATTACH;FMTTYPE=image/jpeg:https://kropp.de/wp-content/uploads/2026/01/Ploog.jpg
ORGANIZER;CN="Gemeinde Kropp":MAILTO:info@amt-ks.de
END:VEVENT
BEGIN:VEVENT
DTSTART;TZID=Europe/Berlin:20260703T100000
DTEND;TZID=Europe/Berlin:20260703T110000
DTSTAMP:20260421T020437
CREATED:20260108T122354Z
LAST-MODIFIED:20260108T122422Z
UID:10006029-1783072800-1783076400@kropp.de
SUMMARY:Bürgermeistersprechstunde auf dem Wochenmarkt
DESCRIPTION:Bürgermeister Stefan Ploog lädt herzlich zur Bürgermeistersprechstunde auf dem Wochenmarkt ein. In entspannter Atmosphäre freut er sich auf den persönlichen Austausch mit den Bürgerinnen und Bürgern. \nOb konkrete Anliegen\, Fragen oder einfach ein kurzer Plausch – kommen Sie gern vorbei und nutzen Sie die Gelegenheit zum Gespräch.
URL:https://kropp.de/veranstaltung/buergermeistersprechstunde-auf-dem-wochenmarkt-2/2026-07-03/
LOCATION:Wochenmarkt Kropp\, Alter Viehmarkt\, Kropp\, 24848
ATTACH;FMTTYPE=image/jpeg:https://kropp.de/wp-content/uploads/2026/01/Ploog.jpg
ORGANIZER;CN="Gemeinde Kropp":MAILTO:info@amt-ks.de
END:VEVENT
BEGIN:VEVENT
DTSTART;TZID=Europe/Berlin:20260807T100000
DTEND;TZID=Europe/Berlin:20260807T110000
DTSTAMP:20260421T020437
CREATED:20260108T122354Z
LAST-MODIFIED:20260108T122422Z
UID:10006030-1786096800-1786100400@kropp.de
SUMMARY:Bürgermeistersprechstunde auf dem Wochenmarkt
DESCRIPTION:Bürgermeister Stefan Ploog lädt herzlich zur Bürgermeistersprechstunde auf dem Wochenmarkt ein. In entspannter Atmosphäre freut er sich auf den persönlichen Austausch mit den Bürgerinnen und Bürgern. \nOb konkrete Anliegen\, Fragen oder einfach ein kurzer Plausch – kommen Sie gern vorbei und nutzen Sie die Gelegenheit zum Gespräch.
URL:https://kropp.de/veranstaltung/buergermeistersprechstunde-auf-dem-wochenmarkt-2/2026-08-07/
LOCATION:Wochenmarkt Kropp\, Alter Viehmarkt\, Kropp\, 24848
ATTACH;FMTTYPE=image/jpeg:https://kropp.de/wp-content/uploads/2026/01/Ploog.jpg
ORGANIZER;CN="Gemeinde Kropp":MAILTO:info@amt-ks.de
END:VEVENT
BEGIN:VEVENT
DTSTART;TZID=Europe/Berlin:20260904T100000
DTEND;TZID=Europe/Berlin:20260904T110000
DTSTAMP:20260421T020437
CREATED:20260108T122354Z
LAST-MODIFIED:20260108T122422Z
UID:10006031-1788516000-1788519600@kropp.de
SUMMARY:Bürgermeistersprechstunde auf dem Wochenmarkt
DESCRIPTION:Bürgermeister Stefan Ploog lädt herzlich zur Bürgermeistersprechstunde auf dem Wochenmarkt ein. In entspannter Atmosphäre freut er sich auf den persönlichen Austausch mit den Bürgerinnen und Bürgern. \nOb konkrete Anliegen\, Fragen oder einfach ein kurzer Plausch – kommen Sie gern vorbei und nutzen Sie die Gelegenheit zum Gespräch.
URL:https://kropp.de/veranstaltung/buergermeistersprechstunde-auf-dem-wochenmarkt-2/2026-09-04/
LOCATION:Wochenmarkt Kropp\, Alter Viehmarkt\, Kropp\, 24848
ATTACH;FMTTYPE=image/jpeg:https://kropp.de/wp-content/uploads/2026/01/Ploog.jpg
ORGANIZER;CN="Gemeinde Kropp":MAILTO:info@amt-ks.de
END:VEVENT
BEGIN:VEVENT
DTSTART;TZID=Europe/Berlin:20261002T100000
DTEND;TZID=Europe/Berlin:20261002T110000
DTSTAMP:20260421T020437
CREATED:20260108T122354Z
LAST-MODIFIED:20260108T122422Z
UID:10006032-1790935200-1790938800@kropp.de
SUMMARY:Bürgermeistersprechstunde auf dem Wochenmarkt
DESCRIPTION:Bürgermeister Stefan Ploog lädt herzlich zur Bürgermeistersprechstunde auf dem Wochenmarkt ein. In entspannter Atmosphäre freut er sich auf den persönlichen Austausch mit den Bürgerinnen und Bürgern. \nOb konkrete Anliegen\, Fragen oder einfach ein kurzer Plausch – kommen Sie gern vorbei und nutzen Sie die Gelegenheit zum Gespräch.
URL:https://kropp.de/veranstaltung/buergermeistersprechstunde-auf-dem-wochenmarkt-2/2026-10-02/
LOCATION:Wochenmarkt Kropp\, Alter Viehmarkt\, Kropp\, 24848
ATTACH;FMTTYPE=image/jpeg:https://kropp.de/wp-content/uploads/2026/01/Ploog.jpg
ORGANIZER;CN="Gemeinde Kropp":MAILTO:info@amt-ks.de
END:VEVENT
END:VCALENDAR