BEGIN:VCALENDAR
VERSION:2.0
PRODID:-//Gemeinde Kropp - ECPv6.15.20//NONSGML v1.0//EN
CALSCALE:GREGORIAN
METHOD:PUBLISH
X-WR-CALNAME:Gemeinde Kropp
X-ORIGINAL-URL:https://kropp.de
X-WR-CALDESC:Veranstaltungen für Gemeinde Kropp
REFRESH-INTERVAL;VALUE=DURATION:PT1H
X-Robots-Tag:noindex
X-PUBLISHED-TTL:PT1H
BEGIN:VTIMEZONE
TZID:Europe/Berlin
BEGIN:DAYLIGHT
TZOFFSETFROM:+0100
TZOFFSETTO:+0200
TZNAME:CEST
DTSTART:20250330T010000
END:DAYLIGHT
BEGIN:STANDARD
TZOFFSETFROM:+0200
TZOFFSETTO:+0100
TZNAME:CET
DTSTART:20251026T010000
END:STANDARD
BEGIN:DAYLIGHT
TZOFFSETFROM:+0100
TZOFFSETTO:+0200
TZNAME:CEST
DTSTART:20260329T010000
END:DAYLIGHT
BEGIN:STANDARD
TZOFFSETFROM:+0200
TZOFFSETTO:+0100
TZNAME:CET
DTSTART:20261025T010000
END:STANDARD
BEGIN:DAYLIGHT
TZOFFSETFROM:+0100
TZOFFSETTO:+0200
TZNAME:CEST
DTSTART:20270328T010000
END:DAYLIGHT
BEGIN:STANDARD
TZOFFSETFROM:+0200
TZOFFSETTO:+0100
TZNAME:CET
DTSTART:20271031T010000
END:STANDARD
END:VTIMEZONE
BEGIN:VEVENT
DTSTART;TZID=Europe/Berlin:20260530T080000
DTEND;TZID=Europe/Berlin:20260530T170000
DTSTAMP:20260421T181652
CREATED:20260219T114307Z
LAST-MODIFIED:20260219T114307Z
UID:10008349-1780128000-1780160400@kropp.de
SUMMARY:Schützenfest Schützengilde Groß Rheide
DESCRIPTION:Ansprechpartner Jan Ohm Tel. 0172/9353481 \nFreitag\, 29.05.2026 Girlande binden \nSamstag\, 30.05.2026  1. Gildetag 12:30 Uhr: Antreten der Gildebrüder \n15:30 Uhr: Eintreffen der Gildeschwestern \nSonntag\, 31.05.2026 Abbauen für alle Gildeschwestern und -brüder
URL:https://kropp.de/veranstaltung/schuetzenfest-schuetzengilde-gross-rheide/2026-05-30/1/
LOCATION:Kulturzentrum Groß Rheide\, Hauptstraße 45\, Groß Rheide\, Schleswig-Holstein\, 24872\, Germany
ATTACH;FMTTYPE=image/png:https://kropp.de/wp-content/uploads/2026/02/Schuetzengilde-Gross-Rheide.png
END:VEVENT
BEGIN:VEVENT
DTSTART;TZID=Europe/Berlin:20260530T123000
DTEND;TZID=Europe/Berlin:20260530T123000
DTSTAMP:20260421T181652
CREATED:20260219T114307Z
LAST-MODIFIED:20260219T114307Z
UID:10008350-1780144200-1780144200@kropp.de
SUMMARY:Schützenfest Schützengilde Groß Rheide
DESCRIPTION:Ansprechpartner Jan Ohm Tel. 0172/9353481 \nFreitag\, 29.05.2026 Girlande binden \nSamstag\, 30.05.2026  1. Gildetag 12:30 Uhr: Antreten der Gildebrüder \n15:30 Uhr: Eintreffen der Gildeschwestern \nSonntag\, 31.05.2026 Abbauen für alle Gildeschwestern und -brüder
URL:https://kropp.de/veranstaltung/schuetzenfest-schuetzengilde-gross-rheide/2026-05-30/2/
LOCATION:Kulturzentrum Groß Rheide\, Hauptstraße 45\, Groß Rheide\, Schleswig-Holstein\, 24872\, Germany
ATTACH;FMTTYPE=image/png:https://kropp.de/wp-content/uploads/2026/02/Schuetzengilde-Gross-Rheide.png
END:VEVENT
END:VCALENDAR