BEGIN:VCALENDAR
VERSION:2.0
PRODID:-//Gemeinde Kropp - ECPv6.15.20//NONSGML v1.0//EN
CALSCALE:GREGORIAN
METHOD:PUBLISH
X-WR-CALNAME:Gemeinde Kropp
X-ORIGINAL-URL:https://kropp.de
X-WR-CALDESC:Veranstaltungen für Gemeinde Kropp
REFRESH-INTERVAL;VALUE=DURATION:PT1H
X-Robots-Tag:noindex
X-PUBLISHED-TTL:PT1H
BEGIN:VTIMEZONE
TZID:Europe/Berlin
BEGIN:DAYLIGHT
TZOFFSETFROM:+0100
TZOFFSETTO:+0200
TZNAME:CEST
DTSTART:20250330T010000
END:DAYLIGHT
BEGIN:STANDARD
TZOFFSETFROM:+0200
TZOFFSETTO:+0100
TZNAME:CET
DTSTART:20251026T010000
END:STANDARD
BEGIN:DAYLIGHT
TZOFFSETFROM:+0100
TZOFFSETTO:+0200
TZNAME:CEST
DTSTART:20260329T010000
END:DAYLIGHT
BEGIN:STANDARD
TZOFFSETFROM:+0200
TZOFFSETTO:+0100
TZNAME:CET
DTSTART:20261025T010000
END:STANDARD
BEGIN:DAYLIGHT
TZOFFSETFROM:+0100
TZOFFSETTO:+0200
TZNAME:CEST
DTSTART:20270328T010000
END:DAYLIGHT
BEGIN:STANDARD
TZOFFSETFROM:+0200
TZOFFSETTO:+0100
TZNAME:CET
DTSTART:20271031T010000
END:STANDARD
BEGIN:DAYLIGHT
TZOFFSETFROM:+0100
TZOFFSETTO:+0200
TZNAME:CEST
DTSTART:20280326T010000
END:DAYLIGHT
BEGIN:STANDARD
TZOFFSETFROM:+0200
TZOFFSETTO:+0100
TZNAME:CET
DTSTART:20281029T010000
END:STANDARD
END:VTIMEZONE
BEGIN:VEVENT
DTSTART;TZID=Europe/Berlin:20260428T143000
DTEND;TZID=Europe/Berlin:20260428T163000
DTSTAMP:20260421T162057
CREATED:20260227T122103Z
LAST-MODIFIED:20260227T122116Z
UID:10008858-1777386600-1777393800@kropp.de
SUMMARY:Handarbeitskreis vom DRK
DESCRIPTION:Die fleißigen Mitglieder des DRK-Handarbeitskreises kommen alle 14 Tage immer Dienstags zusammen. In einer lustigen und aufgeschlossenen Runde wird bei Kaffee und Kuchen gestrickt\, gehäkelt\, gestickt und genäht.
URL:https://kropp.de/veranstaltung/handarbeitskreis-vom-drk-3/
LOCATION:Forum Kropp\, Am Markt 11\, Kropp\, 24848
ATTACH;FMTTYPE=image/jpeg:https://kropp.de/wp-content/uploads/2025/12/Logo-DRK-allgemein.jpg
END:VEVENT
BEGIN:VEVENT
DTSTART;TZID=Europe/Berlin:20260512T143000
DTEND;TZID=Europe/Berlin:20260512T163000
DTSTAMP:20260421T162057
CREATED:20260227T122144Z
LAST-MODIFIED:20260227T122144Z
UID:10008859-1778596200-1778603400@kropp.de
SUMMARY:Handarbeitskreis vom DRK
DESCRIPTION:Die fleißigen Mitglieder des DRK-Handarbeitskreises kommen alle 14 Tage immer Dienstags zusammen. In einer lustigen und aufgeschlossenen Runde wird bei Kaffee und Kuchen gestrickt\, gehäkelt\, gestickt und genäht.
URL:https://kropp.de/veranstaltung/handarbeitskreis-vom-drk-4/2026-05-12/
LOCATION:Forum Kropp\, Am Markt 11\, Kropp\, 24848
ATTACH;FMTTYPE=image/jpeg:https://kropp.de/wp-content/uploads/2025/12/Logo-DRK-allgemein.jpg
END:VEVENT
BEGIN:VEVENT
DTSTART;TZID=Europe/Berlin:20260526T143000
DTEND;TZID=Europe/Berlin:20260526T163000
DTSTAMP:20260421T162057
CREATED:20260227T122144Z
LAST-MODIFIED:20260227T122144Z
UID:10008985-1779805800-1779813000@kropp.de
SUMMARY:Handarbeitskreis vom DRK
DESCRIPTION:Die fleißigen Mitglieder des DRK-Handarbeitskreises kommen alle 14 Tage immer Dienstags zusammen. In einer lustigen und aufgeschlossenen Runde wird bei Kaffee und Kuchen gestrickt\, gehäkelt\, gestickt und genäht.
URL:https://kropp.de/veranstaltung/handarbeitskreis-vom-drk-4/2026-05-26/
LOCATION:Forum Kropp\, Am Markt 11\, Kropp\, 24848
ATTACH;FMTTYPE=image/jpeg:https://kropp.de/wp-content/uploads/2025/12/Logo-DRK-allgemein.jpg
END:VEVENT
BEGIN:VEVENT
DTSTART;TZID=Europe/Berlin:20260609T143000
DTEND;TZID=Europe/Berlin:20260609T163000
DTSTAMP:20260421T162057
CREATED:20260227T122144Z
LAST-MODIFIED:20260227T122144Z
UID:10008986-1781015400-1781022600@kropp.de
SUMMARY:Handarbeitskreis vom DRK
DESCRIPTION:Die fleißigen Mitglieder des DRK-Handarbeitskreises kommen alle 14 Tage immer Dienstags zusammen. In einer lustigen und aufgeschlossenen Runde wird bei Kaffee und Kuchen gestrickt\, gehäkelt\, gestickt und genäht.
URL:https://kropp.de/veranstaltung/handarbeitskreis-vom-drk-4/2026-06-09/
LOCATION:Forum Kropp\, Am Markt 11\, Kropp\, 24848
ATTACH;FMTTYPE=image/jpeg:https://kropp.de/wp-content/uploads/2025/12/Logo-DRK-allgemein.jpg
END:VEVENT
BEGIN:VEVENT
DTSTART;TZID=Europe/Berlin:20260623T143000
DTEND;TZID=Europe/Berlin:20260623T163000
DTSTAMP:20260421T162057
CREATED:20260227T122144Z
LAST-MODIFIED:20260227T122144Z
UID:10008987-1782225000-1782232200@kropp.de
SUMMARY:Handarbeitskreis vom DRK
DESCRIPTION:Die fleißigen Mitglieder des DRK-Handarbeitskreises kommen alle 14 Tage immer Dienstags zusammen. In einer lustigen und aufgeschlossenen Runde wird bei Kaffee und Kuchen gestrickt\, gehäkelt\, gestickt und genäht.
URL:https://kropp.de/veranstaltung/handarbeitskreis-vom-drk-4/2026-06-23/
LOCATION:Forum Kropp\, Am Markt 11\, Kropp\, 24848
ATTACH;FMTTYPE=image/jpeg:https://kropp.de/wp-content/uploads/2025/12/Logo-DRK-allgemein.jpg
END:VEVENT
BEGIN:VEVENT
DTSTART;TZID=Europe/Berlin:20260707T143000
DTEND;TZID=Europe/Berlin:20260707T163000
DTSTAMP:20260421T162057
CREATED:20260227T122144Z
LAST-MODIFIED:20260227T122144Z
UID:10008988-1783434600-1783441800@kropp.de
SUMMARY:Handarbeitskreis vom DRK
DESCRIPTION:Die fleißigen Mitglieder des DRK-Handarbeitskreises kommen alle 14 Tage immer Dienstags zusammen. In einer lustigen und aufgeschlossenen Runde wird bei Kaffee und Kuchen gestrickt\, gehäkelt\, gestickt und genäht.
URL:https://kropp.de/veranstaltung/handarbeitskreis-vom-drk-4/2026-07-07/
LOCATION:Forum Kropp\, Am Markt 11\, Kropp\, 24848
ATTACH;FMTTYPE=image/jpeg:https://kropp.de/wp-content/uploads/2025/12/Logo-DRK-allgemein.jpg
END:VEVENT
BEGIN:VEVENT
DTSTART;TZID=Europe/Berlin:20260721T143000
DTEND;TZID=Europe/Berlin:20260721T163000
DTSTAMP:20260421T162057
CREATED:20260227T122144Z
LAST-MODIFIED:20260227T122144Z
UID:10008989-1784644200-1784651400@kropp.de
SUMMARY:Handarbeitskreis vom DRK
DESCRIPTION:Die fleißigen Mitglieder des DRK-Handarbeitskreises kommen alle 14 Tage immer Dienstags zusammen. In einer lustigen und aufgeschlossenen Runde wird bei Kaffee und Kuchen gestrickt\, gehäkelt\, gestickt und genäht.
URL:https://kropp.de/veranstaltung/handarbeitskreis-vom-drk-4/2026-07-21/
LOCATION:Forum Kropp\, Am Markt 11\, Kropp\, 24848
ATTACH;FMTTYPE=image/jpeg:https://kropp.de/wp-content/uploads/2025/12/Logo-DRK-allgemein.jpg
END:VEVENT
BEGIN:VEVENT
DTSTART;TZID=Europe/Berlin:20260811T143000
DTEND;TZID=Europe/Berlin:20260811T163000
DTSTAMP:20260421T162057
CREATED:20260227T122235Z
LAST-MODIFIED:20260227T122235Z
UID:10008990-1786458600-1786465800@kropp.de
SUMMARY:Handarbeitskreis vom DRK
DESCRIPTION:Die fleißigen Mitglieder des DRK-Handarbeitskreises kommen alle 14 Tage immer Dienstags zusammen. In einer lustigen und aufgeschlossenen Runde wird bei Kaffee und Kuchen gestrickt\, gehäkelt\, gestickt und genäht.
URL:https://kropp.de/veranstaltung/handarbeitskreis-vom-drk-4-2/2026-08-11/
LOCATION:Forum Kropp\, Am Markt 11\, Kropp\, 24848
ATTACH;FMTTYPE=image/jpeg:https://kropp.de/wp-content/uploads/2025/12/Logo-DRK-allgemein.jpg
END:VEVENT
BEGIN:VEVENT
DTSTART;TZID=Europe/Berlin:20260825T143000
DTEND;TZID=Europe/Berlin:20260825T163000
DTSTAMP:20260421T162057
CREATED:20260227T122235Z
LAST-MODIFIED:20260227T122235Z
UID:10009110-1787668200-1787675400@kropp.de
SUMMARY:Handarbeitskreis vom DRK
DESCRIPTION:Die fleißigen Mitglieder des DRK-Handarbeitskreises kommen alle 14 Tage immer Dienstags zusammen. In einer lustigen und aufgeschlossenen Runde wird bei Kaffee und Kuchen gestrickt\, gehäkelt\, gestickt und genäht.
URL:https://kropp.de/veranstaltung/handarbeitskreis-vom-drk-4-2/2026-08-25/
LOCATION:Forum Kropp\, Am Markt 11\, Kropp\, 24848
ATTACH;FMTTYPE=image/jpeg:https://kropp.de/wp-content/uploads/2025/12/Logo-DRK-allgemein.jpg
END:VEVENT
BEGIN:VEVENT
DTSTART;TZID=Europe/Berlin:20260908T143000
DTEND;TZID=Europe/Berlin:20260908T163000
DTSTAMP:20260421T162057
CREATED:20260227T122235Z
LAST-MODIFIED:20260227T122235Z
UID:10009111-1788877800-1788885000@kropp.de
SUMMARY:Handarbeitskreis vom DRK
DESCRIPTION:Die fleißigen Mitglieder des DRK-Handarbeitskreises kommen alle 14 Tage immer Dienstags zusammen. In einer lustigen und aufgeschlossenen Runde wird bei Kaffee und Kuchen gestrickt\, gehäkelt\, gestickt und genäht.
URL:https://kropp.de/veranstaltung/handarbeitskreis-vom-drk-4-2/2026-09-08/
LOCATION:Forum Kropp\, Am Markt 11\, Kropp\, 24848
ATTACH;FMTTYPE=image/jpeg:https://kropp.de/wp-content/uploads/2025/12/Logo-DRK-allgemein.jpg
END:VEVENT
BEGIN:VEVENT
DTSTART;TZID=Europe/Berlin:20260922T143000
DTEND;TZID=Europe/Berlin:20260922T163000
DTSTAMP:20260421T162057
CREATED:20260227T122235Z
LAST-MODIFIED:20260227T122235Z
UID:10009112-1790087400-1790094600@kropp.de
SUMMARY:Handarbeitskreis vom DRK
DESCRIPTION:Die fleißigen Mitglieder des DRK-Handarbeitskreises kommen alle 14 Tage immer Dienstags zusammen. In einer lustigen und aufgeschlossenen Runde wird bei Kaffee und Kuchen gestrickt\, gehäkelt\, gestickt und genäht.
URL:https://kropp.de/veranstaltung/handarbeitskreis-vom-drk-4-2/2026-09-22/
LOCATION:Forum Kropp\, Am Markt 11\, Kropp\, 24848
ATTACH;FMTTYPE=image/jpeg:https://kropp.de/wp-content/uploads/2025/12/Logo-DRK-allgemein.jpg
END:VEVENT
BEGIN:VEVENT
DTSTART;TZID=Europe/Berlin:20261013T143000
DTEND;TZID=Europe/Berlin:20261013T163000
DTSTAMP:20260421T162057
CREATED:20260227T122310Z
LAST-MODIFIED:20260227T122310Z
UID:10009113-1791901800-1791909000@kropp.de
SUMMARY:Handarbeitskreis vom DRK
DESCRIPTION:Die fleißigen Mitglieder des DRK-Handarbeitskreises kommen alle 14 Tage immer Dienstags zusammen. In einer lustigen und aufgeschlossenen Runde wird bei Kaffee und Kuchen gestrickt\, gehäkelt\, gestickt und genäht.
URL:https://kropp.de/veranstaltung/handarbeitskreis-vom-drk-4-2-2/2026-10-13/
LOCATION:Forum Kropp\, Am Markt 11\, Kropp\, 24848
ATTACH;FMTTYPE=image/jpeg:https://kropp.de/wp-content/uploads/2025/12/Logo-DRK-allgemein.jpg
END:VEVENT
BEGIN:VEVENT
DTSTART;TZID=Europe/Berlin:20261027T143000
DTEND;TZID=Europe/Berlin:20261027T163000
DTSTAMP:20260421T162057
CREATED:20260227T122310Z
LAST-MODIFIED:20260227T122310Z
UID:10009228-1793111400-1793118600@kropp.de
SUMMARY:Handarbeitskreis vom DRK
DESCRIPTION:Die fleißigen Mitglieder des DRK-Handarbeitskreises kommen alle 14 Tage immer Dienstags zusammen. In einer lustigen und aufgeschlossenen Runde wird bei Kaffee und Kuchen gestrickt\, gehäkelt\, gestickt und genäht.
URL:https://kropp.de/veranstaltung/handarbeitskreis-vom-drk-4-2-2/2026-10-27/
LOCATION:Forum Kropp\, Am Markt 11\, Kropp\, 24848
ATTACH;FMTTYPE=image/jpeg:https://kropp.de/wp-content/uploads/2025/12/Logo-DRK-allgemein.jpg
END:VEVENT
BEGIN:VEVENT
DTSTART;TZID=Europe/Berlin:20261124T143000
DTEND;TZID=Europe/Berlin:20261124T163000
DTSTAMP:20260421T162057
CREATED:20260227T122310Z
LAST-MODIFIED:20260227T122310Z
UID:10009230-1795530600-1795537800@kropp.de
SUMMARY:Handarbeitskreis vom DRK
DESCRIPTION:Die fleißigen Mitglieder des DRK-Handarbeitskreises kommen alle 14 Tage immer Dienstags zusammen. In einer lustigen und aufgeschlossenen Runde wird bei Kaffee und Kuchen gestrickt\, gehäkelt\, gestickt und genäht.
URL:https://kropp.de/veranstaltung/handarbeitskreis-vom-drk-4-2-2/2026-11-24/
LOCATION:Forum Kropp\, Am Markt 11\, Kropp\, 24848
ATTACH;FMTTYPE=image/jpeg:https://kropp.de/wp-content/uploads/2025/12/Logo-DRK-allgemein.jpg
END:VEVENT
BEGIN:VEVENT
DTSTART;TZID=Europe/Berlin:20261208T143000
DTEND;TZID=Europe/Berlin:20261208T163000
DTSTAMP:20260421T162057
CREATED:20260227T122310Z
LAST-MODIFIED:20260227T122310Z
UID:10009231-1796740200-1796747400@kropp.de
SUMMARY:Handarbeitskreis vom DRK
DESCRIPTION:Die fleißigen Mitglieder des DRK-Handarbeitskreises kommen alle 14 Tage immer Dienstags zusammen. In einer lustigen und aufgeschlossenen Runde wird bei Kaffee und Kuchen gestrickt\, gehäkelt\, gestickt und genäht.
URL:https://kropp.de/veranstaltung/handarbeitskreis-vom-drk-4-2-2/2026-12-08/
LOCATION:Forum Kropp\, Am Markt 11\, Kropp\, 24848
ATTACH;FMTTYPE=image/jpeg:https://kropp.de/wp-content/uploads/2025/12/Logo-DRK-allgemein.jpg
END:VEVENT
BEGIN:VEVENT
DTSTART;TZID=Europe/Berlin:20261222T143000
DTEND;TZID=Europe/Berlin:20261222T163000
DTSTAMP:20260421T162057
CREATED:20260227T122310Z
LAST-MODIFIED:20260227T122310Z
UID:10009232-1797949800-1797957000@kropp.de
SUMMARY:Handarbeitskreis vom DRK
DESCRIPTION:Die fleißigen Mitglieder des DRK-Handarbeitskreises kommen alle 14 Tage immer Dienstags zusammen. In einer lustigen und aufgeschlossenen Runde wird bei Kaffee und Kuchen gestrickt\, gehäkelt\, gestickt und genäht.
URL:https://kropp.de/veranstaltung/handarbeitskreis-vom-drk-4-2-2/2026-12-22/
LOCATION:Forum Kropp\, Am Markt 11\, Kropp\, 24848
ATTACH;FMTTYPE=image/jpeg:https://kropp.de/wp-content/uploads/2025/12/Logo-DRK-allgemein.jpg
END:VEVENT
BEGIN:VEVENT
DTSTART;TZID=Europe/Berlin:20270105T143000
DTEND;TZID=Europe/Berlin:20270105T163000
DTSTAMP:20260421T162057
CREATED:20260227T122310Z
LAST-MODIFIED:20260227T122310Z
UID:10009233-1799159400-1799166600@kropp.de
SUMMARY:Handarbeitskreis vom DRK
DESCRIPTION:Die fleißigen Mitglieder des DRK-Handarbeitskreises kommen alle 14 Tage immer Dienstags zusammen. In einer lustigen und aufgeschlossenen Runde wird bei Kaffee und Kuchen gestrickt\, gehäkelt\, gestickt und genäht.
URL:https://kropp.de/veranstaltung/handarbeitskreis-vom-drk-4-2-2/2027-01-05/
LOCATION:Forum Kropp\, Am Markt 11\, Kropp\, 24848
ATTACH;FMTTYPE=image/jpeg:https://kropp.de/wp-content/uploads/2025/12/Logo-DRK-allgemein.jpg
END:VEVENT
BEGIN:VEVENT
DTSTART;TZID=Europe/Berlin:20270119T143000
DTEND;TZID=Europe/Berlin:20270119T163000
DTSTAMP:20260421T162057
CREATED:20260227T122310Z
LAST-MODIFIED:20260227T122310Z
UID:10009234-1800369000-1800376200@kropp.de
SUMMARY:Handarbeitskreis vom DRK
DESCRIPTION:Die fleißigen Mitglieder des DRK-Handarbeitskreises kommen alle 14 Tage immer Dienstags zusammen. In einer lustigen und aufgeschlossenen Runde wird bei Kaffee und Kuchen gestrickt\, gehäkelt\, gestickt und genäht.
URL:https://kropp.de/veranstaltung/handarbeitskreis-vom-drk-4-2-2/2027-01-19/
LOCATION:Forum Kropp\, Am Markt 11\, Kropp\, 24848
ATTACH;FMTTYPE=image/jpeg:https://kropp.de/wp-content/uploads/2025/12/Logo-DRK-allgemein.jpg
END:VEVENT
BEGIN:VEVENT
DTSTART;TZID=Europe/Berlin:20270202T143000
DTEND;TZID=Europe/Berlin:20270202T163000
DTSTAMP:20260421T162057
CREATED:20260227T122310Z
LAST-MODIFIED:20260227T122310Z
UID:10009235-1801578600-1801585800@kropp.de
SUMMARY:Handarbeitskreis vom DRK
DESCRIPTION:Die fleißigen Mitglieder des DRK-Handarbeitskreises kommen alle 14 Tage immer Dienstags zusammen. In einer lustigen und aufgeschlossenen Runde wird bei Kaffee und Kuchen gestrickt\, gehäkelt\, gestickt und genäht.
URL:https://kropp.de/veranstaltung/handarbeitskreis-vom-drk-4-2-2/2027-02-02/
LOCATION:Forum Kropp\, Am Markt 11\, Kropp\, 24848
ATTACH;FMTTYPE=image/jpeg:https://kropp.de/wp-content/uploads/2025/12/Logo-DRK-allgemein.jpg
END:VEVENT
BEGIN:VEVENT
DTSTART;TZID=Europe/Berlin:20270216T143000
DTEND;TZID=Europe/Berlin:20270216T163000
DTSTAMP:20260421T162057
CREATED:20260227T122310Z
LAST-MODIFIED:20260227T122310Z
UID:10009236-1802788200-1802795400@kropp.de
SUMMARY:Handarbeitskreis vom DRK
DESCRIPTION:Die fleißigen Mitglieder des DRK-Handarbeitskreises kommen alle 14 Tage immer Dienstags zusammen. In einer lustigen und aufgeschlossenen Runde wird bei Kaffee und Kuchen gestrickt\, gehäkelt\, gestickt und genäht.
URL:https://kropp.de/veranstaltung/handarbeitskreis-vom-drk-4-2-2/2027-02-16/
LOCATION:Forum Kropp\, Am Markt 11\, Kropp\, 24848
ATTACH;FMTTYPE=image/jpeg:https://kropp.de/wp-content/uploads/2025/12/Logo-DRK-allgemein.jpg
END:VEVENT
BEGIN:VEVENT
DTSTART;TZID=Europe/Berlin:20270302T143000
DTEND;TZID=Europe/Berlin:20270302T163000
DTSTAMP:20260421T162057
CREATED:20260227T122310Z
LAST-MODIFIED:20260227T122310Z
UID:10009237-1803997800-1804005000@kropp.de
SUMMARY:Handarbeitskreis vom DRK
DESCRIPTION:Die fleißigen Mitglieder des DRK-Handarbeitskreises kommen alle 14 Tage immer Dienstags zusammen. In einer lustigen und aufgeschlossenen Runde wird bei Kaffee und Kuchen gestrickt\, gehäkelt\, gestickt und genäht.
URL:https://kropp.de/veranstaltung/handarbeitskreis-vom-drk-4-2-2/2027-03-02/
LOCATION:Forum Kropp\, Am Markt 11\, Kropp\, 24848
ATTACH;FMTTYPE=image/jpeg:https://kropp.de/wp-content/uploads/2025/12/Logo-DRK-allgemein.jpg
END:VEVENT
BEGIN:VEVENT
DTSTART;TZID=Europe/Berlin:20270316T143000
DTEND;TZID=Europe/Berlin:20270316T163000
DTSTAMP:20260421T162057
CREATED:20260227T122310Z
LAST-MODIFIED:20260227T122310Z
UID:10009238-1805207400-1805214600@kropp.de
SUMMARY:Handarbeitskreis vom DRK
DESCRIPTION:Die fleißigen Mitglieder des DRK-Handarbeitskreises kommen alle 14 Tage immer Dienstags zusammen. In einer lustigen und aufgeschlossenen Runde wird bei Kaffee und Kuchen gestrickt\, gehäkelt\, gestickt und genäht.
URL:https://kropp.de/veranstaltung/handarbeitskreis-vom-drk-4-2-2/2027-03-16/
LOCATION:Forum Kropp\, Am Markt 11\, Kropp\, 24848
ATTACH;FMTTYPE=image/jpeg:https://kropp.de/wp-content/uploads/2025/12/Logo-DRK-allgemein.jpg
END:VEVENT
BEGIN:VEVENT
DTSTART;TZID=Europe/Berlin:20270330T143000
DTEND;TZID=Europe/Berlin:20270330T163000
DTSTAMP:20260421T162057
CREATED:20260227T122310Z
LAST-MODIFIED:20260227T122310Z
UID:10009239-1806417000-1806424200@kropp.de
SUMMARY:Handarbeitskreis vom DRK
DESCRIPTION:Die fleißigen Mitglieder des DRK-Handarbeitskreises kommen alle 14 Tage immer Dienstags zusammen. In einer lustigen und aufgeschlossenen Runde wird bei Kaffee und Kuchen gestrickt\, gehäkelt\, gestickt und genäht.
URL:https://kropp.de/veranstaltung/handarbeitskreis-vom-drk-4-2-2/2027-03-30/
LOCATION:Forum Kropp\, Am Markt 11\, Kropp\, 24848
ATTACH;FMTTYPE=image/jpeg:https://kropp.de/wp-content/uploads/2025/12/Logo-DRK-allgemein.jpg
END:VEVENT
BEGIN:VEVENT
DTSTART;TZID=Europe/Berlin:20270413T143000
DTEND;TZID=Europe/Berlin:20270413T163000
DTSTAMP:20260421T162057
CREATED:20260227T122310Z
LAST-MODIFIED:20260227T122310Z
UID:10009240-1807626600-1807633800@kropp.de
SUMMARY:Handarbeitskreis vom DRK
DESCRIPTION:Die fleißigen Mitglieder des DRK-Handarbeitskreises kommen alle 14 Tage immer Dienstags zusammen. In einer lustigen und aufgeschlossenen Runde wird bei Kaffee und Kuchen gestrickt\, gehäkelt\, gestickt und genäht.
URL:https://kropp.de/veranstaltung/handarbeitskreis-vom-drk-4-2-2/2027-04-13/
LOCATION:Forum Kropp\, Am Markt 11\, Kropp\, 24848
ATTACH;FMTTYPE=image/jpeg:https://kropp.de/wp-content/uploads/2025/12/Logo-DRK-allgemein.jpg
END:VEVENT
BEGIN:VEVENT
DTSTART;TZID=Europe/Berlin:20270427T143000
DTEND;TZID=Europe/Berlin:20270427T163000
DTSTAMP:20260421T162057
CREATED:20260227T122310Z
LAST-MODIFIED:20260227T122310Z
UID:10009241-1808836200-1808843400@kropp.de
SUMMARY:Handarbeitskreis vom DRK
DESCRIPTION:Die fleißigen Mitglieder des DRK-Handarbeitskreises kommen alle 14 Tage immer Dienstags zusammen. In einer lustigen und aufgeschlossenen Runde wird bei Kaffee und Kuchen gestrickt\, gehäkelt\, gestickt und genäht.
URL:https://kropp.de/veranstaltung/handarbeitskreis-vom-drk-4-2-2/2027-04-27/
LOCATION:Forum Kropp\, Am Markt 11\, Kropp\, 24848
ATTACH;FMTTYPE=image/jpeg:https://kropp.de/wp-content/uploads/2025/12/Logo-DRK-allgemein.jpg
END:VEVENT
BEGIN:VEVENT
DTSTART;TZID=Europe/Berlin:20270511T143000
DTEND;TZID=Europe/Berlin:20270511T163000
DTSTAMP:20260421T162057
CREATED:20260227T122310Z
LAST-MODIFIED:20260227T122310Z
UID:10009242-1810045800-1810053000@kropp.de
SUMMARY:Handarbeitskreis vom DRK
DESCRIPTION:Die fleißigen Mitglieder des DRK-Handarbeitskreises kommen alle 14 Tage immer Dienstags zusammen. In einer lustigen und aufgeschlossenen Runde wird bei Kaffee und Kuchen gestrickt\, gehäkelt\, gestickt und genäht.
URL:https://kropp.de/veranstaltung/handarbeitskreis-vom-drk-4-2-2/2027-05-11/
LOCATION:Forum Kropp\, Am Markt 11\, Kropp\, 24848
ATTACH;FMTTYPE=image/jpeg:https://kropp.de/wp-content/uploads/2025/12/Logo-DRK-allgemein.jpg
END:VEVENT
BEGIN:VEVENT
DTSTART;TZID=Europe/Berlin:20270525T143000
DTEND;TZID=Europe/Berlin:20270525T163000
DTSTAMP:20260421T162057
CREATED:20260227T122310Z
LAST-MODIFIED:20260227T122310Z
UID:10009243-1811255400-1811262600@kropp.de
SUMMARY:Handarbeitskreis vom DRK
DESCRIPTION:Die fleißigen Mitglieder des DRK-Handarbeitskreises kommen alle 14 Tage immer Dienstags zusammen. In einer lustigen und aufgeschlossenen Runde wird bei Kaffee und Kuchen gestrickt\, gehäkelt\, gestickt und genäht.
URL:https://kropp.de/veranstaltung/handarbeitskreis-vom-drk-4-2-2/2027-05-25/
LOCATION:Forum Kropp\, Am Markt 11\, Kropp\, 24848
ATTACH;FMTTYPE=image/jpeg:https://kropp.de/wp-content/uploads/2025/12/Logo-DRK-allgemein.jpg
END:VEVENT
BEGIN:VEVENT
DTSTART;TZID=Europe/Berlin:20270608T143000
DTEND;TZID=Europe/Berlin:20270608T163000
DTSTAMP:20260421T162057
CREATED:20260227T122310Z
LAST-MODIFIED:20260227T122310Z
UID:10009244-1812465000-1812472200@kropp.de
SUMMARY:Handarbeitskreis vom DRK
DESCRIPTION:Die fleißigen Mitglieder des DRK-Handarbeitskreises kommen alle 14 Tage immer Dienstags zusammen. In einer lustigen und aufgeschlossenen Runde wird bei Kaffee und Kuchen gestrickt\, gehäkelt\, gestickt und genäht.
URL:https://kropp.de/veranstaltung/handarbeitskreis-vom-drk-4-2-2/2027-06-08/
LOCATION:Forum Kropp\, Am Markt 11\, Kropp\, 24848
ATTACH;FMTTYPE=image/jpeg:https://kropp.de/wp-content/uploads/2025/12/Logo-DRK-allgemein.jpg
END:VEVENT
BEGIN:VEVENT
DTSTART;TZID=Europe/Berlin:20270622T143000
DTEND;TZID=Europe/Berlin:20270622T163000
DTSTAMP:20260421T162057
CREATED:20260227T122310Z
LAST-MODIFIED:20260227T122310Z
UID:10009245-1813674600-1813681800@kropp.de
SUMMARY:Handarbeitskreis vom DRK
DESCRIPTION:Die fleißigen Mitglieder des DRK-Handarbeitskreises kommen alle 14 Tage immer Dienstags zusammen. In einer lustigen und aufgeschlossenen Runde wird bei Kaffee und Kuchen gestrickt\, gehäkelt\, gestickt und genäht.
URL:https://kropp.de/veranstaltung/handarbeitskreis-vom-drk-4-2-2/2027-06-22/
LOCATION:Forum Kropp\, Am Markt 11\, Kropp\, 24848
ATTACH;FMTTYPE=image/jpeg:https://kropp.de/wp-content/uploads/2025/12/Logo-DRK-allgemein.jpg
END:VEVENT
BEGIN:VEVENT
DTSTART;TZID=Europe/Berlin:20270706T143000
DTEND;TZID=Europe/Berlin:20270706T163000
DTSTAMP:20260421T162057
CREATED:20260227T122310Z
LAST-MODIFIED:20260227T122310Z
UID:10009246-1814884200-1814891400@kropp.de
SUMMARY:Handarbeitskreis vom DRK
DESCRIPTION:Die fleißigen Mitglieder des DRK-Handarbeitskreises kommen alle 14 Tage immer Dienstags zusammen. In einer lustigen und aufgeschlossenen Runde wird bei Kaffee und Kuchen gestrickt\, gehäkelt\, gestickt und genäht.
URL:https://kropp.de/veranstaltung/handarbeitskreis-vom-drk-4-2-2/2027-07-06/
LOCATION:Forum Kropp\, Am Markt 11\, Kropp\, 24848
ATTACH;FMTTYPE=image/jpeg:https://kropp.de/wp-content/uploads/2025/12/Logo-DRK-allgemein.jpg
END:VEVENT
END:VCALENDAR