BEGIN:VCALENDAR
VERSION:2.0
PRODID:-//Gemeinde Kropp - ECPv6.15.20//NONSGML v1.0//EN
CALSCALE:GREGORIAN
METHOD:PUBLISH
X-WR-CALNAME:Gemeinde Kropp
X-ORIGINAL-URL:https://kropp.de
X-WR-CALDESC:Veranstaltungen für Gemeinde Kropp
REFRESH-INTERVAL;VALUE=DURATION:PT1H
X-Robots-Tag:noindex
X-PUBLISHED-TTL:PT1H
BEGIN:VTIMEZONE
TZID:Europe/Berlin
BEGIN:DAYLIGHT
TZOFFSETFROM:+0100
TZOFFSETTO:+0200
TZNAME:CEST
DTSTART:20250330T010000
END:DAYLIGHT
BEGIN:STANDARD
TZOFFSETFROM:+0200
TZOFFSETTO:+0100
TZNAME:CET
DTSTART:20251026T010000
END:STANDARD
BEGIN:DAYLIGHT
TZOFFSETFROM:+0100
TZOFFSETTO:+0200
TZNAME:CEST
DTSTART:20260329T010000
END:DAYLIGHT
BEGIN:STANDARD
TZOFFSETFROM:+0200
TZOFFSETTO:+0100
TZNAME:CET
DTSTART:20261025T010000
END:STANDARD
BEGIN:DAYLIGHT
TZOFFSETFROM:+0100
TZOFFSETTO:+0200
TZNAME:CEST
DTSTART:20270328T010000
END:DAYLIGHT
BEGIN:STANDARD
TZOFFSETFROM:+0200
TZOFFSETTO:+0100
TZNAME:CET
DTSTART:20271031T010000
END:STANDARD
BEGIN:DAYLIGHT
TZOFFSETFROM:+0100
TZOFFSETTO:+0200
TZNAME:CEST
DTSTART:20280326T010000
END:DAYLIGHT
BEGIN:STANDARD
TZOFFSETFROM:+0200
TZOFFSETTO:+0100
TZNAME:CET
DTSTART:20281029T010000
END:STANDARD
BEGIN:DAYLIGHT
TZOFFSETFROM:+0100
TZOFFSETTO:+0200
TZNAME:CEST
DTSTART:20290325T010000
END:DAYLIGHT
BEGIN:STANDARD
TZOFFSETFROM:+0200
TZOFFSETTO:+0100
TZNAME:CET
DTSTART:20291028T010000
END:STANDARD
END:VTIMEZONE
BEGIN:VEVENT
DTSTART;TZID=Europe/Berlin:20260513T143000
DTEND;TZID=Europe/Berlin:20260513T143000
DTSTAMP:20260423T222126
CREATED:20260324T111730Z
LAST-MODIFIED:20260324T111730Z
UID:10009567-1778682600-1778682600@kropp.de
SUMMARY:Seniorenclub "Harmonie" - Zusammenkunft
DESCRIPTION:
URL:https://kropp.de/veranstaltung/seniorenclub-harmonie-zusammenkunft/2026-05-13/
LOCATION:Dörpstreff Börm\, Dorfstraße 21\, Börm\, 24863\, Germany
ATTACH;FMTTYPE=image/jpeg:https://kropp.de/wp-content/uploads/2025/09/Amt-147.jpg
END:VEVENT
BEGIN:VEVENT
DTSTART;TZID=Europe/Berlin:20260610T143000
DTEND;TZID=Europe/Berlin:20260610T143000
DTSTAMP:20260423T222126
CREATED:20260324T111730Z
LAST-MODIFIED:20260324T111730Z
UID:10009568-1781101800-1781101800@kropp.de
SUMMARY:Seniorenclub "Harmonie" - Zusammenkunft
DESCRIPTION:
URL:https://kropp.de/veranstaltung/seniorenclub-harmonie-zusammenkunft/2026-06-10/
LOCATION:Dörpstreff Börm\, Dorfstraße 21\, Börm\, 24863\, Germany
ATTACH;FMTTYPE=image/jpeg:https://kropp.de/wp-content/uploads/2025/09/Amt-147.jpg
END:VEVENT
BEGIN:VEVENT
DTSTART;TZID=Europe/Berlin:20260812T143000
DTEND;TZID=Europe/Berlin:20260812T143000
DTSTAMP:20260423T222126
CREATED:20260324T111730Z
LAST-MODIFIED:20260324T111730Z
UID:10009569-1786545000-1786545000@kropp.de
SUMMARY:Seniorenclub "Harmonie" - Zusammenkunft
DESCRIPTION:
URL:https://kropp.de/veranstaltung/seniorenclub-harmonie-zusammenkunft/2026-08-12/
LOCATION:Dörpstreff Börm\, Dorfstraße 21\, Börm\, 24863\, Germany
ATTACH;FMTTYPE=image/jpeg:https://kropp.de/wp-content/uploads/2025/09/Amt-147.jpg
END:VEVENT
BEGIN:VEVENT
DTSTART;TZID=Europe/Berlin:20260909T143000
DTEND;TZID=Europe/Berlin:20260909T143000
DTSTAMP:20260423T222126
CREATED:20260324T111730Z
LAST-MODIFIED:20260324T111730Z
UID:10009570-1788964200-1788964200@kropp.de
SUMMARY:Seniorenclub "Harmonie" - Zusammenkunft
DESCRIPTION:
URL:https://kropp.de/veranstaltung/seniorenclub-harmonie-zusammenkunft/2026-09-09/
LOCATION:Dörpstreff Börm\, Dorfstraße 21\, Börm\, 24863\, Germany
ATTACH;FMTTYPE=image/jpeg:https://kropp.de/wp-content/uploads/2025/09/Amt-147.jpg
END:VEVENT
BEGIN:VEVENT
DTSTART;TZID=Europe/Berlin:20261014T143000
DTEND;TZID=Europe/Berlin:20261014T143000
DTSTAMP:20260423T222126
CREATED:20260324T111730Z
LAST-MODIFIED:20260324T111730Z
UID:10009571-1791988200-1791988200@kropp.de
SUMMARY:Seniorenclub "Harmonie" - Zusammenkunft
DESCRIPTION:
URL:https://kropp.de/veranstaltung/seniorenclub-harmonie-zusammenkunft/2026-10-14/
LOCATION:Dörpstreff Börm\, Dorfstraße 21\, Börm\, 24863\, Germany
ATTACH;FMTTYPE=image/jpeg:https://kropp.de/wp-content/uploads/2025/09/Amt-147.jpg
END:VEVENT
BEGIN:VEVENT
DTSTART;TZID=Europe/Berlin:20261111T143000
DTEND;TZID=Europe/Berlin:20261111T143000
DTSTAMP:20260423T222126
CREATED:20260324T111730Z
LAST-MODIFIED:20260324T111730Z
UID:10009572-1794407400-1794407400@kropp.de
SUMMARY:Seniorenclub "Harmonie" - Zusammenkunft
DESCRIPTION:
URL:https://kropp.de/veranstaltung/seniorenclub-harmonie-zusammenkunft/2026-11-11/
LOCATION:Dörpstreff Börm\, Dorfstraße 21\, Börm\, 24863\, Germany
ATTACH;FMTTYPE=image/jpeg:https://kropp.de/wp-content/uploads/2025/09/Amt-147.jpg
END:VEVENT
BEGIN:VEVENT
DTSTART;TZID=Europe/Berlin:20261209T143000
DTEND;TZID=Europe/Berlin:20261209T143000
DTSTAMP:20260423T222126
CREATED:20260324T111730Z
LAST-MODIFIED:20260324T111730Z
UID:10009573-1796826600-1796826600@kropp.de
SUMMARY:Seniorenclub "Harmonie" - Zusammenkunft
DESCRIPTION:
URL:https://kropp.de/veranstaltung/seniorenclub-harmonie-zusammenkunft/2026-12-09/
LOCATION:Dörpstreff Börm\, Dorfstraße 21\, Börm\, 24863\, Germany
ATTACH;FMTTYPE=image/jpeg:https://kropp.de/wp-content/uploads/2025/09/Amt-147.jpg
END:VEVENT
BEGIN:VEVENT
DTSTART;TZID=Europe/Berlin:20270113T143000
DTEND;TZID=Europe/Berlin:20270113T143000
DTSTAMP:20260423T222126
CREATED:20260324T111730Z
LAST-MODIFIED:20260324T111730Z
UID:10009574-1799850600-1799850600@kropp.de
SUMMARY:Seniorenclub "Harmonie" - Zusammenkunft
DESCRIPTION:
URL:https://kropp.de/veranstaltung/seniorenclub-harmonie-zusammenkunft/2027-01-13/
LOCATION:Dörpstreff Börm\, Dorfstraße 21\, Börm\, 24863\, Germany
ATTACH;FMTTYPE=image/jpeg:https://kropp.de/wp-content/uploads/2025/09/Amt-147.jpg
END:VEVENT
BEGIN:VEVENT
DTSTART;TZID=Europe/Berlin:20270210T143000
DTEND;TZID=Europe/Berlin:20270210T143000
DTSTAMP:20260423T222126
CREATED:20260324T111730Z
LAST-MODIFIED:20260324T111730Z
UID:10009575-1802269800-1802269800@kropp.de
SUMMARY:Seniorenclub "Harmonie" - Zusammenkunft
DESCRIPTION:
URL:https://kropp.de/veranstaltung/seniorenclub-harmonie-zusammenkunft/2027-02-10/
LOCATION:Dörpstreff Börm\, Dorfstraße 21\, Börm\, 24863\, Germany
ATTACH;FMTTYPE=image/jpeg:https://kropp.de/wp-content/uploads/2025/09/Amt-147.jpg
END:VEVENT
BEGIN:VEVENT
DTSTART;TZID=Europe/Berlin:20270310T143000
DTEND;TZID=Europe/Berlin:20270310T143000
DTSTAMP:20260423T222126
CREATED:20260324T111730Z
LAST-MODIFIED:20260324T111730Z
UID:10009576-1804689000-1804689000@kropp.de
SUMMARY:Seniorenclub "Harmonie" - Zusammenkunft
DESCRIPTION:
URL:https://kropp.de/veranstaltung/seniorenclub-harmonie-zusammenkunft/2027-03-10/
LOCATION:Dörpstreff Börm\, Dorfstraße 21\, Börm\, 24863\, Germany
ATTACH;FMTTYPE=image/jpeg:https://kropp.de/wp-content/uploads/2025/09/Amt-147.jpg
END:VEVENT
BEGIN:VEVENT
DTSTART;TZID=Europe/Berlin:20270414T143000
DTEND;TZID=Europe/Berlin:20270414T143000
DTSTAMP:20260423T222126
CREATED:20260324T111730Z
LAST-MODIFIED:20260324T111730Z
UID:10009577-1807713000-1807713000@kropp.de
SUMMARY:Seniorenclub "Harmonie" - Zusammenkunft
DESCRIPTION:
URL:https://kropp.de/veranstaltung/seniorenclub-harmonie-zusammenkunft/2027-04-14/
LOCATION:Dörpstreff Börm\, Dorfstraße 21\, Börm\, 24863\, Germany
ATTACH;FMTTYPE=image/jpeg:https://kropp.de/wp-content/uploads/2025/09/Amt-147.jpg
END:VEVENT
BEGIN:VEVENT
DTSTART;TZID=Europe/Berlin:20270512T143000
DTEND;TZID=Europe/Berlin:20270512T143000
DTSTAMP:20260423T222126
CREATED:20260324T111730Z
LAST-MODIFIED:20260324T111730Z
UID:10009578-1810132200-1810132200@kropp.de
SUMMARY:Seniorenclub "Harmonie" - Zusammenkunft
DESCRIPTION:
URL:https://kropp.de/veranstaltung/seniorenclub-harmonie-zusammenkunft/2027-05-12/
LOCATION:Dörpstreff Börm\, Dorfstraße 21\, Börm\, 24863\, Germany
ATTACH;FMTTYPE=image/jpeg:https://kropp.de/wp-content/uploads/2025/09/Amt-147.jpg
END:VEVENT
BEGIN:VEVENT
DTSTART;TZID=Europe/Berlin:20270609T143000
DTEND;TZID=Europe/Berlin:20270609T143000
DTSTAMP:20260423T222126
CREATED:20260324T111730Z
LAST-MODIFIED:20260324T111730Z
UID:10009579-1812551400-1812551400@kropp.de
SUMMARY:Seniorenclub "Harmonie" - Zusammenkunft
DESCRIPTION:
URL:https://kropp.de/veranstaltung/seniorenclub-harmonie-zusammenkunft/2027-06-09/
LOCATION:Dörpstreff Börm\, Dorfstraße 21\, Börm\, 24863\, Germany
ATTACH;FMTTYPE=image/jpeg:https://kropp.de/wp-content/uploads/2025/09/Amt-147.jpg
END:VEVENT
BEGIN:VEVENT
DTSTART;TZID=Europe/Berlin:20270714T143000
DTEND;TZID=Europe/Berlin:20270714T143000
DTSTAMP:20260423T222126
CREATED:20260324T111730Z
LAST-MODIFIED:20260324T111730Z
UID:10009580-1815575400-1815575400@kropp.de
SUMMARY:Seniorenclub "Harmonie" - Zusammenkunft
DESCRIPTION:
URL:https://kropp.de/veranstaltung/seniorenclub-harmonie-zusammenkunft/2027-07-14/
LOCATION:Dörpstreff Börm\, Dorfstraße 21\, Börm\, 24863\, Germany
ATTACH;FMTTYPE=image/jpeg:https://kropp.de/wp-content/uploads/2025/09/Amt-147.jpg
END:VEVENT
BEGIN:VEVENT
DTSTART;TZID=Europe/Berlin:20270811T143000
DTEND;TZID=Europe/Berlin:20270811T143000
DTSTAMP:20260423T222127
CREATED:20260324T111730Z
LAST-MODIFIED:20260324T111730Z
UID:10009581-1817994600-1817994600@kropp.de
SUMMARY:Seniorenclub "Harmonie" - Zusammenkunft
DESCRIPTION:
URL:https://kropp.de/veranstaltung/seniorenclub-harmonie-zusammenkunft/2027-08-11/
LOCATION:Dörpstreff Börm\, Dorfstraße 21\, Börm\, 24863\, Germany
ATTACH;FMTTYPE=image/jpeg:https://kropp.de/wp-content/uploads/2025/09/Amt-147.jpg
END:VEVENT
BEGIN:VEVENT
DTSTART;TZID=Europe/Berlin:20270908T143000
DTEND;TZID=Europe/Berlin:20270908T143000
DTSTAMP:20260423T222127
CREATED:20260324T111730Z
LAST-MODIFIED:20260324T111730Z
UID:10009582-1820413800-1820413800@kropp.de
SUMMARY:Seniorenclub "Harmonie" - Zusammenkunft
DESCRIPTION:
URL:https://kropp.de/veranstaltung/seniorenclub-harmonie-zusammenkunft/2027-09-08/
LOCATION:Dörpstreff Börm\, Dorfstraße 21\, Börm\, 24863\, Germany
ATTACH;FMTTYPE=image/jpeg:https://kropp.de/wp-content/uploads/2025/09/Amt-147.jpg
END:VEVENT
BEGIN:VEVENT
DTSTART;TZID=Europe/Berlin:20271013T143000
DTEND;TZID=Europe/Berlin:20271013T143000
DTSTAMP:20260423T222127
CREATED:20260324T111730Z
LAST-MODIFIED:20260324T111730Z
UID:10009583-1823437800-1823437800@kropp.de
SUMMARY:Seniorenclub "Harmonie" - Zusammenkunft
DESCRIPTION:
URL:https://kropp.de/veranstaltung/seniorenclub-harmonie-zusammenkunft/2027-10-13/
LOCATION:Dörpstreff Börm\, Dorfstraße 21\, Börm\, 24863\, Germany
ATTACH;FMTTYPE=image/jpeg:https://kropp.de/wp-content/uploads/2025/09/Amt-147.jpg
END:VEVENT
BEGIN:VEVENT
DTSTART;TZID=Europe/Berlin:20271110T143000
DTEND;TZID=Europe/Berlin:20271110T143000
DTSTAMP:20260423T222127
CREATED:20260324T111730Z
LAST-MODIFIED:20260324T111730Z
UID:10009584-1825857000-1825857000@kropp.de
SUMMARY:Seniorenclub "Harmonie" - Zusammenkunft
DESCRIPTION:
URL:https://kropp.de/veranstaltung/seniorenclub-harmonie-zusammenkunft/2027-11-10/
LOCATION:Dörpstreff Börm\, Dorfstraße 21\, Börm\, 24863\, Germany
ATTACH;FMTTYPE=image/jpeg:https://kropp.de/wp-content/uploads/2025/09/Amt-147.jpg
END:VEVENT
BEGIN:VEVENT
DTSTART;TZID=Europe/Berlin:20271208T143000
DTEND;TZID=Europe/Berlin:20271208T143000
DTSTAMP:20260423T222127
CREATED:20260324T111730Z
LAST-MODIFIED:20260324T111730Z
UID:10009585-1828276200-1828276200@kropp.de
SUMMARY:Seniorenclub "Harmonie" - Zusammenkunft
DESCRIPTION:
URL:https://kropp.de/veranstaltung/seniorenclub-harmonie-zusammenkunft/2027-12-08/
LOCATION:Dörpstreff Börm\, Dorfstraße 21\, Börm\, 24863\, Germany
ATTACH;FMTTYPE=image/jpeg:https://kropp.de/wp-content/uploads/2025/09/Amt-147.jpg
END:VEVENT
BEGIN:VEVENT
DTSTART;TZID=Europe/Berlin:20280112T143000
DTEND;TZID=Europe/Berlin:20280112T143000
DTSTAMP:20260423T222127
CREATED:20260324T111730Z
LAST-MODIFIED:20260324T111730Z
UID:10009586-1831300200-1831300200@kropp.de
SUMMARY:Seniorenclub "Harmonie" - Zusammenkunft
DESCRIPTION:
URL:https://kropp.de/veranstaltung/seniorenclub-harmonie-zusammenkunft/2028-01-12/
LOCATION:Dörpstreff Börm\, Dorfstraße 21\, Börm\, 24863\, Germany
ATTACH;FMTTYPE=image/jpeg:https://kropp.de/wp-content/uploads/2025/09/Amt-147.jpg
END:VEVENT
BEGIN:VEVENT
DTSTART;TZID=Europe/Berlin:20280209T143000
DTEND;TZID=Europe/Berlin:20280209T143000
DTSTAMP:20260423T222127
CREATED:20260324T111730Z
LAST-MODIFIED:20260324T111730Z
UID:10009587-1833719400-1833719400@kropp.de
SUMMARY:Seniorenclub "Harmonie" - Zusammenkunft
DESCRIPTION:
URL:https://kropp.de/veranstaltung/seniorenclub-harmonie-zusammenkunft/2028-02-09/
LOCATION:Dörpstreff Börm\, Dorfstraße 21\, Börm\, 24863\, Germany
ATTACH;FMTTYPE=image/jpeg:https://kropp.de/wp-content/uploads/2025/09/Amt-147.jpg
END:VEVENT
BEGIN:VEVENT
DTSTART;TZID=Europe/Berlin:20280308T143000
DTEND;TZID=Europe/Berlin:20280308T143000
DTSTAMP:20260423T222127
CREATED:20260324T111730Z
LAST-MODIFIED:20260324T111730Z
UID:10009588-1836138600-1836138600@kropp.de
SUMMARY:Seniorenclub "Harmonie" - Zusammenkunft
DESCRIPTION:
URL:https://kropp.de/veranstaltung/seniorenclub-harmonie-zusammenkunft/2028-03-08/
LOCATION:Dörpstreff Börm\, Dorfstraße 21\, Börm\, 24863\, Germany
ATTACH;FMTTYPE=image/jpeg:https://kropp.de/wp-content/uploads/2025/09/Amt-147.jpg
END:VEVENT
BEGIN:VEVENT
DTSTART;TZID=Europe/Berlin:20280412T143000
DTEND;TZID=Europe/Berlin:20280412T143000
DTSTAMP:20260423T222127
CREATED:20260324T111730Z
LAST-MODIFIED:20260324T111730Z
UID:10009589-1839162600-1839162600@kropp.de
SUMMARY:Seniorenclub "Harmonie" - Zusammenkunft
DESCRIPTION:
URL:https://kropp.de/veranstaltung/seniorenclub-harmonie-zusammenkunft/2028-04-12/
LOCATION:Dörpstreff Börm\, Dorfstraße 21\, Börm\, 24863\, Germany
ATTACH;FMTTYPE=image/jpeg:https://kropp.de/wp-content/uploads/2025/09/Amt-147.jpg
END:VEVENT
BEGIN:VEVENT
DTSTART;TZID=Europe/Berlin:20280510T143000
DTEND;TZID=Europe/Berlin:20280510T143000
DTSTAMP:20260423T222127
CREATED:20260324T111730Z
LAST-MODIFIED:20260324T111730Z
UID:10009590-1841581800-1841581800@kropp.de
SUMMARY:Seniorenclub "Harmonie" - Zusammenkunft
DESCRIPTION:
URL:https://kropp.de/veranstaltung/seniorenclub-harmonie-zusammenkunft/2028-05-10/
LOCATION:Dörpstreff Börm\, Dorfstraße 21\, Börm\, 24863\, Germany
ATTACH;FMTTYPE=image/jpeg:https://kropp.de/wp-content/uploads/2025/09/Amt-147.jpg
END:VEVENT
BEGIN:VEVENT
DTSTART;TZID=Europe/Berlin:20280614T143000
DTEND;TZID=Europe/Berlin:20280614T143000
DTSTAMP:20260423T222127
CREATED:20260324T111730Z
LAST-MODIFIED:20260324T111730Z
UID:10009591-1844605800-1844605800@kropp.de
SUMMARY:Seniorenclub "Harmonie" - Zusammenkunft
DESCRIPTION:
URL:https://kropp.de/veranstaltung/seniorenclub-harmonie-zusammenkunft/2028-06-14/
LOCATION:Dörpstreff Börm\, Dorfstraße 21\, Börm\, 24863\, Germany
ATTACH;FMTTYPE=image/jpeg:https://kropp.de/wp-content/uploads/2025/09/Amt-147.jpg
END:VEVENT
BEGIN:VEVENT
DTSTART;TZID=Europe/Berlin:20280712T143000
DTEND;TZID=Europe/Berlin:20280712T143000
DTSTAMP:20260423T222127
CREATED:20260324T111730Z
LAST-MODIFIED:20260324T111730Z
UID:10009592-1847025000-1847025000@kropp.de
SUMMARY:Seniorenclub "Harmonie" - Zusammenkunft
DESCRIPTION:
URL:https://kropp.de/veranstaltung/seniorenclub-harmonie-zusammenkunft/2028-07-12/
LOCATION:Dörpstreff Börm\, Dorfstraße 21\, Börm\, 24863\, Germany
ATTACH;FMTTYPE=image/jpeg:https://kropp.de/wp-content/uploads/2025/09/Amt-147.jpg
END:VEVENT
BEGIN:VEVENT
DTSTART;TZID=Europe/Berlin:20280809T143000
DTEND;TZID=Europe/Berlin:20280809T143000
DTSTAMP:20260423T222127
CREATED:20260324T111730Z
LAST-MODIFIED:20260324T111730Z
UID:10009593-1849444200-1849444200@kropp.de
SUMMARY:Seniorenclub "Harmonie" - Zusammenkunft
DESCRIPTION:
URL:https://kropp.de/veranstaltung/seniorenclub-harmonie-zusammenkunft/2028-08-09/
LOCATION:Dörpstreff Börm\, Dorfstraße 21\, Börm\, 24863\, Germany
ATTACH;FMTTYPE=image/jpeg:https://kropp.de/wp-content/uploads/2025/09/Amt-147.jpg
END:VEVENT
BEGIN:VEVENT
DTSTART;TZID=Europe/Berlin:20280913T143000
DTEND;TZID=Europe/Berlin:20280913T143000
DTSTAMP:20260423T222127
CREATED:20260324T111730Z
LAST-MODIFIED:20260324T111730Z
UID:10009594-1852468200-1852468200@kropp.de
SUMMARY:Seniorenclub "Harmonie" - Zusammenkunft
DESCRIPTION:
URL:https://kropp.de/veranstaltung/seniorenclub-harmonie-zusammenkunft/2028-09-13/
LOCATION:Dörpstreff Börm\, Dorfstraße 21\, Börm\, 24863\, Germany
ATTACH;FMTTYPE=image/jpeg:https://kropp.de/wp-content/uploads/2025/09/Amt-147.jpg
END:VEVENT
BEGIN:VEVENT
DTSTART;TZID=Europe/Berlin:20281011T143000
DTEND;TZID=Europe/Berlin:20281011T143000
DTSTAMP:20260423T222127
CREATED:20260324T111730Z
LAST-MODIFIED:20260324T111730Z
UID:10009595-1854887400-1854887400@kropp.de
SUMMARY:Seniorenclub "Harmonie" - Zusammenkunft
DESCRIPTION:
URL:https://kropp.de/veranstaltung/seniorenclub-harmonie-zusammenkunft/2028-10-11/
LOCATION:Dörpstreff Börm\, Dorfstraße 21\, Börm\, 24863\, Germany
ATTACH;FMTTYPE=image/jpeg:https://kropp.de/wp-content/uploads/2025/09/Amt-147.jpg
END:VEVENT
BEGIN:VEVENT
DTSTART;TZID=Europe/Berlin:20281108T143000
DTEND;TZID=Europe/Berlin:20281108T143000
DTSTAMP:20260423T222127
CREATED:20260324T111730Z
LAST-MODIFIED:20260324T111730Z
UID:10009596-1857306600-1857306600@kropp.de
SUMMARY:Seniorenclub "Harmonie" - Zusammenkunft
DESCRIPTION:
URL:https://kropp.de/veranstaltung/seniorenclub-harmonie-zusammenkunft/2028-11-08/
LOCATION:Dörpstreff Börm\, Dorfstraße 21\, Börm\, 24863\, Germany
ATTACH;FMTTYPE=image/jpeg:https://kropp.de/wp-content/uploads/2025/09/Amt-147.jpg
END:VEVENT
END:VCALENDAR