BEGIN:VCALENDAR
VERSION:2.0
PRODID:-//Gemeinde Kropp - ECPv6.15.20//NONSGML v1.0//EN
CALSCALE:GREGORIAN
METHOD:PUBLISH
X-WR-CALNAME:Gemeinde Kropp
X-ORIGINAL-URL:https://kropp.de
X-WR-CALDESC:Veranstaltungen für Gemeinde Kropp
REFRESH-INTERVAL;VALUE=DURATION:PT1H
X-Robots-Tag:noindex
X-PUBLISHED-TTL:PT1H
BEGIN:VTIMEZONE
TZID:Europe/Berlin
BEGIN:DAYLIGHT
TZOFFSETFROM:+0100
TZOFFSETTO:+0200
TZNAME:CEST
DTSTART:20250330T010000
END:DAYLIGHT
BEGIN:STANDARD
TZOFFSETFROM:+0200
TZOFFSETTO:+0100
TZNAME:CET
DTSTART:20251026T010000
END:STANDARD
BEGIN:DAYLIGHT
TZOFFSETFROM:+0100
TZOFFSETTO:+0200
TZNAME:CEST
DTSTART:20260329T010000
END:DAYLIGHT
BEGIN:STANDARD
TZOFFSETFROM:+0200
TZOFFSETTO:+0100
TZNAME:CET
DTSTART:20261025T010000
END:STANDARD
BEGIN:DAYLIGHT
TZOFFSETFROM:+0100
TZOFFSETTO:+0200
TZNAME:CEST
DTSTART:20270328T010000
END:DAYLIGHT
BEGIN:STANDARD
TZOFFSETFROM:+0200
TZOFFSETTO:+0100
TZNAME:CET
DTSTART:20271031T010000
END:STANDARD
END:VTIMEZONE
BEGIN:VEVENT
DTSTART;TZID=Europe/Berlin:20260422T090000
DTEND;TZID=Europe/Berlin:20260422T090000
DTSTAMP:20260422T035011
CREATED:20251113T133814Z
LAST-MODIFIED:20251118T113303Z
UID:10001338-1776848400-1776848400@kropp.de
SUMMARY:Familienfrühstück im Familienzentrum
DESCRIPTION:Das kostenlose Angebot richtet sich an Schwangere und Eltern mit ihren Kindern bis 3 Jahre. Gemeinsam und in geselliger Runde frühstücken wir zusammen.\nUm Anmeldung wird gebeten.
URL:https://kropp.de/veranstaltung/familienfruehstueck-im-familienzentrum/2026-04-22/
LOCATION:Familienzentrum Kropp\, Poststraße 2a\, Kropp\, 24848\, Germany
ATTACH;FMTTYPE=image/png:https://kropp.de/wp-content/uploads/2025/11/Plakat_Familienfruehstueck.png
ORGANIZER;CN="Familienzentrum Kropp":MAILTO:florenzen@schutzengel-flensburg.de
END:VEVENT
BEGIN:VEVENT
DTSTART;TZID=Europe/Berlin:20260422T100000
DTEND;TZID=Europe/Berlin:20260422T110000
DTSTAMP:20260422T035011
CREATED:20251114T125321Z
LAST-MODIFIED:20251114T125321Z
UID:10002241-1776852000-1776855600@kropp.de
SUMMARY:Hebammen-Sprechstunde im Familienzentrum
DESCRIPTION:Die Sprechstunde mit Familienhebamme Tina Kroll ist ein kostenloses Angebot für Schwangere sowie Familien mit Kindern im ersten Lebensjahr. Anmeldung wünschenswert.
URL:https://kropp.de/veranstaltung/hebammen-sprechstunde-im-familienzentrum/2026-04-22/
LOCATION:Familienzentrum Kropp\, Poststraße 2a\, Kropp\, 24848\, Germany
ATTACH;FMTTYPE=image/png:https://kropp.de/wp-content/uploads/2025/11/Plakat_Hebemmensprechstunde.png
ORGANIZER;CN="Familienzentrum Kropp":MAILTO:florenzen@schutzengel-flensburg.de
END:VEVENT
BEGIN:VEVENT
DTSTART;TZID=Europe/Berlin:20260422T150000
DTEND;TZID=Europe/Berlin:20260422T160000
DTSTAMP:20260422T035011
CREATED:20260210T095338Z
LAST-MODIFIED:20260210T095338Z
UID:10007682-1776870000-1776873600@kropp.de
SUMMARY:Kindertreff Klein Bennebek
DESCRIPTION:Alle Kinder\, ab der ersten Klasse sind herzlich eingeladen – zum Spielen\, Basteln\, Malen u.v.m. Eine Vorabanmeldung ist nicht nötig. Kommt einfach vorbei. Bitte habt immer einen Euro parat\, falls Materialkosten anfallen sollten.
URL:https://kropp.de/veranstaltung/kindertreff-klein-bennebek/2026-04-22/
LOCATION:Alte Schule Klein Bennebek\, Dorfstraße 38\, Klein Bennebek\, 24848
ATTACH;FMTTYPE=image/jpeg:https://kropp.de/wp-content/uploads/2026/02/Kinder-_und_Jugendtreff.jpg
ORGANIZER;CN="Gemeinde Kropp":MAILTO:info@amt-ks.de
END:VEVENT
BEGIN:VEVENT
DTSTART;TZID=Europe/Berlin:20260422T150000
DTEND;TZID=Europe/Berlin:20260422T180000
DTSTAMP:20260422T035011
CREATED:20260127T083341Z
LAST-MODIFIED:20260127T083341Z
UID:10006731-1776870000-1776880800@kropp.de
SUMMARY:Wir informieren uns bei der Feuerwehr - LFV Kropp u.U. e.V.
DESCRIPTION:Der Nachmittag beginnt um 15:00 Uhr  mit einem gemeinsamen Kaffee trinken.  \nDanach erhalten wir einen Einblick in die Arbeit der Feuerwehr. \nAnmeldung bei Karen Brommann H: 0172-80 36 35 3 
URL:https://kropp.de/veranstaltung/wir-informieren-uns-bei-der-feuerwehr-lfv-kropp-u-u-e-v/
LOCATION:Freiwillige Feuerwehr Kropp\, Am Rettungszentrum\, Möhlensoll 1\, Kropp\, 24848\, Germany
ATTACH;FMTTYPE=image/png:https://kropp.de/wp-content/uploads/2025/12/LandFrauenVerein_Kropp.png
END:VEVENT
BEGIN:VEVENT
DTSTART;TZID=Europe/Berlin:20260422T153000
DTEND;TZID=Europe/Berlin:20260422T173000
DTSTAMP:20260422T035011
CREATED:20260323T133945Z
LAST-MODIFIED:20260420T135445Z
UID:10009558-1776871800-1776879000@kropp.de
SUMMARY:Kirche Kropp: Gruppenstunde für Wühlmäuse von 6-7 Jahren
DESCRIPTION:
URL:https://kropp.de/veranstaltung/kirche-kropp-gruppenstunde-fuer-wuehlmaeuse-von-6-7-jahren-2/
CATEGORIES:Kirche
END:VEVENT
BEGIN:VEVENT
DTSTART;TZID=Europe/Berlin:20260422T180000
DTEND;TZID=Europe/Berlin:20260422T190000
DTSTAMP:20260422T035011
CREATED:20260108T120455Z
LAST-MODIFIED:20260108T120455Z
UID:10004704-1776880800-1776884400@kropp.de
SUMMARY:Sportschießen: Jugendtraining
DESCRIPTION:
URL:https://kropp.de/veranstaltung/sportschiessen-jugendtraining/2026-04-22/
LOCATION:Schützenheim Börm\, Meierhof 61\, Börm\, 24863
ATTACH;FMTTYPE=image/jpeg:https://kropp.de/wp-content/uploads/2025/12/Schuetzenheim_Boerm_geaendert.jpg
END:VEVENT
BEGIN:VEVENT
DTSTART;TZID=Europe/Berlin:20260422T183000
DTEND;TZID=Europe/Berlin:20260422T193000
DTSTAMP:20260422T035011
CREATED:20260108T120402Z
LAST-MODIFIED:20260108T120402Z
UID:10005226-1776882600-1776886200@kropp.de
SUMMARY:Fitness  1. Gruppe
DESCRIPTION:
URL:https://kropp.de/veranstaltung/fitness-1-gruppe/2026-04-22/
LOCATION:Sporthalle Groß Rheide\, Hauptstraße 45\, Groß Rheide\, 24872\, Germany
ATTACH;FMTTYPE=image/jpeg:https://kropp.de/wp-content/uploads/2025/11/Gross_Rheide-Sporthalle.jpg
END:VEVENT
BEGIN:VEVENT
DTSTART;TZID=Europe/Berlin:20260422T193000
DTEND;TZID=Europe/Berlin:20260422T210000
DTSTAMP:20260422T035011
CREATED:20260108T120247Z
LAST-MODIFIED:20260108T120247Z
UID:10005748-1776886200-1776891600@kropp.de
SUMMARY:Fußballtraining der Herren
DESCRIPTION:
URL:https://kropp.de/veranstaltung/fussballtraining-der-herren/2026-04-22/
LOCATION:Sportplatz Börm
ATTACH;FMTTYPE=image/jpeg:https://kropp.de/wp-content/uploads/2025/11/Fussballplatz.jpg
END:VEVENT
BEGIN:VEVENT
DTSTART;TZID=Europe/Berlin:20260422T193000
DTEND;TZID=Europe/Berlin:20260422T220000
DTSTAMP:20260422T035011
CREATED:20260108T120429Z
LAST-MODIFIED:20260108T120429Z
UID:10004965-1776886200-1776895200@kropp.de
SUMMARY:Sportschießen: Erwachsenentraining
DESCRIPTION:
URL:https://kropp.de/veranstaltung/sportschiessen-erwachsenentraining/2026-04-22/
LOCATION:Schützenheim Börm\, Meierhof 61\, Börm\, 24863
ATTACH;FMTTYPE=image/jpeg:https://kropp.de/wp-content/uploads/2025/12/Schuetzenheim_Boerm_geaendert.jpg
END:VEVENT
BEGIN:VEVENT
DTSTART;TZID=Europe/Berlin:20260422T194500
DTEND;TZID=Europe/Berlin:20260422T204500
DTSTAMP:20260422T035011
CREATED:20260108T120328Z
LAST-MODIFIED:20260108T120328Z
UID:10005487-1776887100-1776890700@kropp.de
SUMMARY:Fitness  2. Gruppe
DESCRIPTION:
URL:https://kropp.de/veranstaltung/fitness-2-gruppe/2026-04-22/
LOCATION:Sporthalle Groß Rheide\, Hauptstraße 45\, Groß Rheide\, 24872\, Germany
ATTACH;FMTTYPE=image/jpeg:https://kropp.de/wp-content/uploads/2025/11/Gross_Rheide-Sporthalle.jpg
END:VEVENT
END:VCALENDAR