BEGIN:VCALENDAR
VERSION:2.0
PRODID:-//Gemeinde Kropp - ECPv6.15.20//NONSGML v1.0//EN
CALSCALE:GREGORIAN
METHOD:PUBLISH
X-ORIGINAL-URL:https://kropp.de
X-WR-CALDESC:Veranstaltungen für Gemeinde Kropp
REFRESH-INTERVAL;VALUE=DURATION:PT1H
X-Robots-Tag:noindex
X-PUBLISHED-TTL:PT1H
BEGIN:VTIMEZONE
TZID:Europe/Berlin
BEGIN:DAYLIGHT
TZOFFSETFROM:+0100
TZOFFSETTO:+0200
TZNAME:CEST
DTSTART:20250330T010000
END:DAYLIGHT
BEGIN:STANDARD
TZOFFSETFROM:+0200
TZOFFSETTO:+0100
TZNAME:CET
DTSTART:20251026T010000
END:STANDARD
BEGIN:DAYLIGHT
TZOFFSETFROM:+0100
TZOFFSETTO:+0200
TZNAME:CEST
DTSTART:20260329T010000
END:DAYLIGHT
BEGIN:STANDARD
TZOFFSETFROM:+0200
TZOFFSETTO:+0100
TZNAME:CET
DTSTART:20261025T010000
END:STANDARD
BEGIN:DAYLIGHT
TZOFFSETFROM:+0100
TZOFFSETTO:+0200
TZNAME:CEST
DTSTART:20270328T010000
END:DAYLIGHT
BEGIN:STANDARD
TZOFFSETFROM:+0200
TZOFFSETTO:+0100
TZNAME:CET
DTSTART:20271031T010000
END:STANDARD
END:VTIMEZONE
BEGIN:VEVENT
DTSTART;TZID=Europe/Berlin:20260429T143000
DTEND;TZID=Europe/Berlin:20260429T170000
DTSTAMP:20260423T200814
CREATED:20260318T114543Z
LAST-MODIFIED:20260318T114543Z
UID:10009543-1777473000-1777482000@kropp.de
SUMMARY:Einladung zum Spaziergang
DESCRIPTION:“ Geschichte und Geschichten“ in Kropp \nKommen Sie mit auf einen geführten Spaziergang mit dem ehemaligen“ AWO Wanderfreund“ Peter Voß. \nWir spazieren ca. 60 Minuten durch den Westen des Ortes Kropp. \nDer Spaziergang endet im Forum bei einer Tasse Tee oder Kaffee und Keksen mit einem gemütlichen Beisammensein. \nMaria Gohlke liest kurze Geschichten. \nWir freuen uns auf Sie!
URL:https://kropp.de/veranstaltung/einladung-zum-spaziergang/
LOCATION:Forum Kropp\, Am Markt 11\, Kropp\, 24848
ATTACH;FMTTYPE=image/jpeg:https://kropp.de/wp-content/uploads/2026/03/peaceful-forest-trail-with-people-walking-in-nanjing-showcasing-lush-greenery-and-tranquility.-20775142-scaled.jpg
END:VEVENT
END:VCALENDAR