BEGIN:VCALENDAR
VERSION:2.0
PRODID:-//Gemeinde Kropp - ECPv6.15.20//NONSGML v1.0//EN
CALSCALE:GREGORIAN
METHOD:PUBLISH
X-WR-CALNAME:Gemeinde Kropp
X-ORIGINAL-URL:https://kropp.de
X-WR-CALDESC:Veranstaltungen für Gemeinde Kropp
REFRESH-INTERVAL;VALUE=DURATION:PT1H
X-Robots-Tag:noindex
X-PUBLISHED-TTL:PT1H
BEGIN:VTIMEZONE
TZID:Europe/Berlin
BEGIN:DAYLIGHT
TZOFFSETFROM:+0100
TZOFFSETTO:+0200
TZNAME:CEST
DTSTART:20250330T010000
END:DAYLIGHT
BEGIN:STANDARD
TZOFFSETFROM:+0200
TZOFFSETTO:+0100
TZNAME:CET
DTSTART:20251026T010000
END:STANDARD
BEGIN:DAYLIGHT
TZOFFSETFROM:+0100
TZOFFSETTO:+0200
TZNAME:CEST
DTSTART:20260329T010000
END:DAYLIGHT
BEGIN:STANDARD
TZOFFSETFROM:+0200
TZOFFSETTO:+0100
TZNAME:CET
DTSTART:20261025T010000
END:STANDARD
BEGIN:DAYLIGHT
TZOFFSETFROM:+0100
TZOFFSETTO:+0200
TZNAME:CEST
DTSTART:20270328T010000
END:DAYLIGHT
BEGIN:STANDARD
TZOFFSETFROM:+0200
TZOFFSETTO:+0100
TZNAME:CET
DTSTART:20271031T010000
END:STANDARD
END:VTIMEZONE
BEGIN:VEVENT
DTSTART;TZID=Europe/Berlin:20261006T160000
DTEND;TZID=Europe/Berlin:20261006T193000
DTSTAMP:20260426T060020
CREATED:20260113T121748Z
LAST-MODIFIED:20260113T121748Z
UID:10006573-1791302400-1791315000@kropp.de
SUMMARY:Blutspende Bergenhusen
DESCRIPTION:Dörpsschnack!					\n					Folge 11 - Schwanengesang und Storchengeklapper in Bergenhusen\n				\n				\n					\n						\n							Play Episode\n						\n						\n							Pause Episode\n						\n						\n					\n					\n						\n							\n						\n						\n							\n						\n						\n							\n								\n									Mute/Unmute Episode\n								\n								\n									Rewind 10 Seconds\n								\n								1x\n								\n									Fast Forward 30 seconds\n								\n							\n							\n								00:00\n								/\n								\n								00:35:05\n							\n						\n					\n				\n									\n																			Teilen\n											\n							\n		\n	\n			\n										\n					\n						\n						\n					\n					\n						\n							Teilen						\n						\n							\n								\n							\n							\n								\n							\n							\n								\n							\n						\n					\n					\n						\n							Link						\n						\n							\n						\n						\n					\n					\n						\n							Embed						\n						\n							\n						\n						\n					\n				\n					\n	\n	\n\n	\nUm einen reibungslosen Ablauf auf den Blutspendeterminen zu gewährleisten\, wird darauf hingewiesen\, dass eine Blutspende auch weiterhin nur über eine Terminreservierung möglich ist. Das kann über die Website www.blutspende-nordost.de oder über die kostenlose Hotline 0800 1194911 vorgenommen werden. Zur Blutspende ist der Personalausweis mitzubringen. \nIm Anschluss gibt es einen schmackhaften Imbiss.
URL:https://kropp.de/veranstaltung/blutspende-bergenhusen-2/
LOCATION:Schule Bergenhusen\, Hersbarg 2\, Bergenhusen\, 24861
ATTACH;FMTTYPE=image/jpeg:https://kropp.de/wp-content/uploads/2025/12/Logo-DRK-allgemein.jpg
END:VEVENT
BEGIN:VEVENT
DTSTART;TZID=Europe/Berlin:20261008T143000
DTEND;TZID=Europe/Berlin:20261008T190000
DTSTAMP:20260426T060020
CREATED:20260113T122242Z
LAST-MODIFIED:20260113T122242Z
UID:10006574-1791469800-1791486000@kropp.de
SUMMARY:Erntedank
DESCRIPTION:Dörpsschnack!					\n					Folge 11 - Schwanengesang und Storchengeklapper in Bergenhusen\n				\n				\n					\n						\n							Play Episode\n						\n						\n							Pause Episode\n						\n						\n					\n					\n						\n							\n						\n						\n							\n						\n						\n							\n								\n									Mute/Unmute Episode\n								\n								\n									Rewind 10 Seconds\n								\n								1x\n								\n									Fast Forward 30 seconds\n								\n							\n							\n								00:00\n								/\n								\n								00:35:05\n							\n						\n					\n				\n									\n																			Teilen\n											\n							\n		\n	\n			\n										\n					\n						\n						\n					\n					\n						\n							Teilen						\n						\n							\n								\n							\n							\n								\n							\n							\n								\n							\n						\n					\n					\n						\n							Link						\n						\n							\n						\n						\n					\n					\n						\n							Embed						\n						\n							\n						\n						\n					\n				\n					\n	\n	\n\n	\nDer DRK lädt zum Erntedanknachmittag ein
URL:https://kropp.de/veranstaltung/erntedank/
LOCATION:Hoier Boier\, Dörpsstroot 12a\, Bergenhusen\, 24861
ATTACH;FMTTYPE=image/jpeg:https://kropp.de/wp-content/uploads/2026/01/Hoier-Boier-Web.jpg
END:VEVENT
BEGIN:VEVENT
DTSTART;TZID=Europe/Berlin:20261008T193000
DTEND;TZID=Europe/Berlin:20261008T230000
DTSTAMP:20260426T060020
CREATED:20260113T123058Z
LAST-MODIFIED:20260113T123058Z
UID:10006576-1791487800-1791500400@kropp.de
SUMMARY:Landfrauen Stapelholm
DESCRIPTION:Dörpsschnack!					\n					Folge 11 - Schwanengesang und Storchengeklapper in Bergenhusen\n				\n				\n					\n						\n							Play Episode\n						\n						\n							Pause Episode\n						\n						\n					\n					\n						\n							\n						\n						\n							\n						\n						\n							\n								\n									Mute/Unmute Episode\n								\n								\n									Rewind 10 Seconds\n								\n								1x\n								\n									Fast Forward 30 seconds\n								\n							\n							\n								00:00\n								/\n								\n								00:35:05\n							\n						\n					\n				\n									\n																			Teilen\n											\n							\n		\n	\n			\n										\n					\n						\n						\n					\n					\n						\n							Teilen						\n						\n							\n								\n							\n							\n								\n							\n							\n								\n							\n						\n					\n					\n						\n							Link						\n						\n							\n						\n						\n					\n					\n						\n							Embed						\n						\n							\n						\n						\n					\n				\n					\n	\n	\n\n	\nDie Landfrauen laden zum Vortrag zum Thema Skandinavien
URL:https://kropp.de/veranstaltung/landfrauen-stapelholm-3/
LOCATION:Muhl´s Gasthof\, Dorfstraße 44\, Wohlde\, 24899
ATTACH;FMTTYPE=image/png:https://kropp.de/wp-content/uploads/2025/12/LandFrauenVerein_Kropp.png
END:VEVENT
END:VCALENDAR