BEGIN:VCALENDAR
VERSION:2.0
PRODID:-//Gemeinde Kropp - ECPv6.15.20//NONSGML v1.0//EN
CALSCALE:GREGORIAN
METHOD:PUBLISH
X-ORIGINAL-URL:https://kropp.de
X-WR-CALDESC:Veranstaltungen für Gemeinde Kropp
REFRESH-INTERVAL;VALUE=DURATION:PT1H
X-Robots-Tag:noindex
X-PUBLISHED-TTL:PT1H
BEGIN:VTIMEZONE
TZID:Europe/Berlin
BEGIN:DAYLIGHT
TZOFFSETFROM:+0100
TZOFFSETTO:+0200
TZNAME:CEST
DTSTART:20250330T010000
END:DAYLIGHT
BEGIN:STANDARD
TZOFFSETFROM:+0200
TZOFFSETTO:+0100
TZNAME:CET
DTSTART:20251026T010000
END:STANDARD
BEGIN:DAYLIGHT
TZOFFSETFROM:+0100
TZOFFSETTO:+0200
TZNAME:CEST
DTSTART:20260329T010000
END:DAYLIGHT
BEGIN:STANDARD
TZOFFSETFROM:+0200
TZOFFSETTO:+0100
TZNAME:CET
DTSTART:20261025T010000
END:STANDARD
BEGIN:DAYLIGHT
TZOFFSETFROM:+0100
TZOFFSETTO:+0200
TZNAME:CEST
DTSTART:20270328T010000
END:DAYLIGHT
BEGIN:STANDARD
TZOFFSETFROM:+0200
TZOFFSETTO:+0100
TZNAME:CET
DTSTART:20271031T010000
END:STANDARD
END:VTIMEZONE
BEGIN:VEVENT
DTSTART;TZID=Europe/Berlin:20260309T150000
DTEND;TZID=Europe/Berlin:20260309T153000
DTSTAMP:20260421T215248
CREATED:20251219T072020Z
LAST-MODIFIED:20260113T085827Z
UID:10004361-1773068400-1773070200@kropp.de
SUMMARY:Bilderbuchkino in der Bücherei
DESCRIPTION:Große Bilder\, spannende Geschichten und leuchtende Kinderaugen:Unser Bilderbuchkino für Kinder ab 3 Jahren lädt zum Staunen\, Zuhören und Mitfiebern ein! Gemeinsam tauchen wir in eine liebevoll erzählte Geschichte ein\, die auf der Leinwand lebendig wird. Während die Bilder groß gezeigt werden\, wird die Geschichte vorgelesen – perfekt für kleine Zuhörer\, die Bücher lieben oder sie gerade erst entdecken. \nEintritt freiKeine Anmeldung erforderlichIdeal für Kinder ab 3 Jahren
URL:https://kropp.de/veranstaltung/bilderbuchkino-in-der-buecherei/2026-03-09/
LOCATION:Bücherei Kropp\, Schulstraße 20\, Kropp\, 24848
ATTACH;FMTTYPE=image/png:https://kropp.de/wp-content/uploads/2025/12/Bilderbuchkino-web.png
ORGANIZER;CN="B%C3%BCcherei Kropp":MAILTO:buecherei@kropp.de
END:VEVENT
END:VCALENDAR