BEGIN:VCALENDAR
VERSION:2.0
PRODID:-//Gemeinde Kropp - ECPv6.15.20//NONSGML v1.0//EN
CALSCALE:GREGORIAN
METHOD:PUBLISH
X-ORIGINAL-URL:https://kropp.de
X-WR-CALDESC:Veranstaltungen für Gemeinde Kropp
REFRESH-INTERVAL;VALUE=DURATION:PT1H
X-Robots-Tag:noindex
X-PUBLISHED-TTL:PT1H
BEGIN:VTIMEZONE
TZID:Europe/Berlin
BEGIN:DAYLIGHT
TZOFFSETFROM:+0100
TZOFFSETTO:+0200
TZNAME:CEST
DTSTART:20250330T010000
END:DAYLIGHT
BEGIN:STANDARD
TZOFFSETFROM:+0200
TZOFFSETTO:+0100
TZNAME:CET
DTSTART:20251026T010000
END:STANDARD
BEGIN:DAYLIGHT
TZOFFSETFROM:+0100
TZOFFSETTO:+0200
TZNAME:CEST
DTSTART:20260329T010000
END:DAYLIGHT
BEGIN:STANDARD
TZOFFSETFROM:+0200
TZOFFSETTO:+0100
TZNAME:CET
DTSTART:20261025T010000
END:STANDARD
BEGIN:DAYLIGHT
TZOFFSETFROM:+0100
TZOFFSETTO:+0200
TZNAME:CEST
DTSTART:20270328T010000
END:DAYLIGHT
BEGIN:STANDARD
TZOFFSETFROM:+0200
TZOFFSETTO:+0100
TZNAME:CET
DTSTART:20271031T010000
END:STANDARD
END:VTIMEZONE
BEGIN:VEVENT
DTSTART;TZID=Europe/Berlin:20260529T170000
DTEND;TZID=Europe/Berlin:20260529T190000
DTSTAMP:20260421T215122
CREATED:20260212T093017Z
LAST-MODIFIED:20260212T093017Z
UID:10007890-1780074000-1780081200@kropp.de
SUMMARY:Erinnerungen an das alte Kropp
DESCRIPTION:Zusammen mit zwei Kropper Urgesteinen blicken wir zurück auf eine längst vergangene Zeit und schwelgen in Erinnerungen\, es geht auch um Bücher. \n  \nKarten gibt es im Vorverkauf im Kropper Buch und der Bücherei.
URL:https://kropp.de/veranstaltung/erinnerungen-an-das-alte-kropp/
LOCATION:Bücherei Kropp\, Schulstraße 20\, Kropp\, 24848
ATTACH;FMTTYPE=image/jpeg:https://kropp.de/wp-content/uploads/2025/09/Buecherei-Kropp.jpg
ORGANIZER;CN="B%C3%BCcherei Kropp":MAILTO:buecherei@kropp.de
END:VEVENT
END:VCALENDAR