BEGIN:VCALENDAR
VERSION:2.0
PRODID:-//Gemeinde Kropp - ECPv6.15.20//NONSGML v1.0//EN
CALSCALE:GREGORIAN
METHOD:PUBLISH
X-ORIGINAL-URL:https://kropp.de
X-WR-CALDESC:Veranstaltungen für Gemeinde Kropp
REFRESH-INTERVAL;VALUE=DURATION:PT1H
X-Robots-Tag:noindex
X-PUBLISHED-TTL:PT1H
BEGIN:VTIMEZONE
TZID:Europe/Berlin
BEGIN:DAYLIGHT
TZOFFSETFROM:+0100
TZOFFSETTO:+0200
TZNAME:CEST
DTSTART:20250330T010000
END:DAYLIGHT
BEGIN:STANDARD
TZOFFSETFROM:+0200
TZOFFSETTO:+0100
TZNAME:CET
DTSTART:20251026T010000
END:STANDARD
BEGIN:DAYLIGHT
TZOFFSETFROM:+0100
TZOFFSETTO:+0200
TZNAME:CEST
DTSTART:20260329T010000
END:DAYLIGHT
BEGIN:STANDARD
TZOFFSETFROM:+0200
TZOFFSETTO:+0100
TZNAME:CET
DTSTART:20261025T010000
END:STANDARD
BEGIN:DAYLIGHT
TZOFFSETFROM:+0100
TZOFFSETTO:+0200
TZNAME:CEST
DTSTART:20270328T010000
END:DAYLIGHT
BEGIN:STANDARD
TZOFFSETFROM:+0200
TZOFFSETTO:+0100
TZNAME:CET
DTSTART:20271031T010000
END:STANDARD
END:VTIMEZONE
BEGIN:VEVENT
DTSTART;TZID=Europe/Berlin:20260504T190000
DTEND;TZID=Europe/Berlin:20260504T210000
DTSTAMP:20260421T214228
CREATED:20251205T130135Z
LAST-MODIFIED:20251205T130135Z
UID:10003391-1777921200-1777928400@kropp.de
SUMMARY:Übungsabend Musikzug Groß Rheide/Dörpstedt
DESCRIPTION:Dörpsschnack!					\n					Folge 17 - Tschüss Hotel Mama – die Landfrauen im Gespräch\n				\n				\n					\n						\n							Play Episode\n						\n						\n							Pause Episode\n						\n						\n					\n					\n						\n							\n						\n						\n							\n						\n						\n							\n								\n									Mute/Unmute Episode\n								\n								\n									Rewind 10 Seconds\n								\n								1x\n								\n									Fast Forward 30 seconds\n								\n							\n							\n								00:00\n								/\n								\n								00:37:41\n							\n						\n					\n				\n									\n																			Teilen\n											\n							\n		\n	\n			\n										\n					\n						\n						\n					\n					\n						\n							Teilen						\n						\n							\n								\n							\n							\n								\n							\n							\n								\n							\n						\n					\n					\n						\n							Link						\n						\n							\n						\n						\n					\n					\n						\n							Embed
URL:https://kropp.de/veranstaltung/uebungsabend-musikzug-gross-rheide-doerpstedt-2/2026-05-04/
LOCATION:Gemeindehaus Groß Rheide
ATTACH;FMTTYPE=image/jpeg:https://kropp.de/wp-content/uploads/2025/12/Musikzug_Gross_Rheide_Doerpstedt.jpg
END:VEVENT
BEGIN:VEVENT
DTSTART;TZID=Europe/Berlin:20260507T150000
DTEND;TZID=Europe/Berlin:20260507T160000
DTSTAMP:20260421T214228
CREATED:20260210T094441Z
LAST-MODIFIED:20260210T094441Z
UID:10007676-1778166000-1778169600@kropp.de
SUMMARY:Kindertreff Dörpstedt
DESCRIPTION:Dörpsschnack!					\n					Folge 17 - Tschüss Hotel Mama – die Landfrauen im Gespräch\n				\n				\n					\n						\n							Play Episode\n						\n						\n							Pause Episode\n						\n						\n					\n					\n						\n							\n						\n						\n							\n						\n						\n							\n								\n									Mute/Unmute Episode\n								\n								\n									Rewind 10 Seconds\n								\n								1x\n								\n									Fast Forward 30 seconds\n								\n							\n							\n								00:00\n								/\n								\n								00:37:41\n							\n						\n					\n				\n									\n																			Teilen\n											\n							\n		\n	\n			\n										\n					\n						\n						\n					\n					\n						\n							Teilen						\n						\n							\n								\n							\n							\n								\n							\n							\n								\n							\n						\n					\n					\n						\n							Link						\n						\n							\n						\n						\n					\n					\n						\n							Embed						\n						\n							\n						\n						\n					\n				\n					\n	\n	\n\n	\nAlle Kinder\, ab der ersten Klasse sind herzlich eingeladen – zum Spielen\, Basteln\, Malen u.v.m.\nEine Vorabanmeldung ist nicht nötig.\nKommt einfach vorbei.\nBitte habt immer einen Euro parat\, falls Materialkosten anfallen sollten.
URL:https://kropp.de/veranstaltung/kindertreff-doerpstedt/2026-05-07/
LOCATION:Dörps- un Sprüttenhus Dörpstedt\, Hauptstraße 34\, Dörpstedt\, 24869
ATTACH;FMTTYPE=image/jpeg:https://kropp.de/wp-content/uploads/2026/02/Kinder-_und_Jugendtreff.jpg
ORGANIZER;CN="Gemeinde Kropp":MAILTO:info@amt-ks.de
END:VEVENT
END:VCALENDAR