BEGIN:VCALENDAR
VERSION:2.0
PRODID:-//Gemeinde Kropp - ECPv6.15.20//NONSGML v1.0//EN
CALSCALE:GREGORIAN
METHOD:PUBLISH
X-ORIGINAL-URL:https://kropp.de
X-WR-CALDESC:Veranstaltungen für Gemeinde Kropp
REFRESH-INTERVAL;VALUE=DURATION:PT1H
X-Robots-Tag:noindex
X-PUBLISHED-TTL:PT1H
BEGIN:VTIMEZONE
TZID:Europe/Berlin
BEGIN:DAYLIGHT
TZOFFSETFROM:+0100
TZOFFSETTO:+0200
TZNAME:CEST
DTSTART:20250330T010000
END:DAYLIGHT
BEGIN:STANDARD
TZOFFSETFROM:+0200
TZOFFSETTO:+0100
TZNAME:CET
DTSTART:20251026T010000
END:STANDARD
BEGIN:DAYLIGHT
TZOFFSETFROM:+0100
TZOFFSETTO:+0200
TZNAME:CEST
DTSTART:20260329T010000
END:DAYLIGHT
BEGIN:STANDARD
TZOFFSETFROM:+0200
TZOFFSETTO:+0100
TZNAME:CET
DTSTART:20261025T010000
END:STANDARD
BEGIN:DAYLIGHT
TZOFFSETFROM:+0100
TZOFFSETTO:+0200
TZNAME:CEST
DTSTART:20270328T010000
END:DAYLIGHT
BEGIN:STANDARD
TZOFFSETFROM:+0200
TZOFFSETTO:+0100
TZNAME:CET
DTSTART:20271031T010000
END:STANDARD
END:VTIMEZONE
BEGIN:VEVENT
DTSTART;TZID=Europe/Berlin:20260609T143000
DTEND;TZID=Europe/Berlin:20260609T163000
DTSTAMP:20260421T234722
CREATED:20260227T122144Z
LAST-MODIFIED:20260227T122144Z
UID:10008986-1781015400-1781022600@kropp.de
SUMMARY:Handarbeitskreis vom DRK
DESCRIPTION:Die fleißigen Mitglieder des DRK-Handarbeitskreises kommen alle 14 Tage immer Dienstags zusammen. In einer lustigen und aufgeschlossenen Runde wird bei Kaffee und Kuchen gestrickt\, gehäkelt\, gestickt und genäht.
URL:https://kropp.de/veranstaltung/handarbeitskreis-vom-drk-4/2026-06-09/
LOCATION:Forum Kropp\, Am Markt 11\, Kropp\, 24848
ATTACH;FMTTYPE=image/jpeg:https://kropp.de/wp-content/uploads/2025/12/Logo-DRK-allgemein.jpg
END:VEVENT
BEGIN:VEVENT
DTSTART;TZID=Europe/Berlin:20260610T143000
DTEND;TZID=Europe/Berlin:20260610T143000
DTSTAMP:20260421T234722
CREATED:20260109T114502Z
LAST-MODIFIED:20260109T114502Z
UID:10006149-1781101800-1781101800@kropp.de
SUMMARY:DRK Spielenachmittag Wohlde
DESCRIPTION:Der DRK lädt zum Spielenachmittag ein.
URL:https://kropp.de/veranstaltung/drk-spielenachmittag-2-2/2026-06-10/
LOCATION:Feuerwehrhaus Wohlde\, Dorfstraße 13\, Wohlde\, 24899
ATTACH;FMTTYPE=image/jpeg:https://kropp.de/wp-content/uploads/2025/12/Feuerwehrgeraetehaus_Wohlde.jpg
END:VEVENT
BEGIN:VEVENT
DTSTART;TZID=Europe/Berlin:20260623T143000
DTEND;TZID=Europe/Berlin:20260623T163000
DTSTAMP:20260421T234722
CREATED:20260227T122144Z
LAST-MODIFIED:20260227T122144Z
UID:10008987-1782225000-1782232200@kropp.de
SUMMARY:Handarbeitskreis vom DRK
DESCRIPTION:Die fleißigen Mitglieder des DRK-Handarbeitskreises kommen alle 14 Tage immer Dienstags zusammen. In einer lustigen und aufgeschlossenen Runde wird bei Kaffee und Kuchen gestrickt\, gehäkelt\, gestickt und genäht.
URL:https://kropp.de/veranstaltung/handarbeitskreis-vom-drk-4/2026-06-23/
LOCATION:Forum Kropp\, Am Markt 11\, Kropp\, 24848
ATTACH;FMTTYPE=image/jpeg:https://kropp.de/wp-content/uploads/2025/12/Logo-DRK-allgemein.jpg
END:VEVENT
END:VCALENDAR