BEGIN:VCALENDAR
VERSION:2.0
PRODID:-//Gemeinde Kropp - ECPv6.15.20//NONSGML v1.0//EN
CALSCALE:GREGORIAN
METHOD:PUBLISH
X-ORIGINAL-URL:https://kropp.de
X-WR-CALDESC:Veranstaltungen für Gemeinde Kropp
REFRESH-INTERVAL;VALUE=DURATION:PT1H
X-Robots-Tag:noindex
X-PUBLISHED-TTL:PT1H
BEGIN:VTIMEZONE
TZID:Europe/Berlin
BEGIN:DAYLIGHT
TZOFFSETFROM:+0100
TZOFFSETTO:+0200
TZNAME:CEST
DTSTART:20250330T010000
END:DAYLIGHT
BEGIN:STANDARD
TZOFFSETFROM:+0200
TZOFFSETTO:+0100
TZNAME:CET
DTSTART:20251026T010000
END:STANDARD
BEGIN:DAYLIGHT
TZOFFSETFROM:+0100
TZOFFSETTO:+0200
TZNAME:CEST
DTSTART:20260329T010000
END:DAYLIGHT
BEGIN:STANDARD
TZOFFSETFROM:+0200
TZOFFSETTO:+0100
TZNAME:CET
DTSTART:20261025T010000
END:STANDARD
BEGIN:DAYLIGHT
TZOFFSETFROM:+0100
TZOFFSETTO:+0200
TZNAME:CEST
DTSTART:20270328T010000
END:DAYLIGHT
BEGIN:STANDARD
TZOFFSETFROM:+0200
TZOFFSETTO:+0100
TZNAME:CET
DTSTART:20271031T010000
END:STANDARD
END:VTIMEZONE
BEGIN:VEVENT
DTSTART;TZID=Europe/Berlin:20260414T143000
DTEND;TZID=Europe/Berlin:20260414T163000
DTSTAMP:20260421T181029
CREATED:20260227T122047Z
LAST-MODIFIED:20260227T122057Z
UID:10008857-1776177000-1776184200@kropp.de
SUMMARY:Handarbeitskreis vom DRK
DESCRIPTION:Die fleißigen Mitglieder des DRK-Handarbeitskreises kommen alle 14 Tage immer Dienstags zusammen. In einer lustigen und aufgeschlossenen Runde wird bei Kaffee und Kuchen gestrickt\, gehäkelt\, gestickt und genäht.
URL:https://kropp.de/veranstaltung/handarbeitskreis-vom-drk-2/
LOCATION:Forum Kropp\, Am Markt 11\, Kropp\, 24848
ATTACH;FMTTYPE=image/jpeg:https://kropp.de/wp-content/uploads/2025/12/Logo-DRK-allgemein.jpg
END:VEVENT
BEGIN:VEVENT
DTSTART;TZID=Europe/Berlin:20260415T143000
DTEND;TZID=Europe/Berlin:20260415T143000
DTSTAMP:20260421T181029
CREATED:20260109T114434Z
LAST-MODIFIED:20260109T114434Z
UID:10006035-1776263400-1776263400@kropp.de
SUMMARY:DRK Spielenachmittag Wohlde
DESCRIPTION:Der DRK lädt zum Spielenachmittag ein.
URL:https://kropp.de/veranstaltung/drk-spielenachmittag-2/
LOCATION:Feuerwehrhaus Wohlde\, Dorfstraße 13\, Wohlde\, 24899
ATTACH;FMTTYPE=image/jpeg:https://kropp.de/wp-content/uploads/2025/12/Feuerwehrgeraetehaus_Wohlde.jpg
END:VEVENT
END:VCALENDAR