BEGIN:VCALENDAR
VERSION:2.0
PRODID:-//Gemeinde Kropp - ECPv6.15.20//NONSGML v1.0//EN
CALSCALE:GREGORIAN
METHOD:PUBLISH
X-ORIGINAL-URL:https://kropp.de
X-WR-CALDESC:Veranstaltungen für Gemeinde Kropp
REFRESH-INTERVAL;VALUE=DURATION:PT1H
X-Robots-Tag:noindex
X-PUBLISHED-TTL:PT1H
BEGIN:VTIMEZONE
TZID:Europe/Berlin
BEGIN:DAYLIGHT
TZOFFSETFROM:+0100
TZOFFSETTO:+0200
TZNAME:CEST
DTSTART:20250330T010000
END:DAYLIGHT
BEGIN:STANDARD
TZOFFSETFROM:+0200
TZOFFSETTO:+0100
TZNAME:CET
DTSTART:20251026T010000
END:STANDARD
BEGIN:DAYLIGHT
TZOFFSETFROM:+0100
TZOFFSETTO:+0200
TZNAME:CEST
DTSTART:20260329T010000
END:DAYLIGHT
BEGIN:STANDARD
TZOFFSETFROM:+0200
TZOFFSETTO:+0100
TZNAME:CET
DTSTART:20261025T010000
END:STANDARD
BEGIN:DAYLIGHT
TZOFFSETFROM:+0100
TZOFFSETTO:+0200
TZNAME:CEST
DTSTART:20270328T010000
END:DAYLIGHT
BEGIN:STANDARD
TZOFFSETFROM:+0200
TZOFFSETTO:+0100
TZNAME:CET
DTSTART:20271031T010000
END:STANDARD
END:VTIMEZONE
BEGIN:VEVENT
DTSTART;TZID=Europe/Berlin:20260327T102500
DTEND;TZID=Europe/Berlin:20260327T104000
DTSTAMP:20260422T031303
CREATED:20260216T074549Z
LAST-MODIFIED:20260216T074549Z
UID:10007896-1774607100-1774608000@kropp.de
SUMMARY:Fahrbücherei Meggerdorf
DESCRIPTION:Die Fahrbücherei ist unterwegs
URL:https://kropp.de/veranstaltung/fahrbuecherei-meggerdorf/2026-03-27/
LOCATION:Johanniberg KiGa
ATTACH;FMTTYPE=image/jpeg:https://kropp.de/wp-content/uploads/2026/02/Fahrbuecherei_Kreis_Schleswig-Flensburg.jpg
END:VEVENT
BEGIN:VEVENT
DTSTART;TZID=Europe/Berlin:20260327T105000
DTEND;TZID=Europe/Berlin:20260327T111000
DTSTAMP:20260422T031303
CREATED:20260216T074628Z
LAST-MODIFIED:20260216T074628Z
UID:10007956-1774608600-1774609800@kropp.de
SUMMARY:Fahrbücherei Meggerdorf
DESCRIPTION:Die Fahrbücherei ist unterwegs.
URL:https://kropp.de/veranstaltung/fahrbuecherei-meggerdorf-2/2026-03-27/
LOCATION:Westersee 6\, Meggerdorf\, 24799
ATTACH;FMTTYPE=image/jpeg:https://kropp.de/wp-content/uploads/2025/12/Fahrbuecherei_Kreis_Schleswig-Flensburg.jpg
END:VEVENT
BEGIN:VEVENT
DTSTART;TZID=Europe/Berlin:20260327T144000
DTEND;TZID=Europe/Berlin:20260327T152000
DTSTAMP:20260422T031303
CREATED:20260216T074803Z
LAST-MODIFIED:20260216T074803Z
UID:10008016-1774622400-1774624800@kropp.de
SUMMARY:Fahrbücherei
DESCRIPTION:Die Fahrbücherei ist unterwegs.
URL:https://kropp.de/veranstaltung/fahrbuecherei/2026-03-27/
LOCATION:Westersee 6\, Meggerdorf\, 24799
ATTACH;FMTTYPE=image/jpeg:https://kropp.de/wp-content/uploads/2025/12/Fahrbuecherei_Kreis_Schleswig-Flensburg.jpg
END:VEVENT
END:VCALENDAR