BEGIN:VCALENDAR
VERSION:2.0
PRODID:-//Gemeinde Kropp - ECPv6.15.20//NONSGML v1.0//EN
CALSCALE:GREGORIAN
METHOD:PUBLISH
X-WR-CALNAME:Gemeinde Kropp
X-ORIGINAL-URL:https://kropp.de
X-WR-CALDESC:Veranstaltungen für Gemeinde Kropp
REFRESH-INTERVAL;VALUE=DURATION:PT1H
X-Robots-Tag:noindex
X-PUBLISHED-TTL:PT1H
BEGIN:VTIMEZONE
TZID:Europe/Berlin
BEGIN:DAYLIGHT
TZOFFSETFROM:+0100
TZOFFSETTO:+0200
TZNAME:CEST
DTSTART:20250330T010000
END:DAYLIGHT
BEGIN:STANDARD
TZOFFSETFROM:+0200
TZOFFSETTO:+0100
TZNAME:CET
DTSTART:20251026T010000
END:STANDARD
BEGIN:DAYLIGHT
TZOFFSETFROM:+0100
TZOFFSETTO:+0200
TZNAME:CEST
DTSTART:20260329T010000
END:DAYLIGHT
BEGIN:STANDARD
TZOFFSETFROM:+0200
TZOFFSETTO:+0100
TZNAME:CET
DTSTART:20261025T010000
END:STANDARD
BEGIN:DAYLIGHT
TZOFFSETFROM:+0100
TZOFFSETTO:+0200
TZNAME:CEST
DTSTART:20270328T010000
END:DAYLIGHT
BEGIN:STANDARD
TZOFFSETFROM:+0200
TZOFFSETTO:+0100
TZNAME:CET
DTSTART:20271031T010000
END:STANDARD
END:VTIMEZONE
BEGIN:VEVENT
DTSTART;TZID=Europe/Berlin:20260327T100000
DTEND;TZID=Europe/Berlin:20260327T120000
DTSTAMP:20260424T150605
CREATED:20260305T093942Z
LAST-MODIFIED:20260305T093942Z
UID:10009347-1774605600-1774612800@kropp.de
SUMMARY:Zuckerfest - Feiern verbindet!
DESCRIPTION:Was bedeutet eigentlich Zuckerfest? Warum wird es gefeiert? Und was hat das mit Vielfalt zu tun? \nKomm am 27.03. auf den Kropper Wochenmarkt  und finde es heraus! \nBeim Zuckerfest (Eid al – Fitr) feiern Muslim*innen weltweit das Ende des Ramadan – mit Gemeinschaft\, Dankbarkeit und natürlich etwas Süßem🍬 \nDas erwartet dich: \n\nSpannende Infos rund ums Zuckerfest\nOffene Gespräche & Austausch\nEinblicke in Tradition\nKleine süße Überraschungen\n\nSei dabei. Informiere dich. Probiere was Süßes.
URL:https://kropp.de/veranstaltung/zuckerfest-feiern-verbindet/
LOCATION:Wochenmarkt Kropp\, Alter Viehmarkt\, Kropp\, 24848
ATTACH;FMTTYPE=image/jpeg:https://kropp.de/wp-content/uploads/2026/03/Plakat-Zuckerfest_Zeichenflaeche-1-scaled.jpg
END:VEVENT
END:VCALENDAR