BEGIN:VCALENDAR
VERSION:2.0
PRODID:-//Gemeinde Kropp - ECPv6.15.20//NONSGML v1.0//EN
CALSCALE:GREGORIAN
METHOD:PUBLISH
X-ORIGINAL-URL:https://kropp.de
X-WR-CALDESC:Veranstaltungen für Gemeinde Kropp
REFRESH-INTERVAL;VALUE=DURATION:PT1H
X-Robots-Tag:noindex
X-PUBLISHED-TTL:PT1H
BEGIN:VTIMEZONE
TZID:Europe/Berlin
BEGIN:DAYLIGHT
TZOFFSETFROM:+0100
TZOFFSETTO:+0200
TZNAME:CEST
DTSTART:20250330T010000
END:DAYLIGHT
BEGIN:STANDARD
TZOFFSETFROM:+0200
TZOFFSETTO:+0100
TZNAME:CET
DTSTART:20251026T010000
END:STANDARD
BEGIN:DAYLIGHT
TZOFFSETFROM:+0100
TZOFFSETTO:+0200
TZNAME:CEST
DTSTART:20260329T010000
END:DAYLIGHT
BEGIN:STANDARD
TZOFFSETFROM:+0200
TZOFFSETTO:+0100
TZNAME:CET
DTSTART:20261025T010000
END:STANDARD
BEGIN:DAYLIGHT
TZOFFSETFROM:+0100
TZOFFSETTO:+0200
TZNAME:CEST
DTSTART:20270328T010000
END:DAYLIGHT
BEGIN:STANDARD
TZOFFSETFROM:+0200
TZOFFSETTO:+0100
TZNAME:CET
DTSTART:20271031T010000
END:STANDARD
END:VTIMEZONE
BEGIN:VEVENT
DTSTART;TZID=Europe/Berlin:20260216T150000
DTEND;TZID=Europe/Berlin:20260216T160000
DTSTAMP:20260422T033253
CREATED:20260113T112421Z
LAST-MODIFIED:20260113T112421Z
UID:10006564-1771254000-1771257600@kropp.de
SUMMARY:Vorlesetheater Meggerdorf
DESCRIPTION:Dieses kostenlose Angebot richtet sich an Eltern mit ihren Kindern im Alter zwischen 2 und 6 Jahren! Geschwisterkinder dürfen natürlich mit. \nMaria Gohlke ließt vor und es ist keine Anmeldung nötig.
URL:https://kropp.de/veranstaltung/vorlesetheater-meggerdorf/2026-02-16/
LOCATION:Gut Johannisberg\, Johannisberg 6\, Meggerdorf\, 24861
ATTACH;FMTTYPE=image/jpeg:https://kropp.de/wp-content/uploads/2025/12/Logo-Familienzentrum-Kropp.jpg
ORGANIZER;CN="Familienzentrum Kropp":MAILTO:florenzen@schutzengel-flensburg.de
END:VEVENT
BEGIN:VEVENT
DTSTART;TZID=Europe/Berlin:20260218T150000
DTEND;TZID=Europe/Berlin:20260218T160000
DTSTAMP:20260422T033253
CREATED:20260113T112048Z
LAST-MODIFIED:20260113T112048Z
UID:10006562-1771426800-1771430400@kropp.de
SUMMARY:Vorlesetheater Kropp
DESCRIPTION:Dieses kostenlose Angebot richtet sich an Eltern mit ihren Kindern im Alter zwischen 2 und 6 Jahren! Geschwisterkinder dürfen natürlich mit. \nMaria Gohlke ließt vor und es ist keine Anmeldung nötig.
URL:https://kropp.de/veranstaltung/vorlesetheater-kropp/2026-02-18/
LOCATION:Familienzentrum Kropp\, Poststraße 2a\, Kropp\, 24848\, Germany
ATTACH;FMTTYPE=image/jpeg:https://kropp.de/wp-content/uploads/2025/12/Logo-Familienzentrum-Kropp.jpg
ORGANIZER;CN="Familienzentrum Kropp":MAILTO:florenzen@schutzengel-flensburg.de
END:VEVENT
END:VCALENDAR