BEGIN:VCALENDAR
VERSION:2.0
PRODID:-//Gemeinde Kropp - ECPv6.15.20//NONSGML v1.0//EN
CALSCALE:GREGORIAN
METHOD:PUBLISH
X-WR-CALNAME:Gemeinde Kropp
X-ORIGINAL-URL:https://kropp.de
X-WR-CALDESC:Veranstaltungen für Gemeinde Kropp
REFRESH-INTERVAL;VALUE=DURATION:PT1H
X-Robots-Tag:noindex
X-PUBLISHED-TTL:PT1H
BEGIN:VTIMEZONE
TZID:Europe/Berlin
BEGIN:DAYLIGHT
TZOFFSETFROM:+0100
TZOFFSETTO:+0200
TZNAME:CEST
DTSTART:20250330T010000
END:DAYLIGHT
BEGIN:STANDARD
TZOFFSETFROM:+0200
TZOFFSETTO:+0100
TZNAME:CET
DTSTART:20251026T010000
END:STANDARD
BEGIN:DAYLIGHT
TZOFFSETFROM:+0100
TZOFFSETTO:+0200
TZNAME:CEST
DTSTART:20260329T010000
END:DAYLIGHT
BEGIN:STANDARD
TZOFFSETFROM:+0200
TZOFFSETTO:+0100
TZNAME:CET
DTSTART:20261025T010000
END:STANDARD
BEGIN:DAYLIGHT
TZOFFSETFROM:+0100
TZOFFSETTO:+0200
TZNAME:CEST
DTSTART:20270328T010000
END:DAYLIGHT
BEGIN:STANDARD
TZOFFSETFROM:+0200
TZOFFSETTO:+0100
TZNAME:CET
DTSTART:20271031T010000
END:STANDARD
END:VTIMEZONE
BEGIN:VEVENT
DTSTART;TZID=Europe/Berlin:20260314T150000
DTEND;TZID=Europe/Berlin:20260314T170000
DTSTAMP:20260422T013538
CREATED:20260212T092541Z
LAST-MODIFIED:20260212T092541Z
UID:10007888-1773500400-1773507600@kropp.de
SUMMARY:Kaffeeklatsch in der Buchhandlung
DESCRIPTION:Gespräche\, Kaffee und Naschereien zusammen mit einer vielfältigen Bücherwelt.
URL:https://kropp.de/veranstaltung/kaffeeklatsch-in-der-buchhandlung/
LOCATION:Kropper Buch\, Hauptstraße 4\, Kropp\, 24848
ATTACH;FMTTYPE=image/png:https://kropp.de/wp-content/uploads/2026/02/Kropper-Buch-Logo-Symbol.png
ORGANIZER;CN="Kropper Buch":MAILTO:info@kropperbuch.de
END:VEVENT
END:VCALENDAR