BEGIN:VCALENDAR
VERSION:2.0
PRODID:-//Gemeinde Kropp - ECPv6.15.20//NONSGML v1.0//EN
CALSCALE:GREGORIAN
METHOD:PUBLISH
X-ORIGINAL-URL:https://kropp.de
X-WR-CALDESC:Veranstaltungen für Gemeinde Kropp
REFRESH-INTERVAL;VALUE=DURATION:PT1H
X-Robots-Tag:noindex
X-PUBLISHED-TTL:PT1H
BEGIN:VTIMEZONE
TZID:Europe/Berlin
BEGIN:DAYLIGHT
TZOFFSETFROM:+0100
TZOFFSETTO:+0200
TZNAME:CEST
DTSTART:20250330T010000
END:DAYLIGHT
BEGIN:STANDARD
TZOFFSETFROM:+0200
TZOFFSETTO:+0100
TZNAME:CET
DTSTART:20251026T010000
END:STANDARD
BEGIN:DAYLIGHT
TZOFFSETFROM:+0100
TZOFFSETTO:+0200
TZNAME:CEST
DTSTART:20260329T010000
END:DAYLIGHT
BEGIN:STANDARD
TZOFFSETFROM:+0200
TZOFFSETTO:+0100
TZNAME:CET
DTSTART:20261025T010000
END:STANDARD
BEGIN:DAYLIGHT
TZOFFSETFROM:+0100
TZOFFSETTO:+0200
TZNAME:CEST
DTSTART:20270328T010000
END:DAYLIGHT
BEGIN:STANDARD
TZOFFSETFROM:+0200
TZOFFSETTO:+0100
TZNAME:CET
DTSTART:20271031T010000
END:STANDARD
END:VTIMEZONE
BEGIN:VEVENT
DTSTART;TZID=Europe/Berlin:20260518T150000
DTEND;TZID=Europe/Berlin:20260518T160000
DTSTAMP:20260422T013838
CREATED:20260113T112421Z
LAST-MODIFIED:20260113T112421Z
UID:10006565-1779116400-1779120000@kropp.de
SUMMARY:Vorlesetheater Meggerdorf
DESCRIPTION:Dieses kostenlose Angebot richtet sich an Eltern mit ihren Kindern im Alter zwischen 2 und 6 Jahren! Geschwisterkinder dürfen natürlich mit. \nMaria Gohlke ließt vor und es ist keine Anmeldung nötig.
URL:https://kropp.de/veranstaltung/vorlesetheater-meggerdorf/2026-05-18/
LOCATION:Gut Johannisberg\, Johannisberg 6\, Meggerdorf\, 24861
ATTACH;FMTTYPE=image/jpeg:https://kropp.de/wp-content/uploads/2025/12/Logo-Familienzentrum-Kropp.jpg
ORGANIZER;CN="Familienzentrum Kropp":MAILTO:florenzen@schutzengel-flensburg.de
END:VEVENT
BEGIN:VEVENT
DTSTART;TZID=Europe/Berlin:20260520T150000
DTEND;TZID=Europe/Berlin:20260520T160000
DTSTAMP:20260422T013838
CREATED:20260113T112048Z
LAST-MODIFIED:20260113T112048Z
UID:10006563-1779289200-1779292800@kropp.de
SUMMARY:Vorlesetheater Kropp
DESCRIPTION:Dieses kostenlose Angebot richtet sich an Eltern mit ihren Kindern im Alter zwischen 2 und 6 Jahren! Geschwisterkinder dürfen natürlich mit. \nMaria Gohlke ließt vor und es ist keine Anmeldung nötig.
URL:https://kropp.de/veranstaltung/vorlesetheater-kropp/2026-05-20/
LOCATION:Familienzentrum Kropp\, Poststraße 2a\, Kropp\, 24848\, Germany
ATTACH;FMTTYPE=image/jpeg:https://kropp.de/wp-content/uploads/2025/12/Logo-Familienzentrum-Kropp.jpg
ORGANIZER;CN="Familienzentrum Kropp":MAILTO:florenzen@schutzengel-flensburg.de
END:VEVENT
BEGIN:VEVENT
DTSTART;TZID=Europe/Berlin:20260529T170000
DTEND;TZID=Europe/Berlin:20260529T190000
DTSTAMP:20260422T013838
CREATED:20260212T093017Z
LAST-MODIFIED:20260212T093017Z
UID:10007890-1780074000-1780081200@kropp.de
SUMMARY:Erinnerungen an das alte Kropp
DESCRIPTION:Zusammen mit zwei Kropper Urgesteinen blicken wir zurück auf eine längst vergangene Zeit und schwelgen in Erinnerungen\, es geht auch um Bücher. \n  \nKarten gibt es im Vorverkauf im Kropper Buch und der Bücherei.
URL:https://kropp.de/veranstaltung/erinnerungen-an-das-alte-kropp/
LOCATION:Bücherei Kropp\, Schulstraße 20\, Kropp\, 24848
ATTACH;FMTTYPE=image/jpeg:https://kropp.de/wp-content/uploads/2025/09/Buecherei-Kropp.jpg
ORGANIZER;CN="B%C3%BCcherei Kropp":MAILTO:buecherei@kropp.de
END:VEVENT
END:VCALENDAR