BEGIN:VCALENDAR
VERSION:2.0
PRODID:-//Gemeinde Kropp - ECPv6.15.20//NONSGML v1.0//EN
CALSCALE:GREGORIAN
METHOD:PUBLISH
X-ORIGINAL-URL:https://kropp.de
X-WR-CALDESC:Veranstaltungen für Gemeinde Kropp
REFRESH-INTERVAL;VALUE=DURATION:PT1H
X-Robots-Tag:noindex
X-PUBLISHED-TTL:PT1H
BEGIN:VTIMEZONE
TZID:Europe/Berlin
BEGIN:DAYLIGHT
TZOFFSETFROM:+0100
TZOFFSETTO:+0200
TZNAME:CEST
DTSTART:20250330T010000
END:DAYLIGHT
BEGIN:STANDARD
TZOFFSETFROM:+0200
TZOFFSETTO:+0100
TZNAME:CET
DTSTART:20251026T010000
END:STANDARD
BEGIN:DAYLIGHT
TZOFFSETFROM:+0100
TZOFFSETTO:+0200
TZNAME:CEST
DTSTART:20260329T010000
END:DAYLIGHT
BEGIN:STANDARD
TZOFFSETFROM:+0200
TZOFFSETTO:+0100
TZNAME:CET
DTSTART:20261025T010000
END:STANDARD
BEGIN:DAYLIGHT
TZOFFSETFROM:+0100
TZOFFSETTO:+0200
TZNAME:CEST
DTSTART:20270328T010000
END:DAYLIGHT
BEGIN:STANDARD
TZOFFSETFROM:+0200
TZOFFSETTO:+0100
TZNAME:CET
DTSTART:20271031T010000
END:STANDARD
END:VTIMEZONE
BEGIN:VEVENT
DTSTART;TZID=Europe/Berlin:20260620T220000
DTEND;TZID=Europe/Berlin:20260620T235900
DTSTAMP:20260422T033249
CREATED:20260212T093232Z
LAST-MODIFIED:20260212T093232Z
UID:10007891-1781992800-1781999940@kropp.de
SUMMARY:Mitternachtslesung mit Janne Mommsen
DESCRIPTION:Mitten in der Nacht in der Bücherei tauchen wir ein in den neuen Roman von Janne Mommsen! \n  \nKarten gibt es im Vorverkauf im Kropper Buch und der Bücherei Kropp
URL:https://kropp.de/veranstaltung/mitternachtslesung-mit-janne-mommsen/
LOCATION:Bücherei Kropp\, Schulstraße 20\, Kropp\, 24848
ATTACH;FMTTYPE=image/jpeg:https://kropp.de/wp-content/uploads/2025/09/Buecherei-Kropp.jpg
ORGANIZER;CN="B%C3%BCcherei Kropp":MAILTO:buecherei@kropp.de
END:VEVENT
END:VCALENDAR