BEGIN:VCALENDAR
VERSION:2.0
PRODID:-//Gemeinde Kropp - ECPv6.15.20//NONSGML v1.0//EN
CALSCALE:GREGORIAN
METHOD:PUBLISH
X-WR-CALNAME:Gemeinde Kropp
X-ORIGINAL-URL:https://kropp.de
X-WR-CALDESC:Veranstaltungen für Gemeinde Kropp
REFRESH-INTERVAL;VALUE=DURATION:PT1H
X-Robots-Tag:noindex
X-PUBLISHED-TTL:PT1H
BEGIN:VTIMEZONE
TZID:Europe/Berlin
BEGIN:DAYLIGHT
TZOFFSETFROM:+0100
TZOFFSETTO:+0200
TZNAME:CEST
DTSTART:20280326T010000
END:DAYLIGHT
BEGIN:STANDARD
TZOFFSETFROM:+0200
TZOFFSETTO:+0100
TZNAME:CET
DTSTART:20281029T010000
END:STANDARD
BEGIN:DAYLIGHT
TZOFFSETFROM:+0100
TZOFFSETTO:+0200
TZNAME:CEST
DTSTART:20290325T010000
END:DAYLIGHT
BEGIN:STANDARD
TZOFFSETFROM:+0200
TZOFFSETTO:+0100
TZNAME:CET
DTSTART:20291028T010000
END:STANDARD
BEGIN:DAYLIGHT
TZOFFSETFROM:+0100
TZOFFSETTO:+0200
TZNAME:CEST
DTSTART:20300331T010000
END:DAYLIGHT
BEGIN:STANDARD
TZOFFSETFROM:+0200
TZOFFSETTO:+0100
TZNAME:CET
DTSTART:20301027T010000
END:STANDARD
BEGIN:DAYLIGHT
TZOFFSETFROM:+0100
TZOFFSETTO:+0200
TZNAME:CEST
DTSTART:20310330T010000
END:DAYLIGHT
BEGIN:STANDARD
TZOFFSETFROM:+0200
TZOFFSETTO:+0100
TZNAME:CET
DTSTART:20311026T010000
END:STANDARD
END:VTIMEZONE
BEGIN:VEVENT
DTSTART;TZID=Europe/Berlin:20290922T100000
DTEND;TZID=Europe/Berlin:20290922T140000
DTSTAMP:20260426T061738
CREATED:20251219T070830Z
LAST-MODIFIED:20251219T070830Z
UID:10004342-1884765600-1884780000@kropp.de
SUMMARY:Bücherei Samstagsöffnungszeiten
DESCRIPTION:Alle 4 Wochen hat die Bücherei am Samstag geöffnet zum Lesen\, Schmöckern und Ausleihen.
URL:https://kropp.de/veranstaltung/buecherei-samstagsoeffnungszeiten/2029-09-22/
LOCATION:Bücherei Kropp\, Schulstraße 20\, Kropp\, 24848
ATTACH;FMTTYPE=image/jpeg:https://kropp.de/wp-content/uploads/2025/12/Buecherei-Kropp-c-Karklinat.jpg
ORGANIZER;CN="B%C3%BCcherei Kropp":MAILTO:buecherei@kropp.de
END:VEVENT
BEGIN:VEVENT
DTSTART;TZID=Europe/Berlin:20291020T100000
DTEND;TZID=Europe/Berlin:20291020T140000
DTSTAMP:20260426T061738
CREATED:20251219T070830Z
LAST-MODIFIED:20251219T070830Z
UID:10004343-1887184800-1887199200@kropp.de
SUMMARY:Bücherei Samstagsöffnungszeiten
DESCRIPTION:Alle 4 Wochen hat die Bücherei am Samstag geöffnet zum Lesen\, Schmöckern und Ausleihen.
URL:https://kropp.de/veranstaltung/buecherei-samstagsoeffnungszeiten/2029-10-20/
LOCATION:Bücherei Kropp\, Schulstraße 20\, Kropp\, 24848
ATTACH;FMTTYPE=image/jpeg:https://kropp.de/wp-content/uploads/2025/12/Buecherei-Kropp-c-Karklinat.jpg
ORGANIZER;CN="B%C3%BCcherei Kropp":MAILTO:buecherei@kropp.de
END:VEVENT
BEGIN:VEVENT
DTSTART;TZID=Europe/Berlin:20291117T100000
DTEND;TZID=Europe/Berlin:20291117T140000
DTSTAMP:20260426T061738
CREATED:20251219T070830Z
LAST-MODIFIED:20251219T070830Z
UID:10004344-1889604000-1889618400@kropp.de
SUMMARY:Bücherei Samstagsöffnungszeiten
DESCRIPTION:Alle 4 Wochen hat die Bücherei am Samstag geöffnet zum Lesen\, Schmöckern und Ausleihen.
URL:https://kropp.de/veranstaltung/buecherei-samstagsoeffnungszeiten/2029-11-17/
LOCATION:Bücherei Kropp\, Schulstraße 20\, Kropp\, 24848
ATTACH;FMTTYPE=image/jpeg:https://kropp.de/wp-content/uploads/2025/12/Buecherei-Kropp-c-Karklinat.jpg
ORGANIZER;CN="B%C3%BCcherei Kropp":MAILTO:buecherei@kropp.de
END:VEVENT
BEGIN:VEVENT
DTSTART;TZID=Europe/Berlin:20291215T100000
DTEND;TZID=Europe/Berlin:20291215T140000
DTSTAMP:20260426T061738
CREATED:20251219T070830Z
LAST-MODIFIED:20251219T070830Z
UID:10004345-1892023200-1892037600@kropp.de
SUMMARY:Bücherei Samstagsöffnungszeiten
DESCRIPTION:Alle 4 Wochen hat die Bücherei am Samstag geöffnet zum Lesen\, Schmöckern und Ausleihen.
URL:https://kropp.de/veranstaltung/buecherei-samstagsoeffnungszeiten/2029-12-15/
LOCATION:Bücherei Kropp\, Schulstraße 20\, Kropp\, 24848
ATTACH;FMTTYPE=image/jpeg:https://kropp.de/wp-content/uploads/2025/12/Buecherei-Kropp-c-Karklinat.jpg
ORGANIZER;CN="B%C3%BCcherei Kropp":MAILTO:buecherei@kropp.de
END:VEVENT
BEGIN:VEVENT
DTSTART;TZID=Europe/Berlin:20300112T100000
DTEND;TZID=Europe/Berlin:20300112T140000
DTSTAMP:20260426T061738
CREATED:20251219T070830Z
LAST-MODIFIED:20251219T070830Z
UID:10004346-1894442400-1894456800@kropp.de
SUMMARY:Bücherei Samstagsöffnungszeiten
DESCRIPTION:Alle 4 Wochen hat die Bücherei am Samstag geöffnet zum Lesen\, Schmöckern und Ausleihen.
URL:https://kropp.de/veranstaltung/buecherei-samstagsoeffnungszeiten/2030-01-12/
LOCATION:Bücherei Kropp\, Schulstraße 20\, Kropp\, 24848
ATTACH;FMTTYPE=image/jpeg:https://kropp.de/wp-content/uploads/2025/12/Buecherei-Kropp-c-Karklinat.jpg
ORGANIZER;CN="B%C3%BCcherei Kropp":MAILTO:buecherei@kropp.de
END:VEVENT
BEGIN:VEVENT
DTSTART;TZID=Europe/Berlin:20300209T100000
DTEND;TZID=Europe/Berlin:20300209T140000
DTSTAMP:20260426T061738
CREATED:20251219T070830Z
LAST-MODIFIED:20251219T070830Z
UID:10004347-1896861600-1896876000@kropp.de
SUMMARY:Bücherei Samstagsöffnungszeiten
DESCRIPTION:Alle 4 Wochen hat die Bücherei am Samstag geöffnet zum Lesen\, Schmöckern und Ausleihen.
URL:https://kropp.de/veranstaltung/buecherei-samstagsoeffnungszeiten/2030-02-09/
LOCATION:Bücherei Kropp\, Schulstraße 20\, Kropp\, 24848
ATTACH;FMTTYPE=image/jpeg:https://kropp.de/wp-content/uploads/2025/12/Buecherei-Kropp-c-Karklinat.jpg
ORGANIZER;CN="B%C3%BCcherei Kropp":MAILTO:buecherei@kropp.de
END:VEVENT
BEGIN:VEVENT
DTSTART;TZID=Europe/Berlin:20300309T100000
DTEND;TZID=Europe/Berlin:20300309T140000
DTSTAMP:20260426T061738
CREATED:20251219T070830Z
LAST-MODIFIED:20251219T070830Z
UID:10004348-1899280800-1899295200@kropp.de
SUMMARY:Bücherei Samstagsöffnungszeiten
DESCRIPTION:Alle 4 Wochen hat die Bücherei am Samstag geöffnet zum Lesen\, Schmöckern und Ausleihen.
URL:https://kropp.de/veranstaltung/buecherei-samstagsoeffnungszeiten/2030-03-09/
LOCATION:Bücherei Kropp\, Schulstraße 20\, Kropp\, 24848
ATTACH;FMTTYPE=image/jpeg:https://kropp.de/wp-content/uploads/2025/12/Buecherei-Kropp-c-Karklinat.jpg
ORGANIZER;CN="B%C3%BCcherei Kropp":MAILTO:buecherei@kropp.de
END:VEVENT
BEGIN:VEVENT
DTSTART;TZID=Europe/Berlin:20300406T100000
DTEND;TZID=Europe/Berlin:20300406T140000
DTSTAMP:20260426T061738
CREATED:20251219T070830Z
LAST-MODIFIED:20251219T070830Z
UID:10004349-1901700000-1901714400@kropp.de
SUMMARY:Bücherei Samstagsöffnungszeiten
DESCRIPTION:Alle 4 Wochen hat die Bücherei am Samstag geöffnet zum Lesen\, Schmöckern und Ausleihen.
URL:https://kropp.de/veranstaltung/buecherei-samstagsoeffnungszeiten/2030-04-06/
LOCATION:Bücherei Kropp\, Schulstraße 20\, Kropp\, 24848
ATTACH;FMTTYPE=image/jpeg:https://kropp.de/wp-content/uploads/2025/12/Buecherei-Kropp-c-Karklinat.jpg
ORGANIZER;CN="B%C3%BCcherei Kropp":MAILTO:buecherei@kropp.de
END:VEVENT
BEGIN:VEVENT
DTSTART;TZID=Europe/Berlin:20300504T100000
DTEND;TZID=Europe/Berlin:20300504T140000
DTSTAMP:20260426T061738
CREATED:20251219T070830Z
LAST-MODIFIED:20251219T070830Z
UID:10004350-1904119200-1904133600@kropp.de
SUMMARY:Bücherei Samstagsöffnungszeiten
DESCRIPTION:Alle 4 Wochen hat die Bücherei am Samstag geöffnet zum Lesen\, Schmöckern und Ausleihen.
URL:https://kropp.de/veranstaltung/buecherei-samstagsoeffnungszeiten/2030-05-04/
LOCATION:Bücherei Kropp\, Schulstraße 20\, Kropp\, 24848
ATTACH;FMTTYPE=image/jpeg:https://kropp.de/wp-content/uploads/2025/12/Buecherei-Kropp-c-Karklinat.jpg
ORGANIZER;CN="B%C3%BCcherei Kropp":MAILTO:buecherei@kropp.de
END:VEVENT
BEGIN:VEVENT
DTSTART;TZID=Europe/Berlin:20300601T100000
DTEND;TZID=Europe/Berlin:20300601T140000
DTSTAMP:20260426T061738
CREATED:20251219T070830Z
LAST-MODIFIED:20251219T070830Z
UID:10004351-1906538400-1906552800@kropp.de
SUMMARY:Bücherei Samstagsöffnungszeiten
DESCRIPTION:Alle 4 Wochen hat die Bücherei am Samstag geöffnet zum Lesen\, Schmöckern und Ausleihen.
URL:https://kropp.de/veranstaltung/buecherei-samstagsoeffnungszeiten/2030-06-01/
LOCATION:Bücherei Kropp\, Schulstraße 20\, Kropp\, 24848
ATTACH;FMTTYPE=image/jpeg:https://kropp.de/wp-content/uploads/2025/12/Buecherei-Kropp-c-Karklinat.jpg
ORGANIZER;CN="B%C3%BCcherei Kropp":MAILTO:buecherei@kropp.de
END:VEVENT
BEGIN:VEVENT
DTSTART;TZID=Europe/Berlin:20300629T100000
DTEND;TZID=Europe/Berlin:20300629T140000
DTSTAMP:20260426T061738
CREATED:20251219T070830Z
LAST-MODIFIED:20251219T070830Z
UID:10004352-1908957600-1908972000@kropp.de
SUMMARY:Bücherei Samstagsöffnungszeiten
DESCRIPTION:Alle 4 Wochen hat die Bücherei am Samstag geöffnet zum Lesen\, Schmöckern und Ausleihen.
URL:https://kropp.de/veranstaltung/buecherei-samstagsoeffnungszeiten/2030-06-29/
LOCATION:Bücherei Kropp\, Schulstraße 20\, Kropp\, 24848
ATTACH;FMTTYPE=image/jpeg:https://kropp.de/wp-content/uploads/2025/12/Buecherei-Kropp-c-Karklinat.jpg
ORGANIZER;CN="B%C3%BCcherei Kropp":MAILTO:buecherei@kropp.de
END:VEVENT
BEGIN:VEVENT
DTSTART;TZID=Europe/Berlin:20300727T100000
DTEND;TZID=Europe/Berlin:20300727T140000
DTSTAMP:20260426T061738
CREATED:20251219T070830Z
LAST-MODIFIED:20251219T070830Z
UID:10004353-1911376800-1911391200@kropp.de
SUMMARY:Bücherei Samstagsöffnungszeiten
DESCRIPTION:Alle 4 Wochen hat die Bücherei am Samstag geöffnet zum Lesen\, Schmöckern und Ausleihen.
URL:https://kropp.de/veranstaltung/buecherei-samstagsoeffnungszeiten/2030-07-27/
LOCATION:Bücherei Kropp\, Schulstraße 20\, Kropp\, 24848
ATTACH;FMTTYPE=image/jpeg:https://kropp.de/wp-content/uploads/2025/12/Buecherei-Kropp-c-Karklinat.jpg
ORGANIZER;CN="B%C3%BCcherei Kropp":MAILTO:buecherei@kropp.de
END:VEVENT
BEGIN:VEVENT
DTSTART;TZID=Europe/Berlin:20300824T100000
DTEND;TZID=Europe/Berlin:20300824T140000
DTSTAMP:20260426T061738
CREATED:20251219T070830Z
LAST-MODIFIED:20251219T070830Z
UID:10004354-1913796000-1913810400@kropp.de
SUMMARY:Bücherei Samstagsöffnungszeiten
DESCRIPTION:Alle 4 Wochen hat die Bücherei am Samstag geöffnet zum Lesen\, Schmöckern und Ausleihen.
URL:https://kropp.de/veranstaltung/buecherei-samstagsoeffnungszeiten/2030-08-24/
LOCATION:Bücherei Kropp\, Schulstraße 20\, Kropp\, 24848
ATTACH;FMTTYPE=image/jpeg:https://kropp.de/wp-content/uploads/2025/12/Buecherei-Kropp-c-Karklinat.jpg
ORGANIZER;CN="B%C3%BCcherei Kropp":MAILTO:buecherei@kropp.de
END:VEVENT
BEGIN:VEVENT
DTSTART;TZID=Europe/Berlin:20300921T100000
DTEND;TZID=Europe/Berlin:20300921T140000
DTSTAMP:20260426T061738
CREATED:20251219T070830Z
LAST-MODIFIED:20251219T070830Z
UID:10004355-1916215200-1916229600@kropp.de
SUMMARY:Bücherei Samstagsöffnungszeiten
DESCRIPTION:Alle 4 Wochen hat die Bücherei am Samstag geöffnet zum Lesen\, Schmöckern und Ausleihen.
URL:https://kropp.de/veranstaltung/buecherei-samstagsoeffnungszeiten/2030-09-21/
LOCATION:Bücherei Kropp\, Schulstraße 20\, Kropp\, 24848
ATTACH;FMTTYPE=image/jpeg:https://kropp.de/wp-content/uploads/2025/12/Buecherei-Kropp-c-Karklinat.jpg
ORGANIZER;CN="B%C3%BCcherei Kropp":MAILTO:buecherei@kropp.de
END:VEVENT
BEGIN:VEVENT
DTSTART;TZID=Europe/Berlin:20301019T100000
DTEND;TZID=Europe/Berlin:20301019T140000
DTSTAMP:20260426T061738
CREATED:20251219T070830Z
LAST-MODIFIED:20251219T070830Z
UID:10004356-1918634400-1918648800@kropp.de
SUMMARY:Bücherei Samstagsöffnungszeiten
DESCRIPTION:Alle 4 Wochen hat die Bücherei am Samstag geöffnet zum Lesen\, Schmöckern und Ausleihen.
URL:https://kropp.de/veranstaltung/buecherei-samstagsoeffnungszeiten/2030-10-19/
LOCATION:Bücherei Kropp\, Schulstraße 20\, Kropp\, 24848
ATTACH;FMTTYPE=image/jpeg:https://kropp.de/wp-content/uploads/2025/12/Buecherei-Kropp-c-Karklinat.jpg
ORGANIZER;CN="B%C3%BCcherei Kropp":MAILTO:buecherei@kropp.de
END:VEVENT
BEGIN:VEVENT
DTSTART;TZID=Europe/Berlin:20301116T100000
DTEND;TZID=Europe/Berlin:20301116T140000
DTSTAMP:20260426T061738
CREATED:20251219T070830Z
LAST-MODIFIED:20251219T070830Z
UID:10004357-1921053600-1921068000@kropp.de
SUMMARY:Bücherei Samstagsöffnungszeiten
DESCRIPTION:Alle 4 Wochen hat die Bücherei am Samstag geöffnet zum Lesen\, Schmöckern und Ausleihen.
URL:https://kropp.de/veranstaltung/buecherei-samstagsoeffnungszeiten/2030-11-16/
LOCATION:Bücherei Kropp\, Schulstraße 20\, Kropp\, 24848
ATTACH;FMTTYPE=image/jpeg:https://kropp.de/wp-content/uploads/2025/12/Buecherei-Kropp-c-Karklinat.jpg
ORGANIZER;CN="B%C3%BCcherei Kropp":MAILTO:buecherei@kropp.de
END:VEVENT
BEGIN:VEVENT
DTSTART;TZID=Europe/Berlin:20301214T100000
DTEND;TZID=Europe/Berlin:20301214T140000
DTSTAMP:20260426T061738
CREATED:20251219T070830Z
LAST-MODIFIED:20251219T070830Z
UID:10004358-1923472800-1923487200@kropp.de
SUMMARY:Bücherei Samstagsöffnungszeiten
DESCRIPTION:Alle 4 Wochen hat die Bücherei am Samstag geöffnet zum Lesen\, Schmöckern und Ausleihen.
URL:https://kropp.de/veranstaltung/buecherei-samstagsoeffnungszeiten/2030-12-14/
LOCATION:Bücherei Kropp\, Schulstraße 20\, Kropp\, 24848
ATTACH;FMTTYPE=image/jpeg:https://kropp.de/wp-content/uploads/2025/12/Buecherei-Kropp-c-Karklinat.jpg
ORGANIZER;CN="B%C3%BCcherei Kropp":MAILTO:buecherei@kropp.de
END:VEVENT
END:VCALENDAR