BEGIN:VCALENDAR
VERSION:2.0
PRODID:-//Gemeinde Kropp - ECPv6.15.20//NONSGML v1.0//EN
CALSCALE:GREGORIAN
METHOD:PUBLISH
X-WR-CALNAME:Gemeinde Kropp
X-ORIGINAL-URL:https://kropp.de
X-WR-CALDESC:Veranstaltungen für Gemeinde Kropp
REFRESH-INTERVAL;VALUE=DURATION:PT1H
X-Robots-Tag:noindex
X-PUBLISHED-TTL:PT1H
BEGIN:VTIMEZONE
TZID:Europe/Berlin
BEGIN:DAYLIGHT
TZOFFSETFROM:+0100
TZOFFSETTO:+0200
TZNAME:CEST
DTSTART:20250330T010000
END:DAYLIGHT
BEGIN:STANDARD
TZOFFSETFROM:+0200
TZOFFSETTO:+0100
TZNAME:CET
DTSTART:20251026T010000
END:STANDARD
BEGIN:DAYLIGHT
TZOFFSETFROM:+0100
TZOFFSETTO:+0200
TZNAME:CEST
DTSTART:20260329T010000
END:DAYLIGHT
BEGIN:STANDARD
TZOFFSETFROM:+0200
TZOFFSETTO:+0100
TZNAME:CET
DTSTART:20261025T010000
END:STANDARD
BEGIN:DAYLIGHT
TZOFFSETFROM:+0100
TZOFFSETTO:+0200
TZNAME:CEST
DTSTART:20270328T010000
END:DAYLIGHT
BEGIN:STANDARD
TZOFFSETFROM:+0200
TZOFFSETTO:+0100
TZNAME:CET
DTSTART:20271031T010000
END:STANDARD
END:VTIMEZONE
BEGIN:VEVENT
DTSTART;VALUE=DATE:20260507
DTEND;VALUE=DATE:20260508
DTSTAMP:20260421T213230
CREATED:20260407T123947Z
LAST-MODIFIED:20260407T123947Z
UID:10009706-1778112000-1778198399@kropp.de
SUMMARY:Stapel: Sprechstunde des Seniorenbeirats
DESCRIPTION:Liebe Senioren\,\nnutzen Sie die Sprechstunden in unserer Gemeinde für Ihre Anliegen.\nSeniorenbeirat in Stapel
URL:https://kropp.de/veranstaltung/stapel-sprechstunde-des-seniorenbeirats-4/
LOCATION:Bürgerhaus Stapel\, Kleiner Sitzungssaal (neben Bürgerbüro)
ATTACH;FMTTYPE=image/jpeg:https://kropp.de/wp-content/uploads/2026/03/Wappen_Stapel_512-300x300-gzJfjq.jpg
END:VEVENT
BEGIN:VEVENT
DTSTART;VALUE=DATE:20260507
DTEND;VALUE=DATE:20260508
DTSTAMP:20260421T213230
CREATED:20260414T123948Z
LAST-MODIFIED:20260414T123948Z
UID:10009736-1778112000-1778198399@kropp.de
SUMMARY:Stapel: Sprechstunde des Seniorenbeirats
DESCRIPTION:Liebe Senioren\,\nnutzen Sie die Sprechstunden in unserer Gemeinde für Ihre Anliegen.\nSeniorenbeirat in Stapel
URL:https://kropp.de/veranstaltung/stapel-sprechstunde-des-seniorenbeirats-5/
LOCATION:Bürgerhaus Stapel\, Kleiner Sitzungssaal (neben Bürgerbüro)
ATTACH;FMTTYPE=image/jpeg:https://kropp.de/wp-content/uploads/2026/03/Wappen_Stapel_512-300x300-gzJfjq.jpg
END:VEVENT
BEGIN:VEVENT
DTSTART;VALUE=DATE:20260507
DTEND;VALUE=DATE:20260508
DTSTAMP:20260421T213230
CREATED:20260421T123951Z
LAST-MODIFIED:20260421T123951Z
UID:10009756-1778112000-1778198399@kropp.de
SUMMARY:Stapel: Sprechstunde des Seniorenbeirats
DESCRIPTION:Liebe Senioren\,\nnutzen Sie die Sprechstunden in unserer Gemeinde für Ihre Anliegen.\nSeniorenbeirat in Stapel
URL:https://kropp.de/veranstaltung/stapel-sprechstunde-des-seniorenbeirats-6/
LOCATION:Bürgerhaus Stapel\, Kleiner Sitzungssaal (neben Bürgerbüro)
ATTACH;FMTTYPE=image/jpeg:https://kropp.de/wp-content/uploads/2026/03/Wappen_Stapel_512-300x300-gzJfjq.jpg
END:VEVENT
END:VCALENDAR