BEGIN:VCALENDAR
VERSION:2.0
PRODID:-//Gemeinde Kropp - ECPv6.15.20//NONSGML v1.0//EN
CALSCALE:GREGORIAN
METHOD:PUBLISH
X-ORIGINAL-URL:https://kropp.de
X-WR-CALDESC:Veranstaltungen für Gemeinde Kropp
REFRESH-INTERVAL;VALUE=DURATION:PT1H
X-Robots-Tag:noindex
X-PUBLISHED-TTL:PT1H
BEGIN:VTIMEZONE
TZID:Europe/Berlin
BEGIN:DAYLIGHT
TZOFFSETFROM:+0100
TZOFFSETTO:+0200
TZNAME:CEST
DTSTART:20250330T010000
END:DAYLIGHT
BEGIN:STANDARD
TZOFFSETFROM:+0200
TZOFFSETTO:+0100
TZNAME:CET
DTSTART:20251026T010000
END:STANDARD
BEGIN:DAYLIGHT
TZOFFSETFROM:+0100
TZOFFSETTO:+0200
TZNAME:CEST
DTSTART:20260329T010000
END:DAYLIGHT
BEGIN:STANDARD
TZOFFSETFROM:+0200
TZOFFSETTO:+0100
TZNAME:CET
DTSTART:20261025T010000
END:STANDARD
BEGIN:DAYLIGHT
TZOFFSETFROM:+0100
TZOFFSETTO:+0200
TZNAME:CEST
DTSTART:20270328T010000
END:DAYLIGHT
BEGIN:STANDARD
TZOFFSETFROM:+0200
TZOFFSETTO:+0100
TZNAME:CET
DTSTART:20271031T010000
END:STANDARD
END:VTIMEZONE
BEGIN:VEVENT
DTSTART;TZID=Europe/Berlin:20260416T150000
DTEND;TZID=Europe/Berlin:20260416T160000
DTSTAMP:20260423T202835
CREATED:20260210T094441Z
LAST-MODIFIED:20260210T094441Z
UID:10007675-1776351600-1776355200@kropp.de
SUMMARY:Kindertreff Dörpstedt
DESCRIPTION:Alle Kinder\, ab der ersten Klasse sind herzlich eingeladen – zum Spielen\, Basteln\, Malen u.v.m.\nEine Vorabanmeldung ist nicht nötig.\nKommt einfach vorbei.\nBitte habt immer einen Euro parat\, falls Materialkosten anfallen sollten.
URL:https://kropp.de/veranstaltung/kindertreff-doerpstedt/2026-04-16/
LOCATION:Dörps- un Sprüttenhus Dörpstedt\, Hauptstraße 34\, Dörpstedt\, 24869
ATTACH;FMTTYPE=image/jpeg:https://kropp.de/wp-content/uploads/2026/02/Kinder-_und_Jugendtreff.jpg
ORGANIZER;CN="Gemeinde Kropp":MAILTO:info@amt-ks.de
END:VEVENT
BEGIN:VEVENT
DTSTART;TZID=Europe/Berlin:20260312T150000
DTEND;TZID=Europe/Berlin:20260312T160000
DTSTAMP:20260423T202835
CREATED:20260210T094441Z
LAST-MODIFIED:20260210T094441Z
UID:10007674-1773327600-1773331200@kropp.de
SUMMARY:Kindertreff Dörpstedt
DESCRIPTION:Alle Kinder\, ab der ersten Klasse sind herzlich eingeladen – zum Spielen\, Basteln\, Malen u.v.m.\nEine Vorabanmeldung ist nicht nötig.\nKommt einfach vorbei.\nBitte habt immer einen Euro parat\, falls Materialkosten anfallen sollten.
URL:https://kropp.de/veranstaltung/kindertreff-doerpstedt/2026-03-12/
LOCATION:Dörps- un Sprüttenhus Dörpstedt\, Hauptstraße 34\, Dörpstedt\, 24869
ATTACH;FMTTYPE=image/jpeg:https://kropp.de/wp-content/uploads/2026/02/Kinder-_und_Jugendtreff.jpg
ORGANIZER;CN="Gemeinde Kropp":MAILTO:info@amt-ks.de
END:VEVENT
BEGIN:VEVENT
DTSTART;TZID=Europe/Berlin:20260306T193000
DTEND;TZID=Europe/Berlin:20260306T193000
DTSTAMP:20260423T202835
CREATED:20260227T113424Z
LAST-MODIFIED:20260227T113424Z
UID:10008356-1772825400-1772825400@kropp.de
SUMMARY:Jahreshauptversammlung SV Olympia 72
DESCRIPTION:
URL:https://kropp.de/veranstaltung/jahreshauptversammlung-sv-olympia-72/
LOCATION:Dörps- un Sprüttenhus Dörpstedt\, Hauptstraße 34\, Dörpstedt\, 24869
END:VEVENT
BEGIN:VEVENT
DTSTART;TZID=Europe/Berlin:20260219T150000
DTEND;TZID=Europe/Berlin:20260219T160000
DTSTAMP:20260423T202835
CREATED:20260210T094441Z
LAST-MODIFIED:20260210T094441Z
UID:10007673-1771513200-1771516800@kropp.de
SUMMARY:Kindertreff Dörpstedt
DESCRIPTION:Alle Kinder\, ab der ersten Klasse sind herzlich eingeladen – zum Spielen\, Basteln\, Malen u.v.m.\nEine Vorabanmeldung ist nicht nötig.\nKommt einfach vorbei.\nBitte habt immer einen Euro parat\, falls Materialkosten anfallen sollten.
URL:https://kropp.de/veranstaltung/kindertreff-doerpstedt/2026-02-19/
LOCATION:Dörps- un Sprüttenhus Dörpstedt\, Hauptstraße 34\, Dörpstedt\, 24869
ATTACH;FMTTYPE=image/jpeg:https://kropp.de/wp-content/uploads/2026/02/Kinder-_und_Jugendtreff.jpg
ORGANIZER;CN="Gemeinde Kropp":MAILTO:info@amt-ks.de
END:VEVENT
END:VCALENDAR