BEGIN:VCALENDAR
VERSION:2.0
PRODID:-//Gemeinde Kropp - ECPv6.15.20//NONSGML v1.0//EN
CALSCALE:GREGORIAN
METHOD:PUBLISH
X-ORIGINAL-URL:https://kropp.de
X-WR-CALDESC:Veranstaltungen für Gemeinde Kropp
REFRESH-INTERVAL;VALUE=DURATION:PT1H
X-Robots-Tag:noindex
X-PUBLISHED-TTL:PT1H
BEGIN:VTIMEZONE
TZID:Europe/Berlin
BEGIN:DAYLIGHT
TZOFFSETFROM:+0100
TZOFFSETTO:+0200
TZNAME:CEST
DTSTART:20250330T010000
END:DAYLIGHT
BEGIN:STANDARD
TZOFFSETFROM:+0200
TZOFFSETTO:+0100
TZNAME:CET
DTSTART:20251026T010000
END:STANDARD
BEGIN:DAYLIGHT
TZOFFSETFROM:+0100
TZOFFSETTO:+0200
TZNAME:CEST
DTSTART:20260329T010000
END:DAYLIGHT
BEGIN:STANDARD
TZOFFSETFROM:+0200
TZOFFSETTO:+0100
TZNAME:CET
DTSTART:20261025T010000
END:STANDARD
BEGIN:DAYLIGHT
TZOFFSETFROM:+0100
TZOFFSETTO:+0200
TZNAME:CEST
DTSTART:20270328T010000
END:DAYLIGHT
BEGIN:STANDARD
TZOFFSETFROM:+0200
TZOFFSETTO:+0100
TZNAME:CET
DTSTART:20271031T010000
END:STANDARD
END:VTIMEZONE
BEGIN:VEVENT
DTSTART;TZID=Europe/Berlin:20261002T170000
DTEND;TZID=Europe/Berlin:20261002T220000
DTSTAMP:20260423T223526
CREATED:20260303T091003Z
LAST-MODIFIED:20260303T091003Z
UID:10009346-1790960400-1790978400@kropp.de
SUMMARY:Gänsehaut garantiert: Horror-Lesung mit David Nathan in Kropps historischer Kirche
DESCRIPTION:Ein außergewöhnlicher Kulturabend erwartet Sie in Kropp:David Nathan\, eine der bekanntesten Stimmen Deutschlands\, verwandelt die historische Kirche in einen Ort des wohligen Schauderns. \nAls deutsche Stimme von Ryan Gosling\, Johnny Depp und zahlreichen Hörbuch-Helden ist David Nathan Millionen von Zuhörerinnen und Zuhörern vertraut. Live entfaltet seine Stimme jedoch eine ganz eigene\, intensive Kraft – besonders in der einzigartigen Atmosphäre eines Kirchenraums. \nMeisterhafte Horror-Literatur in besonderer Kulisse\nFreuen Sie sich auf ausgewählte Geschichten vonH. P. Lovecraft und Stephen King – eindringlich\, atmosphärisch und mit höchster erzählerischer Präzision vorgetragen. \nDie besondere Akustik der historischen Kirche verstärkt jede Nuance\, jedes Flüstern\, jede dramatische Pause. So entsteht ein Hörerlebnis\, das unter die Haut geht – Spannung und Gänsehaut sind garantiert. \nPersönliches Gespräch & Einblicke hinter die Kulissen\nIm Anschluss an die Lesung lädt David Nathan zu einem offenen Gespräch ein.Er berichtet aus seiner Arbeit als Synchronsprecher und Hörbuchinterpret\, erzählt von Studioerlebnissen und beantwortet Fragen aus dem Publikum. \nEine Autogrammstunde rundet den Abend ab – bringen Sie gerne Bücher\, CDs oder andere Erinnerungsstücke mit. \nKulinarisches & Organisation\nFür das leibliche Wohl sorgt der TSV Kropp vor der Kirche mit Bratwurst und weiteren Angeboten.Während der Veranstaltung steht kostenloses Wasser bereit\, zusätzliche Getränke erhalten Sie gegen Spende. \nJetzt Sitzplatz sichern\nTicket gibt es im online Vorverkauf \nErleben Sie Horror-Literatur in einer Form\, die Sie nicht so schnell vergessen werden.
URL:https://kropp.de/veranstaltung/gaensehaut-garantiert-horror-lesung-mit-david-nathan-in-kropps-historischer-kirche/
LOCATION:Dorfkirche Kropp\, An der Kirche\, Kropp\, 24848
ATTACH;FMTTYPE=image/png:https://kropp.de/wp-content/uploads/2026/03/Lesung-David-Nathan_Zeichenflaeche-1-scaled.png
ORGANIZER;CN="B%C3%BCcherei Kropp":MAILTO:buecherei@kropp.de
END:VEVENT
END:VCALENDAR