BEGIN:VCALENDAR
VERSION:2.0
PRODID:-//Gemeinde Kropp - ECPv6.15.20//NONSGML v1.0//EN
CALSCALE:GREGORIAN
METHOD:PUBLISH
X-WR-CALNAME:Gemeinde Kropp
X-ORIGINAL-URL:https://kropp.de
X-WR-CALDESC:Veranstaltungen für Gemeinde Kropp
REFRESH-INTERVAL;VALUE=DURATION:PT1H
X-Robots-Tag:noindex
X-PUBLISHED-TTL:PT1H
BEGIN:VTIMEZONE
TZID:Europe/Berlin
BEGIN:DAYLIGHT
TZOFFSETFROM:+0100
TZOFFSETTO:+0200
TZNAME:CEST
DTSTART:20250330T010000
END:DAYLIGHT
BEGIN:STANDARD
TZOFFSETFROM:+0200
TZOFFSETTO:+0100
TZNAME:CET
DTSTART:20251026T010000
END:STANDARD
BEGIN:DAYLIGHT
TZOFFSETFROM:+0100
TZOFFSETTO:+0200
TZNAME:CEST
DTSTART:20260329T010000
END:DAYLIGHT
BEGIN:STANDARD
TZOFFSETFROM:+0200
TZOFFSETTO:+0100
TZNAME:CET
DTSTART:20261025T010000
END:STANDARD
BEGIN:DAYLIGHT
TZOFFSETFROM:+0100
TZOFFSETTO:+0200
TZNAME:CEST
DTSTART:20270328T010000
END:DAYLIGHT
BEGIN:STANDARD
TZOFFSETFROM:+0200
TZOFFSETTO:+0100
TZNAME:CET
DTSTART:20271031T010000
END:STANDARD
BEGIN:DAYLIGHT
TZOFFSETFROM:+0100
TZOFFSETTO:+0200
TZNAME:CEST
DTSTART:20280326T010000
END:DAYLIGHT
BEGIN:STANDARD
TZOFFSETFROM:+0200
TZOFFSETTO:+0100
TZNAME:CET
DTSTART:20281029T010000
END:STANDARD
BEGIN:DAYLIGHT
TZOFFSETFROM:+0100
TZOFFSETTO:+0200
TZNAME:CEST
DTSTART:20290325T010000
END:DAYLIGHT
BEGIN:STANDARD
TZOFFSETFROM:+0200
TZOFFSETTO:+0100
TZNAME:CET
DTSTART:20291028T010000
END:STANDARD
END:VTIMEZONE
BEGIN:VEVENT
DTSTART;TZID=Europe/Berlin:20261026T143000
DTEND;TZID=Europe/Berlin:20261026T163000
DTSTAMP:20260425T194824
CREATED:20260225T124439Z
LAST-MODIFIED:20260225T124439Z
UID:10008610-1793025000-1793032200@kropp.de
SUMMARY:DRK Spätlese
DESCRIPTION:Die Senioren der DRK – Spätlese kommen jeden 2. und 4. Montag im Monat zusammen. \nUm gemeinsam Zeit beim Austausch\, Begegnungen und gemütlichen Kaffee & Kuchen zu verbringen.
URL:https://kropp.de/veranstaltung/drk-spaetlese-4-2-2/2026-10-26/
LOCATION:Ev. Gemeindezentrum Hauptstrasse 3
ATTACH;FMTTYPE=image/jpeg:https://kropp.de/wp-content/uploads/2025/12/Logo-DRK.jpg
END:VEVENT
BEGIN:VEVENT
DTSTART;TZID=Europe/Berlin:20261109T143000
DTEND;TZID=Europe/Berlin:20261109T163000
DTSTAMP:20260425T194824
CREATED:20260225T124850Z
LAST-MODIFIED:20260225T124850Z
UID:10008750-1794234600-1794241800@kropp.de
SUMMARY:DRK Spätlese
DESCRIPTION:Die Senioren der DRK – Spätlese kommen jeden 2. und 4. Montag im Monat zusammen. \nUm gemeinsam Zeit beim Austausch\, Begegnungen und gemütlichen Kaffee & Kuchen zu verbringen.
URL:https://kropp.de/veranstaltung/drk-spaetlese-4-2-2-2/
LOCATION:Ev. Gemeindezentrum Hauptstrasse 3
ATTACH;FMTTYPE=image/jpeg:https://kropp.de/wp-content/uploads/2025/12/Logo-DRK.jpg
END:VEVENT
BEGIN:VEVENT
DTSTART;TZID=Europe/Berlin:20261109T143000
DTEND;TZID=Europe/Berlin:20261109T163000
DTSTAMP:20260425T194824
CREATED:20260225T124907Z
LAST-MODIFIED:20260225T124958Z
UID:10008611-1794234600-1794241800@kropp.de
SUMMARY:DRK Spätlese
DESCRIPTION:Die Senioren der DRK – Spätlese kommen jeden 2. und 4. Montag im Monat zusammen. \nUm gemeinsam Zeit beim Austausch\, Begegnungen und gemütlichen Kaffee & Kuchen zu verbringen.
URL:https://kropp.de/veranstaltung/drk-spaetlese-4-2-2-2-2/2026-11-09/
LOCATION:Ev. Gemeindezentrum Hauptstrasse 3
ATTACH;FMTTYPE=image/jpeg:https://kropp.de/wp-content/uploads/2025/12/Logo-DRK.jpg
END:VEVENT
BEGIN:VEVENT
DTSTART;TZID=Europe/Berlin:20261214T143000
DTEND;TZID=Europe/Berlin:20261214T163000
DTSTAMP:20260425T194824
CREATED:20260225T124907Z
LAST-MODIFIED:20260225T124958Z
UID:10008725-1797258600-1797265800@kropp.de
SUMMARY:DRK Spätlese
DESCRIPTION:Die Senioren der DRK – Spätlese kommen jeden 2. und 4. Montag im Monat zusammen. \nUm gemeinsam Zeit beim Austausch\, Begegnungen und gemütlichen Kaffee & Kuchen zu verbringen.
URL:https://kropp.de/veranstaltung/drk-spaetlese-4-2-2-2-2/2026-12-14/
LOCATION:Ev. Gemeindezentrum Hauptstrasse 3
ATTACH;FMTTYPE=image/jpeg:https://kropp.de/wp-content/uploads/2025/12/Logo-DRK.jpg
END:VEVENT
BEGIN:VEVENT
DTSTART;TZID=Europe/Berlin:20261228T143000
DTEND;TZID=Europe/Berlin:20261228T163000
DTSTAMP:20260425T194824
CREATED:20260225T125201Z
LAST-MODIFIED:20260225T125201Z
UID:10008803-1798468200-1798475400@kropp.de
SUMMARY:DRK Spätlese
DESCRIPTION:Die Senioren der DRK – Spätlese kommen jeden 2. und 4. Montag im Monat zusammen. \nUm gemeinsam Zeit beim Austausch\, Begegnungen und gemütlichen Kaffee & Kuchen zu verbringen.
URL:https://kropp.de/veranstaltung/drk-spaetlese-5/2026-12-28/
LOCATION:Ev. Gemeindezentrum Hauptstrasse 3
ATTACH;FMTTYPE=image/jpeg:https://kropp.de/wp-content/uploads/2025/12/Logo-DRK.jpg
END:VEVENT
BEGIN:VEVENT
DTSTART;TZID=Europe/Berlin:20270111T143000
DTEND;TZID=Europe/Berlin:20270111T163000
DTSTAMP:20260425T194824
CREATED:20260225T124907Z
LAST-MODIFIED:20260225T124958Z
UID:10008726-1799677800-1799685000@kropp.de
SUMMARY:DRK Spätlese
DESCRIPTION:Die Senioren der DRK – Spätlese kommen jeden 2. und 4. Montag im Monat zusammen. \nUm gemeinsam Zeit beim Austausch\, Begegnungen und gemütlichen Kaffee & Kuchen zu verbringen.
URL:https://kropp.de/veranstaltung/drk-spaetlese-4-2-2-2-2/2027-01-11/
LOCATION:Ev. Gemeindezentrum Hauptstrasse 3
ATTACH;FMTTYPE=image/jpeg:https://kropp.de/wp-content/uploads/2025/12/Logo-DRK.jpg
END:VEVENT
BEGIN:VEVENT
DTSTART;TZID=Europe/Berlin:20270125T143000
DTEND;TZID=Europe/Berlin:20270125T163000
DTSTAMP:20260425T194824
CREATED:20260225T125201Z
LAST-MODIFIED:20260225T125201Z
UID:10008804-1800887400-1800894600@kropp.de
SUMMARY:DRK Spätlese
DESCRIPTION:Die Senioren der DRK – Spätlese kommen jeden 2. und 4. Montag im Monat zusammen. \nUm gemeinsam Zeit beim Austausch\, Begegnungen und gemütlichen Kaffee & Kuchen zu verbringen.
URL:https://kropp.de/veranstaltung/drk-spaetlese-5/2027-01-25/
LOCATION:Ev. Gemeindezentrum Hauptstrasse 3
ATTACH;FMTTYPE=image/jpeg:https://kropp.de/wp-content/uploads/2025/12/Logo-DRK.jpg
END:VEVENT
BEGIN:VEVENT
DTSTART;TZID=Europe/Berlin:20270208T143000
DTEND;TZID=Europe/Berlin:20270208T163000
DTSTAMP:20260425T194824
CREATED:20260225T124907Z
LAST-MODIFIED:20260225T124958Z
UID:10008727-1802097000-1802104200@kropp.de
SUMMARY:DRK Spätlese
DESCRIPTION:Die Senioren der DRK – Spätlese kommen jeden 2. und 4. Montag im Monat zusammen. \nUm gemeinsam Zeit beim Austausch\, Begegnungen und gemütlichen Kaffee & Kuchen zu verbringen.
URL:https://kropp.de/veranstaltung/drk-spaetlese-4-2-2-2-2/2027-02-08/
LOCATION:Ev. Gemeindezentrum Hauptstrasse 3
ATTACH;FMTTYPE=image/jpeg:https://kropp.de/wp-content/uploads/2025/12/Logo-DRK.jpg
END:VEVENT
BEGIN:VEVENT
DTSTART;TZID=Europe/Berlin:20270222T143000
DTEND;TZID=Europe/Berlin:20270222T163000
DTSTAMP:20260425T194824
CREATED:20260225T125201Z
LAST-MODIFIED:20260225T125201Z
UID:10008805-1803306600-1803313800@kropp.de
SUMMARY:DRK Spätlese
DESCRIPTION:Die Senioren der DRK – Spätlese kommen jeden 2. und 4. Montag im Monat zusammen. \nUm gemeinsam Zeit beim Austausch\, Begegnungen und gemütlichen Kaffee & Kuchen zu verbringen.
URL:https://kropp.de/veranstaltung/drk-spaetlese-5/2027-02-22/
LOCATION:Ev. Gemeindezentrum Hauptstrasse 3
ATTACH;FMTTYPE=image/jpeg:https://kropp.de/wp-content/uploads/2025/12/Logo-DRK.jpg
END:VEVENT
BEGIN:VEVENT
DTSTART;TZID=Europe/Berlin:20270308T143000
DTEND;TZID=Europe/Berlin:20270308T163000
DTSTAMP:20260425T194824
CREATED:20260225T124907Z
LAST-MODIFIED:20260225T124958Z
UID:10008728-1804516200-1804523400@kropp.de
SUMMARY:DRK Spätlese
DESCRIPTION:Die Senioren der DRK – Spätlese kommen jeden 2. und 4. Montag im Monat zusammen. \nUm gemeinsam Zeit beim Austausch\, Begegnungen und gemütlichen Kaffee & Kuchen zu verbringen.
URL:https://kropp.de/veranstaltung/drk-spaetlese-4-2-2-2-2/2027-03-08/
LOCATION:Ev. Gemeindezentrum Hauptstrasse 3
ATTACH;FMTTYPE=image/jpeg:https://kropp.de/wp-content/uploads/2025/12/Logo-DRK.jpg
END:VEVENT
BEGIN:VEVENT
DTSTART;TZID=Europe/Berlin:20270322T143000
DTEND;TZID=Europe/Berlin:20270322T163000
DTSTAMP:20260425T194824
CREATED:20260225T125201Z
LAST-MODIFIED:20260225T125201Z
UID:10008806-1805725800-1805733000@kropp.de
SUMMARY:DRK Spätlese
DESCRIPTION:Die Senioren der DRK – Spätlese kommen jeden 2. und 4. Montag im Monat zusammen. \nUm gemeinsam Zeit beim Austausch\, Begegnungen und gemütlichen Kaffee & Kuchen zu verbringen.
URL:https://kropp.de/veranstaltung/drk-spaetlese-5/2027-03-22/
LOCATION:Ev. Gemeindezentrum Hauptstrasse 3
ATTACH;FMTTYPE=image/jpeg:https://kropp.de/wp-content/uploads/2025/12/Logo-DRK.jpg
END:VEVENT
BEGIN:VEVENT
DTSTART;TZID=Europe/Berlin:20270412T143000
DTEND;TZID=Europe/Berlin:20270412T163000
DTSTAMP:20260425T194824
CREATED:20260225T124907Z
LAST-MODIFIED:20260225T124958Z
UID:10008622-1807540200-1807547400@kropp.de
SUMMARY:DRK Spätlese
DESCRIPTION:Die Senioren der DRK – Spätlese kommen jeden 2. und 4. Montag im Monat zusammen. \nUm gemeinsam Zeit beim Austausch\, Begegnungen und gemütlichen Kaffee & Kuchen zu verbringen.
URL:https://kropp.de/veranstaltung/drk-spaetlese-4-2-2-2-2/2027-04-12/
LOCATION:Ev. Gemeindezentrum Hauptstrasse 3
ATTACH;FMTTYPE=image/jpeg:https://kropp.de/wp-content/uploads/2025/12/Logo-DRK.jpg
END:VEVENT
BEGIN:VEVENT
DTSTART;TZID=Europe/Berlin:20270426T143000
DTEND;TZID=Europe/Berlin:20270426T163000
DTSTAMP:20260425T194824
CREATED:20260225T125201Z
LAST-MODIFIED:20260225T125201Z
UID:10008807-1808749800-1808757000@kropp.de
SUMMARY:DRK Spätlese
DESCRIPTION:Die Senioren der DRK – Spätlese kommen jeden 2. und 4. Montag im Monat zusammen. \nUm gemeinsam Zeit beim Austausch\, Begegnungen und gemütlichen Kaffee & Kuchen zu verbringen.
URL:https://kropp.de/veranstaltung/drk-spaetlese-5/2027-04-26/
LOCATION:Ev. Gemeindezentrum Hauptstrasse 3
ATTACH;FMTTYPE=image/jpeg:https://kropp.de/wp-content/uploads/2025/12/Logo-DRK.jpg
END:VEVENT
BEGIN:VEVENT
DTSTART;TZID=Europe/Berlin:20270510T143000
DTEND;TZID=Europe/Berlin:20270510T163000
DTSTAMP:20260425T194824
CREATED:20260225T124907Z
LAST-MODIFIED:20260225T124958Z
UID:10008624-1809959400-1809966600@kropp.de
SUMMARY:DRK Spätlese
DESCRIPTION:Die Senioren der DRK – Spätlese kommen jeden 2. und 4. Montag im Monat zusammen. \nUm gemeinsam Zeit beim Austausch\, Begegnungen und gemütlichen Kaffee & Kuchen zu verbringen.
URL:https://kropp.de/veranstaltung/drk-spaetlese-4-2-2-2-2/2027-05-10/
LOCATION:Ev. Gemeindezentrum Hauptstrasse 3
ATTACH;FMTTYPE=image/jpeg:https://kropp.de/wp-content/uploads/2025/12/Logo-DRK.jpg
END:VEVENT
BEGIN:VEVENT
DTSTART;TZID=Europe/Berlin:20270524T143000
DTEND;TZID=Europe/Berlin:20270524T163000
DTSTAMP:20260425T194824
CREATED:20260225T125201Z
LAST-MODIFIED:20260225T125201Z
UID:10008808-1811169000-1811176200@kropp.de
SUMMARY:DRK Spätlese
DESCRIPTION:Die Senioren der DRK – Spätlese kommen jeden 2. und 4. Montag im Monat zusammen. \nUm gemeinsam Zeit beim Austausch\, Begegnungen und gemütlichen Kaffee & Kuchen zu verbringen.
URL:https://kropp.de/veranstaltung/drk-spaetlese-5/2027-05-24/
LOCATION:Ev. Gemeindezentrum Hauptstrasse 3
ATTACH;FMTTYPE=image/jpeg:https://kropp.de/wp-content/uploads/2025/12/Logo-DRK.jpg
END:VEVENT
BEGIN:VEVENT
DTSTART;TZID=Europe/Berlin:20270614T143000
DTEND;TZID=Europe/Berlin:20270614T163000
DTSTAMP:20260425T194824
CREATED:20260225T124907Z
LAST-MODIFIED:20260225T124958Z
UID:10008729-1812983400-1812990600@kropp.de
SUMMARY:DRK Spätlese
DESCRIPTION:Die Senioren der DRK – Spätlese kommen jeden 2. und 4. Montag im Monat zusammen. \nUm gemeinsam Zeit beim Austausch\, Begegnungen und gemütlichen Kaffee & Kuchen zu verbringen.
URL:https://kropp.de/veranstaltung/drk-spaetlese-4-2-2-2-2/2027-06-14/
LOCATION:Ev. Gemeindezentrum Hauptstrasse 3
ATTACH;FMTTYPE=image/jpeg:https://kropp.de/wp-content/uploads/2025/12/Logo-DRK.jpg
END:VEVENT
BEGIN:VEVENT
DTSTART;TZID=Europe/Berlin:20270628T143000
DTEND;TZID=Europe/Berlin:20270628T163000
DTSTAMP:20260425T194824
CREATED:20260225T125201Z
LAST-MODIFIED:20260225T125201Z
UID:10008809-1814193000-1814200200@kropp.de
SUMMARY:DRK Spätlese
DESCRIPTION:Die Senioren der DRK – Spätlese kommen jeden 2. und 4. Montag im Monat zusammen. \nUm gemeinsam Zeit beim Austausch\, Begegnungen und gemütlichen Kaffee & Kuchen zu verbringen.
URL:https://kropp.de/veranstaltung/drk-spaetlese-5/2027-06-28/
LOCATION:Ev. Gemeindezentrum Hauptstrasse 3
ATTACH;FMTTYPE=image/jpeg:https://kropp.de/wp-content/uploads/2025/12/Logo-DRK.jpg
END:VEVENT
BEGIN:VEVENT
DTSTART;TZID=Europe/Berlin:20270712T143000
DTEND;TZID=Europe/Berlin:20270712T163000
DTSTAMP:20260425T194824
CREATED:20260225T124907Z
LAST-MODIFIED:20260225T124958Z
UID:10008730-1815402600-1815409800@kropp.de
SUMMARY:DRK Spätlese
DESCRIPTION:Die Senioren der DRK – Spätlese kommen jeden 2. und 4. Montag im Monat zusammen. \nUm gemeinsam Zeit beim Austausch\, Begegnungen und gemütlichen Kaffee & Kuchen zu verbringen.
URL:https://kropp.de/veranstaltung/drk-spaetlese-4-2-2-2-2/2027-07-12/
LOCATION:Ev. Gemeindezentrum Hauptstrasse 3
ATTACH;FMTTYPE=image/jpeg:https://kropp.de/wp-content/uploads/2025/12/Logo-DRK.jpg
END:VEVENT
BEGIN:VEVENT
DTSTART;TZID=Europe/Berlin:20270726T143000
DTEND;TZID=Europe/Berlin:20270726T163000
DTSTAMP:20260425T194824
CREATED:20260225T125201Z
LAST-MODIFIED:20260225T125201Z
UID:10008810-1816612200-1816619400@kropp.de
SUMMARY:DRK Spätlese
DESCRIPTION:Die Senioren der DRK – Spätlese kommen jeden 2. und 4. Montag im Monat zusammen. \nUm gemeinsam Zeit beim Austausch\, Begegnungen und gemütlichen Kaffee & Kuchen zu verbringen.
URL:https://kropp.de/veranstaltung/drk-spaetlese-5/2027-07-26/
LOCATION:Ev. Gemeindezentrum Hauptstrasse 3
ATTACH;FMTTYPE=image/jpeg:https://kropp.de/wp-content/uploads/2025/12/Logo-DRK.jpg
END:VEVENT
BEGIN:VEVENT
DTSTART;TZID=Europe/Berlin:20270809T143000
DTEND;TZID=Europe/Berlin:20270809T163000
DTSTAMP:20260425T194824
CREATED:20260225T124907Z
LAST-MODIFIED:20260225T124958Z
UID:10008731-1817821800-1817829000@kropp.de
SUMMARY:DRK Spätlese
DESCRIPTION:Die Senioren der DRK – Spätlese kommen jeden 2. und 4. Montag im Monat zusammen. \nUm gemeinsam Zeit beim Austausch\, Begegnungen und gemütlichen Kaffee & Kuchen zu verbringen.
URL:https://kropp.de/veranstaltung/drk-spaetlese-4-2-2-2-2/2027-08-09/
LOCATION:Ev. Gemeindezentrum Hauptstrasse 3
ATTACH;FMTTYPE=image/jpeg:https://kropp.de/wp-content/uploads/2025/12/Logo-DRK.jpg
END:VEVENT
BEGIN:VEVENT
DTSTART;TZID=Europe/Berlin:20270823T143000
DTEND;TZID=Europe/Berlin:20270823T163000
DTSTAMP:20260425T194824
CREATED:20260225T125201Z
LAST-MODIFIED:20260225T125201Z
UID:10008811-1819031400-1819038600@kropp.de
SUMMARY:DRK Spätlese
DESCRIPTION:Die Senioren der DRK – Spätlese kommen jeden 2. und 4. Montag im Monat zusammen. \nUm gemeinsam Zeit beim Austausch\, Begegnungen und gemütlichen Kaffee & Kuchen zu verbringen.
URL:https://kropp.de/veranstaltung/drk-spaetlese-5/2027-08-23/
LOCATION:Ev. Gemeindezentrum Hauptstrasse 3
ATTACH;FMTTYPE=image/jpeg:https://kropp.de/wp-content/uploads/2025/12/Logo-DRK.jpg
END:VEVENT
BEGIN:VEVENT
DTSTART;TZID=Europe/Berlin:20270913T143000
DTEND;TZID=Europe/Berlin:20270913T163000
DTSTAMP:20260425T194824
CREATED:20260225T124907Z
LAST-MODIFIED:20260225T124958Z
UID:10008633-1820845800-1820853000@kropp.de
SUMMARY:DRK Spätlese
DESCRIPTION:Die Senioren der DRK – Spätlese kommen jeden 2. und 4. Montag im Monat zusammen. \nUm gemeinsam Zeit beim Austausch\, Begegnungen und gemütlichen Kaffee & Kuchen zu verbringen.
URL:https://kropp.de/veranstaltung/drk-spaetlese-4-2-2-2-2/2027-09-13/
LOCATION:Ev. Gemeindezentrum Hauptstrasse 3
ATTACH;FMTTYPE=image/jpeg:https://kropp.de/wp-content/uploads/2025/12/Logo-DRK.jpg
END:VEVENT
BEGIN:VEVENT
DTSTART;TZID=Europe/Berlin:20270927T143000
DTEND;TZID=Europe/Berlin:20270927T163000
DTSTAMP:20260425T194824
CREATED:20260225T125201Z
LAST-MODIFIED:20260225T125201Z
UID:10008812-1822055400-1822062600@kropp.de
SUMMARY:DRK Spätlese
DESCRIPTION:Die Senioren der DRK – Spätlese kommen jeden 2. und 4. Montag im Monat zusammen. \nUm gemeinsam Zeit beim Austausch\, Begegnungen und gemütlichen Kaffee & Kuchen zu verbringen.
URL:https://kropp.de/veranstaltung/drk-spaetlese-5/2027-09-27/
LOCATION:Ev. Gemeindezentrum Hauptstrasse 3
ATTACH;FMTTYPE=image/jpeg:https://kropp.de/wp-content/uploads/2025/12/Logo-DRK.jpg
END:VEVENT
BEGIN:VEVENT
DTSTART;TZID=Europe/Berlin:20271011T143000
DTEND;TZID=Europe/Berlin:20271011T163000
DTSTAMP:20260425T194824
CREATED:20260225T124907Z
LAST-MODIFIED:20260225T124958Z
UID:10008635-1823265000-1823272200@kropp.de
SUMMARY:DRK Spätlese
DESCRIPTION:Die Senioren der DRK – Spätlese kommen jeden 2. und 4. Montag im Monat zusammen. \nUm gemeinsam Zeit beim Austausch\, Begegnungen und gemütlichen Kaffee & Kuchen zu verbringen.
URL:https://kropp.de/veranstaltung/drk-spaetlese-4-2-2-2-2/2027-10-11/
LOCATION:Ev. Gemeindezentrum Hauptstrasse 3
ATTACH;FMTTYPE=image/jpeg:https://kropp.de/wp-content/uploads/2025/12/Logo-DRK.jpg
END:VEVENT
BEGIN:VEVENT
DTSTART;TZID=Europe/Berlin:20271025T143000
DTEND;TZID=Europe/Berlin:20271025T163000
DTSTAMP:20260425T194824
CREATED:20260225T125201Z
LAST-MODIFIED:20260225T125201Z
UID:10008813-1824474600-1824481800@kropp.de
SUMMARY:DRK Spätlese
DESCRIPTION:Die Senioren der DRK – Spätlese kommen jeden 2. und 4. Montag im Monat zusammen. \nUm gemeinsam Zeit beim Austausch\, Begegnungen und gemütlichen Kaffee & Kuchen zu verbringen.
URL:https://kropp.de/veranstaltung/drk-spaetlese-5/2027-10-25/
LOCATION:Ev. Gemeindezentrum Hauptstrasse 3
ATTACH;FMTTYPE=image/jpeg:https://kropp.de/wp-content/uploads/2025/12/Logo-DRK.jpg
END:VEVENT
BEGIN:VEVENT
DTSTART;TZID=Europe/Berlin:20271108T143000
DTEND;TZID=Europe/Berlin:20271108T163000
DTSTAMP:20260425T194824
CREATED:20260225T124907Z
LAST-MODIFIED:20260225T124958Z
UID:10008637-1825684200-1825691400@kropp.de
SUMMARY:DRK Spätlese
DESCRIPTION:Die Senioren der DRK – Spätlese kommen jeden 2. und 4. Montag im Monat zusammen. \nUm gemeinsam Zeit beim Austausch\, Begegnungen und gemütlichen Kaffee & Kuchen zu verbringen.
URL:https://kropp.de/veranstaltung/drk-spaetlese-4-2-2-2-2/2027-11-08/
LOCATION:Ev. Gemeindezentrum Hauptstrasse 3
ATTACH;FMTTYPE=image/jpeg:https://kropp.de/wp-content/uploads/2025/12/Logo-DRK.jpg
END:VEVENT
BEGIN:VEVENT
DTSTART;TZID=Europe/Berlin:20271122T143000
DTEND;TZID=Europe/Berlin:20271122T163000
DTSTAMP:20260425T194824
CREATED:20260225T125201Z
LAST-MODIFIED:20260225T125201Z
UID:10008814-1826893800-1826901000@kropp.de
SUMMARY:DRK Spätlese
DESCRIPTION:Die Senioren der DRK – Spätlese kommen jeden 2. und 4. Montag im Monat zusammen. \nUm gemeinsam Zeit beim Austausch\, Begegnungen und gemütlichen Kaffee & Kuchen zu verbringen.
URL:https://kropp.de/veranstaltung/drk-spaetlese-5/2027-11-22/
LOCATION:Ev. Gemeindezentrum Hauptstrasse 3
ATTACH;FMTTYPE=image/jpeg:https://kropp.de/wp-content/uploads/2025/12/Logo-DRK.jpg
END:VEVENT
BEGIN:VEVENT
DTSTART;TZID=Europe/Berlin:20271213T143000
DTEND;TZID=Europe/Berlin:20271213T163000
DTSTAMP:20260425T194824
CREATED:20260225T124907Z
LAST-MODIFIED:20260225T124958Z
UID:10008732-1828708200-1828715400@kropp.de
SUMMARY:DRK Spätlese
DESCRIPTION:Die Senioren der DRK – Spätlese kommen jeden 2. und 4. Montag im Monat zusammen. \nUm gemeinsam Zeit beim Austausch\, Begegnungen und gemütlichen Kaffee & Kuchen zu verbringen.
URL:https://kropp.de/veranstaltung/drk-spaetlese-4-2-2-2-2/2027-12-13/
LOCATION:Ev. Gemeindezentrum Hauptstrasse 3
ATTACH;FMTTYPE=image/jpeg:https://kropp.de/wp-content/uploads/2025/12/Logo-DRK.jpg
END:VEVENT
BEGIN:VEVENT
DTSTART;TZID=Europe/Berlin:20271227T143000
DTEND;TZID=Europe/Berlin:20271227T163000
DTSTAMP:20260425T194824
CREATED:20260225T125201Z
LAST-MODIFIED:20260225T125201Z
UID:10008815-1829917800-1829925000@kropp.de
SUMMARY:DRK Spätlese
DESCRIPTION:Die Senioren der DRK – Spätlese kommen jeden 2. und 4. Montag im Monat zusammen. \nUm gemeinsam Zeit beim Austausch\, Begegnungen und gemütlichen Kaffee & Kuchen zu verbringen.
URL:https://kropp.de/veranstaltung/drk-spaetlese-5/2027-12-27/
LOCATION:Ev. Gemeindezentrum Hauptstrasse 3
ATTACH;FMTTYPE=image/jpeg:https://kropp.de/wp-content/uploads/2025/12/Logo-DRK.jpg
END:VEVENT
BEGIN:VEVENT
DTSTART;TZID=Europe/Berlin:20280110T143000
DTEND;TZID=Europe/Berlin:20280110T163000
DTSTAMP:20260425T194824
CREATED:20260225T124907Z
LAST-MODIFIED:20260225T124958Z
UID:10008733-1831127400-1831134600@kropp.de
SUMMARY:DRK Spätlese
DESCRIPTION:Die Senioren der DRK – Spätlese kommen jeden 2. und 4. Montag im Monat zusammen. \nUm gemeinsam Zeit beim Austausch\, Begegnungen und gemütlichen Kaffee & Kuchen zu verbringen.
URL:https://kropp.de/veranstaltung/drk-spaetlese-4-2-2-2-2/2028-01-10/
LOCATION:Ev. Gemeindezentrum Hauptstrasse 3
ATTACH;FMTTYPE=image/jpeg:https://kropp.de/wp-content/uploads/2025/12/Logo-DRK.jpg
END:VEVENT
END:VCALENDAR