BEGIN:VCALENDAR
VERSION:2.0
PRODID:-//Gemeinde Kropp - ECPv6.15.20//NONSGML v1.0//EN
CALSCALE:GREGORIAN
METHOD:PUBLISH
X-WR-CALNAME:Gemeinde Kropp
X-ORIGINAL-URL:https://kropp.de
X-WR-CALDESC:Veranstaltungen für Gemeinde Kropp
REFRESH-INTERVAL;VALUE=DURATION:PT1H
X-Robots-Tag:noindex
X-PUBLISHED-TTL:PT1H
BEGIN:VTIMEZONE
TZID:Europe/Berlin
BEGIN:DAYLIGHT
TZOFFSETFROM:+0100
TZOFFSETTO:+0200
TZNAME:CEST
DTSTART:20250330T010000
END:DAYLIGHT
BEGIN:STANDARD
TZOFFSETFROM:+0200
TZOFFSETTO:+0100
TZNAME:CET
DTSTART:20251026T010000
END:STANDARD
BEGIN:DAYLIGHT
TZOFFSETFROM:+0100
TZOFFSETTO:+0200
TZNAME:CEST
DTSTART:20260329T010000
END:DAYLIGHT
BEGIN:STANDARD
TZOFFSETFROM:+0200
TZOFFSETTO:+0100
TZNAME:CET
DTSTART:20261025T010000
END:STANDARD
BEGIN:DAYLIGHT
TZOFFSETFROM:+0100
TZOFFSETTO:+0200
TZNAME:CEST
DTSTART:20270328T010000
END:DAYLIGHT
BEGIN:STANDARD
TZOFFSETFROM:+0200
TZOFFSETTO:+0100
TZNAME:CET
DTSTART:20271031T010000
END:STANDARD
END:VTIMEZONE
BEGIN:VEVENT
DTSTART;TZID=Europe/Berlin:20260501T060000
DTEND;TZID=Europe/Berlin:20260501T170000
DTSTAMP:20260422T055953
CREATED:20260225T095723Z
LAST-MODIFIED:20260225T095723Z
UID:10008346-1777615200-1777654800@kropp.de
SUMMARY:Anangeln an der Sorge
DESCRIPTION:Wir laden herzlich zum Anangeln ein. \nGemeinsam eröffnen wir die Angelsaison. \nFür das leibliche Wohl ist gesorgt. \nWir freuen uns auf zahlreiche Teilnehmerinnen und Teilnehmer sowie interessierte Gäste. \nTreffpunkt: Fischerhütte
URL:https://kropp.de/veranstaltung/anangeln-an-der-sorge/
LOCATION:Fischerhütte\,Klein Bennebek
ATTACH;FMTTYPE=image/jpeg:https://kropp.de/wp-content/uploads/2026/02/a-man-enjoys-fishing-at-a-lake-showcasing-a-relaxed-outdoor-hobby-in-nature.-294674-scaled.jpg
END:VEVENT
BEGIN:VEVENT
DTSTART;TZID=Europe/Berlin:20260514T100000
DTEND;TZID=Europe/Berlin:20260514T170000
DTSTAMP:20260422T055953
CREATED:20260316T072126Z
LAST-MODIFIED:20260316T072126Z
UID:10009366-1778752800-1778778000@kropp.de
SUMMARY:Grillen an der Fischerhütte in Klein Bennebek
DESCRIPTION:Der Fischereiverein Klein Bennebek lädt alle Mitglieder \nherzlich zum gemeinsamen Grillen ein.
URL:https://kropp.de/veranstaltung/grillen-an-der-fischerhuette-in-klein-bennebek/
LOCATION:Fischerhütte\,Klein Bennebek
ATTACH;FMTTYPE=image/jpeg:https://kropp.de/wp-content/uploads/2026/03/delicious-variety-of-grilled-sausages-on-a-barbecue-perfect-for-outdoor-cookouts.-8491087-scaled.jpg
END:VEVENT
END:VCALENDAR