BEGIN:VCALENDAR
VERSION:2.0
PRODID:-//Gemeinde Kropp - ECPv6.15.20//NONSGML v1.0//EN
CALSCALE:GREGORIAN
METHOD:PUBLISH
X-ORIGINAL-URL:https://kropp.de
X-WR-CALDESC:Veranstaltungen für Gemeinde Kropp
REFRESH-INTERVAL;VALUE=DURATION:PT1H
X-Robots-Tag:noindex
X-PUBLISHED-TTL:PT1H
BEGIN:VTIMEZONE
TZID:Europe/Berlin
BEGIN:DAYLIGHT
TZOFFSETFROM:+0100
TZOFFSETTO:+0200
TZNAME:CEST
DTSTART:20250330T010000
END:DAYLIGHT
BEGIN:STANDARD
TZOFFSETFROM:+0200
TZOFFSETTO:+0100
TZNAME:CET
DTSTART:20251026T010000
END:STANDARD
BEGIN:DAYLIGHT
TZOFFSETFROM:+0100
TZOFFSETTO:+0200
TZNAME:CEST
DTSTART:20260329T010000
END:DAYLIGHT
BEGIN:STANDARD
TZOFFSETFROM:+0200
TZOFFSETTO:+0100
TZNAME:CET
DTSTART:20261025T010000
END:STANDARD
BEGIN:DAYLIGHT
TZOFFSETFROM:+0100
TZOFFSETTO:+0200
TZNAME:CEST
DTSTART:20270328T010000
END:DAYLIGHT
BEGIN:STANDARD
TZOFFSETFROM:+0200
TZOFFSETTO:+0100
TZNAME:CET
DTSTART:20271031T010000
END:STANDARD
END:VTIMEZONE
BEGIN:VEVENT
DTSTART;TZID=Europe/Berlin:20260404T180000
DTEND;TZID=Europe/Berlin:20260404T180000
DTSTAMP:20260426T062020
CREATED:20260218T114801Z
LAST-MODIFIED:20260218T114801Z
UID:10008343-1775325600-1775325600@kropp.de
SUMMARY:Osterfeuer FFw Groß Rheide
DESCRIPTION:Ansprechpartner Hanno Hagemann Tel. 0176/44257046
URL:https://kropp.de/veranstaltung/osterfeuer-ffw-gross-rheide/
LOCATION:Fw-Gerätehaus Groß Rheide\, Hauptstraße 45\, Groß Rheide\, 24872
ATTACH;FMTTYPE=image/jpeg:https://kropp.de/wp-content/uploads/2026/02/dynamic-image-of-a-blazing-bonfire-with-vivid-flames-lighting-up-the-night.-216620-scaled.jpg
END:VEVENT
BEGIN:VEVENT
DTSTART;TZID=Europe/Berlin:20260328T093000
DTEND;TZID=Europe/Berlin:20260328T093000
DTSTAMP:20260426T062020
CREATED:20260218T114722Z
LAST-MODIFIED:20260218T114722Z
UID:10008342-1774690200-1774690200@kropp.de
SUMMARY:Aktion Sauberes Dorf Groß Rheide
DESCRIPTION:Ansprechpartner Bürgermeister Werner Koch \nTel. 457741
URL:https://kropp.de/veranstaltung/aktion-sauberes-dorf-gross-rheide/
LOCATION:Fw-Gerätehaus Groß Rheide\, Hauptstraße 45\, Groß Rheide\, 24872
ATTACH;FMTTYPE=image/jpeg:https://kropp.de/wp-content/uploads/2026/01/Muellsaecke-bei-Sonnenuntergang.jpg
END:VEVENT
END:VCALENDAR