BEGIN:VCALENDAR
VERSION:2.0
PRODID:-//Gemeinde Kropp - ECPv6.15.20//NONSGML v1.0//EN
CALSCALE:GREGORIAN
METHOD:PUBLISH
X-ORIGINAL-URL:https://kropp.de
X-WR-CALDESC:Veranstaltungen für Gemeinde Kropp
REFRESH-INTERVAL;VALUE=DURATION:PT1H
X-Robots-Tag:noindex
X-PUBLISHED-TTL:PT1H
BEGIN:VTIMEZONE
TZID:Europe/Berlin
BEGIN:DAYLIGHT
TZOFFSETFROM:+0100
TZOFFSETTO:+0200
TZNAME:CEST
DTSTART:20250330T010000
END:DAYLIGHT
BEGIN:STANDARD
TZOFFSETFROM:+0200
TZOFFSETTO:+0100
TZNAME:CET
DTSTART:20251026T010000
END:STANDARD
BEGIN:DAYLIGHT
TZOFFSETFROM:+0100
TZOFFSETTO:+0200
TZNAME:CEST
DTSTART:20260329T010000
END:DAYLIGHT
BEGIN:STANDARD
TZOFFSETFROM:+0200
TZOFFSETTO:+0100
TZNAME:CET
DTSTART:20261025T010000
END:STANDARD
BEGIN:DAYLIGHT
TZOFFSETFROM:+0100
TZOFFSETTO:+0200
TZNAME:CEST
DTSTART:20270328T010000
END:DAYLIGHT
BEGIN:STANDARD
TZOFFSETFROM:+0200
TZOFFSETTO:+0100
TZNAME:CET
DTSTART:20271031T010000
END:STANDARD
END:VTIMEZONE
BEGIN:VEVENT
DTSTART;TZID=Europe/Berlin:20260223T150000
DTEND;TZID=Europe/Berlin:20260223T193000
DTSTAMP:20260422T030857
CREATED:20260205T093451Z
LAST-MODIFIED:20260211T124851Z
UID:10007391-1771858800-1771875000@kropp.de
SUMMARY:Blutspenden in Kropp
DESCRIPTION:Der DRK-Ortsverein Kropp e.V. lädt \njeweils montags von 15.00 – 19.30 Uhr \nOrt: Geestlandschule (Eingang von der Stettiner Straße)  \nein. \nDRK Kropp bittet Blutspender weiterhin um Terminreservierung \nUm einen reibungslosen Ablauf auf den Blutspendeterminen zu gewährleisten\, wird darauf hingewiesen\, dass eine Blutspende auch weiterhin nur über eine Terminreservierung möglich ist. Das kann über die Website www.blutspende-nordost.de oder über die kostenlose Hotline 0800 1194911 vorgenommen werden. Zur Blutspende ist der Personalausweis mitzubringen. \n    Im Anschluss gibt es einen schmackhaften Imbiss.  
URL:https://kropp.de/veranstaltung/blutspenden-in-kropp/
LOCATION:Geestlandschule\,Eingang Stettiner Strasse
ATTACH;FMTTYPE=image/jpeg:https://kropp.de/wp-content/uploads/2025/12/Logo-DRK.jpg
END:VEVENT
END:VCALENDAR