BEGIN:VCALENDAR
VERSION:2.0
PRODID:-//Gemeinde Kropp - ECPv6.15.20//NONSGML v1.0//EN
CALSCALE:GREGORIAN
METHOD:PUBLISH
X-ORIGINAL-URL:https://kropp.de
X-WR-CALDESC:Veranstaltungen für Gemeinde Kropp
REFRESH-INTERVAL;VALUE=DURATION:PT1H
X-Robots-Tag:noindex
X-PUBLISHED-TTL:PT1H
BEGIN:VTIMEZONE
TZID:Europe/Berlin
BEGIN:DAYLIGHT
TZOFFSETFROM:+0100
TZOFFSETTO:+0200
TZNAME:CEST
DTSTART:20250330T010000
END:DAYLIGHT
BEGIN:STANDARD
TZOFFSETFROM:+0200
TZOFFSETTO:+0100
TZNAME:CET
DTSTART:20251026T010000
END:STANDARD
BEGIN:DAYLIGHT
TZOFFSETFROM:+0100
TZOFFSETTO:+0200
TZNAME:CEST
DTSTART:20260329T010000
END:DAYLIGHT
BEGIN:STANDARD
TZOFFSETFROM:+0200
TZOFFSETTO:+0100
TZNAME:CET
DTSTART:20261025T010000
END:STANDARD
BEGIN:DAYLIGHT
TZOFFSETFROM:+0100
TZOFFSETTO:+0200
TZNAME:CEST
DTSTART:20270328T010000
END:DAYLIGHT
BEGIN:STANDARD
TZOFFSETFROM:+0200
TZOFFSETTO:+0100
TZNAME:CET
DTSTART:20271031T010000
END:STANDARD
END:VTIMEZONE
BEGIN:VEVENT
DTSTART;TZID=Europe/Berlin:20260525T143000
DTEND;TZID=Europe/Berlin:20260525T193000
DTSTAMP:20260422T013203
CREATED:20260225T101213Z
LAST-MODIFIED:20260225T124006Z
UID:10008358-1779719400-1779737400@kropp.de
SUMMARY:Blutspenden in Kropp
DESCRIPTION:Der DRK-Ortsverein Kropp e.V. lädt zur Blutspende ein. \n DRK Kropp bittet Blutspender weiterhin um Terminreservierung \nUm einen reibungslosen Ablauf auf den Blutspendeterminen zu gewährleisten\, wird darauf hingewiesen\, dass eine Blutspende auch weiterhin nur über eine Terminreservierung möglich ist. Das kann über die Website www.blutspende-nordost.de oder über die kostenlose Hotline 0800 1194911 vorgenommen werden. Zur Blutspende ist der Personalausweis mitzubringen. \nIm Anschluss gibt es einen schmackhaften Imbiss.  
URL:https://kropp.de/veranstaltung/blutspenden-in-kropp-2/2026-05-25/
LOCATION:Geestlandschule\,Eingang Stettiner Strasse
ATTACH;FMTTYPE=image/jpeg:https://kropp.de/wp-content/uploads/2025/12/Logo-DRK.jpg
END:VEVENT
BEGIN:VEVENT
DTSTART;TZID=Europe/Berlin:20260720T143000
DTEND;TZID=Europe/Berlin:20260720T193000
DTSTAMP:20260422T013203
CREATED:20260225T101213Z
LAST-MODIFIED:20260225T124006Z
UID:10008359-1784557800-1784575800@kropp.de
SUMMARY:Blutspenden in Kropp
DESCRIPTION:Der DRK-Ortsverein Kropp e.V. lädt zur Blutspende ein. \n DRK Kropp bittet Blutspender weiterhin um Terminreservierung \nUm einen reibungslosen Ablauf auf den Blutspendeterminen zu gewährleisten\, wird darauf hingewiesen\, dass eine Blutspende auch weiterhin nur über eine Terminreservierung möglich ist. Das kann über die Website www.blutspende-nordost.de oder über die kostenlose Hotline 0800 1194911 vorgenommen werden. Zur Blutspende ist der Personalausweis mitzubringen. \nIm Anschluss gibt es einen schmackhaften Imbiss.  
URL:https://kropp.de/veranstaltung/blutspenden-in-kropp-2/2026-07-20/
LOCATION:Geestlandschule\,Eingang Stettiner Strasse
ATTACH;FMTTYPE=image/jpeg:https://kropp.de/wp-content/uploads/2025/12/Logo-DRK.jpg
END:VEVENT
BEGIN:VEVENT
DTSTART;TZID=Europe/Berlin:20260914T143000
DTEND;TZID=Europe/Berlin:20260914T193000
DTSTAMP:20260422T013203
CREATED:20260225T101213Z
LAST-MODIFIED:20260225T124006Z
UID:10008360-1789396200-1789414200@kropp.de
SUMMARY:Blutspenden in Kropp
DESCRIPTION:Der DRK-Ortsverein Kropp e.V. lädt zur Blutspende ein. \n DRK Kropp bittet Blutspender weiterhin um Terminreservierung \nUm einen reibungslosen Ablauf auf den Blutspendeterminen zu gewährleisten\, wird darauf hingewiesen\, dass eine Blutspende auch weiterhin nur über eine Terminreservierung möglich ist. Das kann über die Website www.blutspende-nordost.de oder über die kostenlose Hotline 0800 1194911 vorgenommen werden. Zur Blutspende ist der Personalausweis mitzubringen. \nIm Anschluss gibt es einen schmackhaften Imbiss.  
URL:https://kropp.de/veranstaltung/blutspenden-in-kropp-2/2026-09-14/
LOCATION:Geestlandschule\,Eingang Stettiner Strasse
ATTACH;FMTTYPE=image/jpeg:https://kropp.de/wp-content/uploads/2025/12/Logo-DRK.jpg
END:VEVENT
BEGIN:VEVENT
DTSTART;TZID=Europe/Berlin:20261214T143000
DTEND;TZID=Europe/Berlin:20261214T193000
DTSTAMP:20260422T013204
CREATED:20260225T101213Z
LAST-MODIFIED:20260225T124006Z
UID:10008361-1797258600-1797276600@kropp.de
SUMMARY:Blutspenden in Kropp
DESCRIPTION:Der DRK-Ortsverein Kropp e.V. lädt zur Blutspende ein. \n DRK Kropp bittet Blutspender weiterhin um Terminreservierung \nUm einen reibungslosen Ablauf auf den Blutspendeterminen zu gewährleisten\, wird darauf hingewiesen\, dass eine Blutspende auch weiterhin nur über eine Terminreservierung möglich ist. Das kann über die Website www.blutspende-nordost.de oder über die kostenlose Hotline 0800 1194911 vorgenommen werden. Zur Blutspende ist der Personalausweis mitzubringen. \nIm Anschluss gibt es einen schmackhaften Imbiss.  
URL:https://kropp.de/veranstaltung/blutspenden-in-kropp-2/2026-12-14/
LOCATION:Geestlandschule\,Eingang Stettiner Strasse
ATTACH;FMTTYPE=image/jpeg:https://kropp.de/wp-content/uploads/2025/12/Logo-DRK.jpg
END:VEVENT
END:VCALENDAR