BEGIN:VCALENDAR
VERSION:2.0
PRODID:-//Gemeinde Kropp - ECPv6.15.20//NONSGML v1.0//EN
CALSCALE:GREGORIAN
METHOD:PUBLISH
X-WR-CALNAME:Gemeinde Kropp
X-ORIGINAL-URL:https://kropp.de
X-WR-CALDESC:Veranstaltungen für Gemeinde Kropp
REFRESH-INTERVAL;VALUE=DURATION:PT1H
X-Robots-Tag:noindex
X-PUBLISHED-TTL:PT1H
BEGIN:VTIMEZONE
TZID:Europe/Berlin
BEGIN:DAYLIGHT
TZOFFSETFROM:+0100
TZOFFSETTO:+0200
TZNAME:CEST
DTSTART:20250330T010000
END:DAYLIGHT
BEGIN:STANDARD
TZOFFSETFROM:+0200
TZOFFSETTO:+0100
TZNAME:CET
DTSTART:20251026T010000
END:STANDARD
BEGIN:DAYLIGHT
TZOFFSETFROM:+0100
TZOFFSETTO:+0200
TZNAME:CEST
DTSTART:20260329T010000
END:DAYLIGHT
BEGIN:STANDARD
TZOFFSETFROM:+0200
TZOFFSETTO:+0100
TZNAME:CET
DTSTART:20261025T010000
END:STANDARD
BEGIN:DAYLIGHT
TZOFFSETFROM:+0100
TZOFFSETTO:+0200
TZNAME:CEST
DTSTART:20270328T010000
END:DAYLIGHT
BEGIN:STANDARD
TZOFFSETFROM:+0200
TZOFFSETTO:+0100
TZNAME:CET
DTSTART:20271031T010000
END:STANDARD
BEGIN:DAYLIGHT
TZOFFSETFROM:+0100
TZOFFSETTO:+0200
TZNAME:CEST
DTSTART:20280326T010000
END:DAYLIGHT
BEGIN:STANDARD
TZOFFSETFROM:+0200
TZOFFSETTO:+0100
TZNAME:CET
DTSTART:20281029T010000
END:STANDARD
BEGIN:DAYLIGHT
TZOFFSETFROM:+0100
TZOFFSETTO:+0200
TZNAME:CEST
DTSTART:20290325T010000
END:DAYLIGHT
BEGIN:STANDARD
TZOFFSETFROM:+0200
TZOFFSETTO:+0100
TZNAME:CET
DTSTART:20291028T010000
END:STANDARD
END:VTIMEZONE
BEGIN:VEVENT
DTSTART;TZID=Europe/Berlin:20260424T102500
DTEND;TZID=Europe/Berlin:20260424T104000
DTSTAMP:20260421T214849
CREATED:20260216T074549Z
LAST-MODIFIED:20260216T074549Z
UID:10007897-1777026300-1777027200@kropp.de
SUMMARY:Fahrbücherei Meggerdorf
DESCRIPTION:Die Fahrbücherei ist unterwegs
URL:https://kropp.de/veranstaltung/fahrbuecherei-meggerdorf/2026-04-24/
LOCATION:Johanniberg KiGa
ATTACH;FMTTYPE=image/jpeg:https://kropp.de/wp-content/uploads/2026/02/Fahrbuecherei_Kreis_Schleswig-Flensburg.jpg
END:VEVENT
BEGIN:VEVENT
DTSTART;TZID=Europe/Berlin:20260522T102500
DTEND;TZID=Europe/Berlin:20260522T104000
DTSTAMP:20260421T214849
CREATED:20260216T074549Z
LAST-MODIFIED:20260216T074549Z
UID:10007898-1779445500-1779446400@kropp.de
SUMMARY:Fahrbücherei Meggerdorf
DESCRIPTION:Die Fahrbücherei ist unterwegs
URL:https://kropp.de/veranstaltung/fahrbuecherei-meggerdorf/2026-05-22/
LOCATION:Johanniberg KiGa
ATTACH;FMTTYPE=image/jpeg:https://kropp.de/wp-content/uploads/2026/02/Fahrbuecherei_Kreis_Schleswig-Flensburg.jpg
END:VEVENT
BEGIN:VEVENT
DTSTART;TZID=Europe/Berlin:20260626T102500
DTEND;TZID=Europe/Berlin:20260626T104000
DTSTAMP:20260421T214849
CREATED:20260216T074549Z
LAST-MODIFIED:20260216T074549Z
UID:10007899-1782469500-1782470400@kropp.de
SUMMARY:Fahrbücherei Meggerdorf
DESCRIPTION:Die Fahrbücherei ist unterwegs
URL:https://kropp.de/veranstaltung/fahrbuecherei-meggerdorf/2026-06-26/
LOCATION:Johanniberg KiGa
ATTACH;FMTTYPE=image/jpeg:https://kropp.de/wp-content/uploads/2026/02/Fahrbuecherei_Kreis_Schleswig-Flensburg.jpg
END:VEVENT
BEGIN:VEVENT
DTSTART;TZID=Europe/Berlin:20260724T102500
DTEND;TZID=Europe/Berlin:20260724T104000
DTSTAMP:20260421T214849
CREATED:20260216T074549Z
LAST-MODIFIED:20260216T074549Z
UID:10007900-1784888700-1784889600@kropp.de
SUMMARY:Fahrbücherei Meggerdorf
DESCRIPTION:Die Fahrbücherei ist unterwegs
URL:https://kropp.de/veranstaltung/fahrbuecherei-meggerdorf/2026-07-24/
LOCATION:Johanniberg KiGa
ATTACH;FMTTYPE=image/jpeg:https://kropp.de/wp-content/uploads/2026/02/Fahrbuecherei_Kreis_Schleswig-Flensburg.jpg
END:VEVENT
BEGIN:VEVENT
DTSTART;TZID=Europe/Berlin:20260828T102500
DTEND;TZID=Europe/Berlin:20260828T104000
DTSTAMP:20260421T214849
CREATED:20260216T074549Z
LAST-MODIFIED:20260216T074549Z
UID:10007901-1787912700-1787913600@kropp.de
SUMMARY:Fahrbücherei Meggerdorf
DESCRIPTION:Die Fahrbücherei ist unterwegs
URL:https://kropp.de/veranstaltung/fahrbuecherei-meggerdorf/2026-08-28/
LOCATION:Johanniberg KiGa
ATTACH;FMTTYPE=image/jpeg:https://kropp.de/wp-content/uploads/2026/02/Fahrbuecherei_Kreis_Schleswig-Flensburg.jpg
END:VEVENT
BEGIN:VEVENT
DTSTART;TZID=Europe/Berlin:20260925T102500
DTEND;TZID=Europe/Berlin:20260925T104000
DTSTAMP:20260421T214849
CREATED:20260216T074549Z
LAST-MODIFIED:20260216T074549Z
UID:10007902-1790331900-1790332800@kropp.de
SUMMARY:Fahrbücherei Meggerdorf
DESCRIPTION:Die Fahrbücherei ist unterwegs
URL:https://kropp.de/veranstaltung/fahrbuecherei-meggerdorf/2026-09-25/
LOCATION:Johanniberg KiGa
ATTACH;FMTTYPE=image/jpeg:https://kropp.de/wp-content/uploads/2026/02/Fahrbuecherei_Kreis_Schleswig-Flensburg.jpg
END:VEVENT
BEGIN:VEVENT
DTSTART;TZID=Europe/Berlin:20261023T102500
DTEND;TZID=Europe/Berlin:20261023T104000
DTSTAMP:20260421T214849
CREATED:20260216T074549Z
LAST-MODIFIED:20260216T074549Z
UID:10007903-1792751100-1792752000@kropp.de
SUMMARY:Fahrbücherei Meggerdorf
DESCRIPTION:Die Fahrbücherei ist unterwegs
URL:https://kropp.de/veranstaltung/fahrbuecherei-meggerdorf/2026-10-23/
LOCATION:Johanniberg KiGa
ATTACH;FMTTYPE=image/jpeg:https://kropp.de/wp-content/uploads/2026/02/Fahrbuecherei_Kreis_Schleswig-Flensburg.jpg
END:VEVENT
BEGIN:VEVENT
DTSTART;TZID=Europe/Berlin:20261127T102500
DTEND;TZID=Europe/Berlin:20261127T104000
DTSTAMP:20260421T214849
CREATED:20260216T074549Z
LAST-MODIFIED:20260216T074549Z
UID:10007904-1795775100-1795776000@kropp.de
SUMMARY:Fahrbücherei Meggerdorf
DESCRIPTION:Die Fahrbücherei ist unterwegs
URL:https://kropp.de/veranstaltung/fahrbuecherei-meggerdorf/2026-11-27/
LOCATION:Johanniberg KiGa
ATTACH;FMTTYPE=image/jpeg:https://kropp.de/wp-content/uploads/2026/02/Fahrbuecherei_Kreis_Schleswig-Flensburg.jpg
END:VEVENT
BEGIN:VEVENT
DTSTART;TZID=Europe/Berlin:20261225T102500
DTEND;TZID=Europe/Berlin:20261225T104000
DTSTAMP:20260421T214849
CREATED:20260216T074549Z
LAST-MODIFIED:20260216T074549Z
UID:10007905-1798194300-1798195200@kropp.de
SUMMARY:Fahrbücherei Meggerdorf
DESCRIPTION:Die Fahrbücherei ist unterwegs
URL:https://kropp.de/veranstaltung/fahrbuecherei-meggerdorf/2026-12-25/
LOCATION:Johanniberg KiGa
ATTACH;FMTTYPE=image/jpeg:https://kropp.de/wp-content/uploads/2026/02/Fahrbuecherei_Kreis_Schleswig-Flensburg.jpg
END:VEVENT
BEGIN:VEVENT
DTSTART;TZID=Europe/Berlin:20270122T102500
DTEND;TZID=Europe/Berlin:20270122T104000
DTSTAMP:20260421T214849
CREATED:20260216T074549Z
LAST-MODIFIED:20260216T074549Z
UID:10007906-1800613500-1800614400@kropp.de
SUMMARY:Fahrbücherei Meggerdorf
DESCRIPTION:Die Fahrbücherei ist unterwegs
URL:https://kropp.de/veranstaltung/fahrbuecherei-meggerdorf/2027-01-22/
LOCATION:Johanniberg KiGa
ATTACH;FMTTYPE=image/jpeg:https://kropp.de/wp-content/uploads/2026/02/Fahrbuecherei_Kreis_Schleswig-Flensburg.jpg
END:VEVENT
BEGIN:VEVENT
DTSTART;TZID=Europe/Berlin:20270226T102500
DTEND;TZID=Europe/Berlin:20270226T104000
DTSTAMP:20260421T214849
CREATED:20260216T074549Z
LAST-MODIFIED:20260216T074549Z
UID:10007907-1803637500-1803638400@kropp.de
SUMMARY:Fahrbücherei Meggerdorf
DESCRIPTION:Die Fahrbücherei ist unterwegs
URL:https://kropp.de/veranstaltung/fahrbuecherei-meggerdorf/2027-02-26/
LOCATION:Johanniberg KiGa
ATTACH;FMTTYPE=image/jpeg:https://kropp.de/wp-content/uploads/2026/02/Fahrbuecherei_Kreis_Schleswig-Flensburg.jpg
END:VEVENT
BEGIN:VEVENT
DTSTART;TZID=Europe/Berlin:20270326T102500
DTEND;TZID=Europe/Berlin:20270326T104000
DTSTAMP:20260421T214849
CREATED:20260216T074549Z
LAST-MODIFIED:20260216T074549Z
UID:10007908-1806056700-1806057600@kropp.de
SUMMARY:Fahrbücherei Meggerdorf
DESCRIPTION:Die Fahrbücherei ist unterwegs
URL:https://kropp.de/veranstaltung/fahrbuecherei-meggerdorf/2027-03-26/
LOCATION:Johanniberg KiGa
ATTACH;FMTTYPE=image/jpeg:https://kropp.de/wp-content/uploads/2026/02/Fahrbuecherei_Kreis_Schleswig-Flensburg.jpg
END:VEVENT
BEGIN:VEVENT
DTSTART;TZID=Europe/Berlin:20270423T102500
DTEND;TZID=Europe/Berlin:20270423T104000
DTSTAMP:20260421T214849
CREATED:20260216T074549Z
LAST-MODIFIED:20260216T074549Z
UID:10007909-1808475900-1808476800@kropp.de
SUMMARY:Fahrbücherei Meggerdorf
DESCRIPTION:Die Fahrbücherei ist unterwegs
URL:https://kropp.de/veranstaltung/fahrbuecherei-meggerdorf/2027-04-23/
LOCATION:Johanniberg KiGa
ATTACH;FMTTYPE=image/jpeg:https://kropp.de/wp-content/uploads/2026/02/Fahrbuecherei_Kreis_Schleswig-Flensburg.jpg
END:VEVENT
BEGIN:VEVENT
DTSTART;TZID=Europe/Berlin:20270528T102500
DTEND;TZID=Europe/Berlin:20270528T104000
DTSTAMP:20260421T214849
CREATED:20260216T074549Z
LAST-MODIFIED:20260216T074549Z
UID:10007910-1811499900-1811500800@kropp.de
SUMMARY:Fahrbücherei Meggerdorf
DESCRIPTION:Die Fahrbücherei ist unterwegs
URL:https://kropp.de/veranstaltung/fahrbuecherei-meggerdorf/2027-05-28/
LOCATION:Johanniberg KiGa
ATTACH;FMTTYPE=image/jpeg:https://kropp.de/wp-content/uploads/2026/02/Fahrbuecherei_Kreis_Schleswig-Flensburg.jpg
END:VEVENT
BEGIN:VEVENT
DTSTART;TZID=Europe/Berlin:20270625T102500
DTEND;TZID=Europe/Berlin:20270625T104000
DTSTAMP:20260421T214849
CREATED:20260216T074549Z
LAST-MODIFIED:20260216T074549Z
UID:10007911-1813919100-1813920000@kropp.de
SUMMARY:Fahrbücherei Meggerdorf
DESCRIPTION:Die Fahrbücherei ist unterwegs
URL:https://kropp.de/veranstaltung/fahrbuecherei-meggerdorf/2027-06-25/
LOCATION:Johanniberg KiGa
ATTACH;FMTTYPE=image/jpeg:https://kropp.de/wp-content/uploads/2026/02/Fahrbuecherei_Kreis_Schleswig-Flensburg.jpg
END:VEVENT
BEGIN:VEVENT
DTSTART;TZID=Europe/Berlin:20270723T102500
DTEND;TZID=Europe/Berlin:20270723T104000
DTSTAMP:20260421T214849
CREATED:20260216T074549Z
LAST-MODIFIED:20260216T074549Z
UID:10007912-1816338300-1816339200@kropp.de
SUMMARY:Fahrbücherei Meggerdorf
DESCRIPTION:Die Fahrbücherei ist unterwegs
URL:https://kropp.de/veranstaltung/fahrbuecherei-meggerdorf/2027-07-23/
LOCATION:Johanniberg KiGa
ATTACH;FMTTYPE=image/jpeg:https://kropp.de/wp-content/uploads/2026/02/Fahrbuecherei_Kreis_Schleswig-Flensburg.jpg
END:VEVENT
BEGIN:VEVENT
DTSTART;TZID=Europe/Berlin:20270827T102500
DTEND;TZID=Europe/Berlin:20270827T104000
DTSTAMP:20260421T214849
CREATED:20260216T074549Z
LAST-MODIFIED:20260216T074549Z
UID:10007913-1819362300-1819363200@kropp.de
SUMMARY:Fahrbücherei Meggerdorf
DESCRIPTION:Die Fahrbücherei ist unterwegs
URL:https://kropp.de/veranstaltung/fahrbuecherei-meggerdorf/2027-08-27/
LOCATION:Johanniberg KiGa
ATTACH;FMTTYPE=image/jpeg:https://kropp.de/wp-content/uploads/2026/02/Fahrbuecherei_Kreis_Schleswig-Flensburg.jpg
END:VEVENT
BEGIN:VEVENT
DTSTART;TZID=Europe/Berlin:20270924T102500
DTEND;TZID=Europe/Berlin:20270924T104000
DTSTAMP:20260421T214849
CREATED:20260216T074549Z
LAST-MODIFIED:20260216T074549Z
UID:10007914-1821781500-1821782400@kropp.de
SUMMARY:Fahrbücherei Meggerdorf
DESCRIPTION:Die Fahrbücherei ist unterwegs
URL:https://kropp.de/veranstaltung/fahrbuecherei-meggerdorf/2027-09-24/
LOCATION:Johanniberg KiGa
ATTACH;FMTTYPE=image/jpeg:https://kropp.de/wp-content/uploads/2026/02/Fahrbuecherei_Kreis_Schleswig-Flensburg.jpg
END:VEVENT
BEGIN:VEVENT
DTSTART;TZID=Europe/Berlin:20271022T102500
DTEND;TZID=Europe/Berlin:20271022T104000
DTSTAMP:20260421T214849
CREATED:20260216T074549Z
LAST-MODIFIED:20260216T074549Z
UID:10007915-1824200700-1824201600@kropp.de
SUMMARY:Fahrbücherei Meggerdorf
DESCRIPTION:Die Fahrbücherei ist unterwegs
URL:https://kropp.de/veranstaltung/fahrbuecherei-meggerdorf/2027-10-22/
LOCATION:Johanniberg KiGa
ATTACH;FMTTYPE=image/jpeg:https://kropp.de/wp-content/uploads/2026/02/Fahrbuecherei_Kreis_Schleswig-Flensburg.jpg
END:VEVENT
BEGIN:VEVENT
DTSTART;TZID=Europe/Berlin:20271126T102500
DTEND;TZID=Europe/Berlin:20271126T104000
DTSTAMP:20260421T214849
CREATED:20260216T074549Z
LAST-MODIFIED:20260216T074549Z
UID:10007916-1827224700-1827225600@kropp.de
SUMMARY:Fahrbücherei Meggerdorf
DESCRIPTION:Die Fahrbücherei ist unterwegs
URL:https://kropp.de/veranstaltung/fahrbuecherei-meggerdorf/2027-11-26/
LOCATION:Johanniberg KiGa
ATTACH;FMTTYPE=image/jpeg:https://kropp.de/wp-content/uploads/2026/02/Fahrbuecherei_Kreis_Schleswig-Flensburg.jpg
END:VEVENT
BEGIN:VEVENT
DTSTART;TZID=Europe/Berlin:20271224T102500
DTEND;TZID=Europe/Berlin:20271224T104000
DTSTAMP:20260421T214849
CREATED:20260216T074549Z
LAST-MODIFIED:20260216T074549Z
UID:10007917-1829643900-1829644800@kropp.de
SUMMARY:Fahrbücherei Meggerdorf
DESCRIPTION:Die Fahrbücherei ist unterwegs
URL:https://kropp.de/veranstaltung/fahrbuecherei-meggerdorf/2027-12-24/
LOCATION:Johanniberg KiGa
ATTACH;FMTTYPE=image/jpeg:https://kropp.de/wp-content/uploads/2026/02/Fahrbuecherei_Kreis_Schleswig-Flensburg.jpg
END:VEVENT
BEGIN:VEVENT
DTSTART;TZID=Europe/Berlin:20280128T102500
DTEND;TZID=Europe/Berlin:20280128T104000
DTSTAMP:20260421T214849
CREATED:20260216T074549Z
LAST-MODIFIED:20260216T074549Z
UID:10007918-1832667900-1832668800@kropp.de
SUMMARY:Fahrbücherei Meggerdorf
DESCRIPTION:Die Fahrbücherei ist unterwegs
URL:https://kropp.de/veranstaltung/fahrbuecherei-meggerdorf/2028-01-28/
LOCATION:Johanniberg KiGa
ATTACH;FMTTYPE=image/jpeg:https://kropp.de/wp-content/uploads/2026/02/Fahrbuecherei_Kreis_Schleswig-Flensburg.jpg
END:VEVENT
BEGIN:VEVENT
DTSTART;TZID=Europe/Berlin:20280225T102500
DTEND;TZID=Europe/Berlin:20280225T104000
DTSTAMP:20260421T214849
CREATED:20260216T074549Z
LAST-MODIFIED:20260216T074549Z
UID:10007919-1835087100-1835088000@kropp.de
SUMMARY:Fahrbücherei Meggerdorf
DESCRIPTION:Die Fahrbücherei ist unterwegs
URL:https://kropp.de/veranstaltung/fahrbuecherei-meggerdorf/2028-02-25/
LOCATION:Johanniberg KiGa
ATTACH;FMTTYPE=image/jpeg:https://kropp.de/wp-content/uploads/2026/02/Fahrbuecherei_Kreis_Schleswig-Flensburg.jpg
END:VEVENT
BEGIN:VEVENT
DTSTART;TZID=Europe/Berlin:20280324T102500
DTEND;TZID=Europe/Berlin:20280324T104000
DTSTAMP:20260421T214849
CREATED:20260216T074549Z
LAST-MODIFIED:20260216T074549Z
UID:10007920-1837506300-1837507200@kropp.de
SUMMARY:Fahrbücherei Meggerdorf
DESCRIPTION:Die Fahrbücherei ist unterwegs
URL:https://kropp.de/veranstaltung/fahrbuecherei-meggerdorf/2028-03-24/
LOCATION:Johanniberg KiGa
ATTACH;FMTTYPE=image/jpeg:https://kropp.de/wp-content/uploads/2026/02/Fahrbuecherei_Kreis_Schleswig-Flensburg.jpg
END:VEVENT
BEGIN:VEVENT
DTSTART;TZID=Europe/Berlin:20280428T102500
DTEND;TZID=Europe/Berlin:20280428T104000
DTSTAMP:20260421T214849
CREATED:20260216T074549Z
LAST-MODIFIED:20260216T074549Z
UID:10007921-1840530300-1840531200@kropp.de
SUMMARY:Fahrbücherei Meggerdorf
DESCRIPTION:Die Fahrbücherei ist unterwegs
URL:https://kropp.de/veranstaltung/fahrbuecherei-meggerdorf/2028-04-28/
LOCATION:Johanniberg KiGa
ATTACH;FMTTYPE=image/jpeg:https://kropp.de/wp-content/uploads/2026/02/Fahrbuecherei_Kreis_Schleswig-Flensburg.jpg
END:VEVENT
BEGIN:VEVENT
DTSTART;TZID=Europe/Berlin:20280526T102500
DTEND;TZID=Europe/Berlin:20280526T104000
DTSTAMP:20260421T214849
CREATED:20260216T074549Z
LAST-MODIFIED:20260216T074549Z
UID:10007922-1842949500-1842950400@kropp.de
SUMMARY:Fahrbücherei Meggerdorf
DESCRIPTION:Die Fahrbücherei ist unterwegs
URL:https://kropp.de/veranstaltung/fahrbuecherei-meggerdorf/2028-05-26/
LOCATION:Johanniberg KiGa
ATTACH;FMTTYPE=image/jpeg:https://kropp.de/wp-content/uploads/2026/02/Fahrbuecherei_Kreis_Schleswig-Flensburg.jpg
END:VEVENT
BEGIN:VEVENT
DTSTART;TZID=Europe/Berlin:20280623T102500
DTEND;TZID=Europe/Berlin:20280623T104000
DTSTAMP:20260421T214849
CREATED:20260216T074549Z
LAST-MODIFIED:20260216T074549Z
UID:10007923-1845368700-1845369600@kropp.de
SUMMARY:Fahrbücherei Meggerdorf
DESCRIPTION:Die Fahrbücherei ist unterwegs
URL:https://kropp.de/veranstaltung/fahrbuecherei-meggerdorf/2028-06-23/
LOCATION:Johanniberg KiGa
ATTACH;FMTTYPE=image/jpeg:https://kropp.de/wp-content/uploads/2026/02/Fahrbuecherei_Kreis_Schleswig-Flensburg.jpg
END:VEVENT
BEGIN:VEVENT
DTSTART;TZID=Europe/Berlin:20280728T102500
DTEND;TZID=Europe/Berlin:20280728T104000
DTSTAMP:20260421T214849
CREATED:20260216T074549Z
LAST-MODIFIED:20260216T074549Z
UID:10007924-1848392700-1848393600@kropp.de
SUMMARY:Fahrbücherei Meggerdorf
DESCRIPTION:Die Fahrbücherei ist unterwegs
URL:https://kropp.de/veranstaltung/fahrbuecherei-meggerdorf/2028-07-28/
LOCATION:Johanniberg KiGa
ATTACH;FMTTYPE=image/jpeg:https://kropp.de/wp-content/uploads/2026/02/Fahrbuecherei_Kreis_Schleswig-Flensburg.jpg
END:VEVENT
BEGIN:VEVENT
DTSTART;TZID=Europe/Berlin:20280825T102500
DTEND;TZID=Europe/Berlin:20280825T104000
DTSTAMP:20260421T214849
CREATED:20260216T074549Z
LAST-MODIFIED:20260216T074549Z
UID:10007925-1850811900-1850812800@kropp.de
SUMMARY:Fahrbücherei Meggerdorf
DESCRIPTION:Die Fahrbücherei ist unterwegs
URL:https://kropp.de/veranstaltung/fahrbuecherei-meggerdorf/2028-08-25/
LOCATION:Johanniberg KiGa
ATTACH;FMTTYPE=image/jpeg:https://kropp.de/wp-content/uploads/2026/02/Fahrbuecherei_Kreis_Schleswig-Flensburg.jpg
END:VEVENT
BEGIN:VEVENT
DTSTART;TZID=Europe/Berlin:20280922T102500
DTEND;TZID=Europe/Berlin:20280922T104000
DTSTAMP:20260421T214849
CREATED:20260216T074549Z
LAST-MODIFIED:20260216T074549Z
UID:10007926-1853231100-1853232000@kropp.de
SUMMARY:Fahrbücherei Meggerdorf
DESCRIPTION:Die Fahrbücherei ist unterwegs
URL:https://kropp.de/veranstaltung/fahrbuecherei-meggerdorf/2028-09-22/
LOCATION:Johanniberg KiGa
ATTACH;FMTTYPE=image/jpeg:https://kropp.de/wp-content/uploads/2026/02/Fahrbuecherei_Kreis_Schleswig-Flensburg.jpg
END:VEVENT
END:VCALENDAR