BEGIN:VCALENDAR
VERSION:2.0
PRODID:-//Gemeinde Kropp - ECPv6.15.20//NONSGML v1.0//EN
CALSCALE:GREGORIAN
METHOD:PUBLISH
X-WR-CALNAME:Gemeinde Kropp
X-ORIGINAL-URL:https://kropp.de
X-WR-CALDESC:Veranstaltungen für Gemeinde Kropp
REFRESH-INTERVAL;VALUE=DURATION:PT1H
X-Robots-Tag:noindex
X-PUBLISHED-TTL:PT1H
BEGIN:VTIMEZONE
TZID:Europe/Berlin
BEGIN:DAYLIGHT
TZOFFSETFROM:+0100
TZOFFSETTO:+0200
TZNAME:CEST
DTSTART:20270328T010000
END:DAYLIGHT
BEGIN:STANDARD
TZOFFSETFROM:+0200
TZOFFSETTO:+0100
TZNAME:CET
DTSTART:20271031T010000
END:STANDARD
BEGIN:DAYLIGHT
TZOFFSETFROM:+0100
TZOFFSETTO:+0200
TZNAME:CEST
DTSTART:20280326T010000
END:DAYLIGHT
BEGIN:STANDARD
TZOFFSETFROM:+0200
TZOFFSETTO:+0100
TZNAME:CET
DTSTART:20281029T010000
END:STANDARD
BEGIN:DAYLIGHT
TZOFFSETFROM:+0100
TZOFFSETTO:+0200
TZNAME:CEST
DTSTART:20290325T010000
END:DAYLIGHT
BEGIN:STANDARD
TZOFFSETFROM:+0200
TZOFFSETTO:+0100
TZNAME:CET
DTSTART:20291028T010000
END:STANDARD
BEGIN:DAYLIGHT
TZOFFSETFROM:+0100
TZOFFSETTO:+0200
TZNAME:CEST
DTSTART:20300331T010000
END:DAYLIGHT
BEGIN:STANDARD
TZOFFSETFROM:+0200
TZOFFSETTO:+0100
TZNAME:CET
DTSTART:20301027T010000
END:STANDARD
BEGIN:DAYLIGHT
TZOFFSETFROM:+0100
TZOFFSETTO:+0200
TZNAME:CEST
DTSTART:20310330T010000
END:DAYLIGHT
BEGIN:STANDARD
TZOFFSETFROM:+0200
TZOFFSETTO:+0100
TZNAME:CET
DTSTART:20311026T010000
END:STANDARD
END:VTIMEZONE
BEGIN:VEVENT
DTSTART;TZID=Europe/Berlin:20280526T102500
DTEND;TZID=Europe/Berlin:20280526T104000
DTSTAMP:20260424T111252
CREATED:20260216T074549Z
LAST-MODIFIED:20260216T074549Z
UID:10007922-1842949500-1842950400@kropp.de
SUMMARY:Fahrbücherei Meggerdorf
DESCRIPTION:Die Fahrbücherei ist unterwegs
URL:https://kropp.de/veranstaltung/fahrbuecherei-meggerdorf/2028-05-26/
LOCATION:Johanniberg KiGa
ATTACH;FMTTYPE=image/jpeg:https://kropp.de/wp-content/uploads/2026/02/Fahrbuecherei_Kreis_Schleswig-Flensburg.jpg
END:VEVENT
BEGIN:VEVENT
DTSTART;TZID=Europe/Berlin:20280623T102500
DTEND;TZID=Europe/Berlin:20280623T104000
DTSTAMP:20260424T111252
CREATED:20260216T074549Z
LAST-MODIFIED:20260216T074549Z
UID:10007923-1845368700-1845369600@kropp.de
SUMMARY:Fahrbücherei Meggerdorf
DESCRIPTION:Die Fahrbücherei ist unterwegs
URL:https://kropp.de/veranstaltung/fahrbuecherei-meggerdorf/2028-06-23/
LOCATION:Johanniberg KiGa
ATTACH;FMTTYPE=image/jpeg:https://kropp.de/wp-content/uploads/2026/02/Fahrbuecherei_Kreis_Schleswig-Flensburg.jpg
END:VEVENT
BEGIN:VEVENT
DTSTART;TZID=Europe/Berlin:20280728T102500
DTEND;TZID=Europe/Berlin:20280728T104000
DTSTAMP:20260424T111252
CREATED:20260216T074549Z
LAST-MODIFIED:20260216T074549Z
UID:10007924-1848392700-1848393600@kropp.de
SUMMARY:Fahrbücherei Meggerdorf
DESCRIPTION:Die Fahrbücherei ist unterwegs
URL:https://kropp.de/veranstaltung/fahrbuecherei-meggerdorf/2028-07-28/
LOCATION:Johanniberg KiGa
ATTACH;FMTTYPE=image/jpeg:https://kropp.de/wp-content/uploads/2026/02/Fahrbuecherei_Kreis_Schleswig-Flensburg.jpg
END:VEVENT
BEGIN:VEVENT
DTSTART;TZID=Europe/Berlin:20280825T102500
DTEND;TZID=Europe/Berlin:20280825T104000
DTSTAMP:20260424T111252
CREATED:20260216T074549Z
LAST-MODIFIED:20260216T074549Z
UID:10007925-1850811900-1850812800@kropp.de
SUMMARY:Fahrbücherei Meggerdorf
DESCRIPTION:Die Fahrbücherei ist unterwegs
URL:https://kropp.de/veranstaltung/fahrbuecherei-meggerdorf/2028-08-25/
LOCATION:Johanniberg KiGa
ATTACH;FMTTYPE=image/jpeg:https://kropp.de/wp-content/uploads/2026/02/Fahrbuecherei_Kreis_Schleswig-Flensburg.jpg
END:VEVENT
BEGIN:VEVENT
DTSTART;TZID=Europe/Berlin:20280922T102500
DTEND;TZID=Europe/Berlin:20280922T104000
DTSTAMP:20260424T111252
CREATED:20260216T074549Z
LAST-MODIFIED:20260216T074549Z
UID:10007926-1853231100-1853232000@kropp.de
SUMMARY:Fahrbücherei Meggerdorf
DESCRIPTION:Die Fahrbücherei ist unterwegs
URL:https://kropp.de/veranstaltung/fahrbuecherei-meggerdorf/2028-09-22/
LOCATION:Johanniberg KiGa
ATTACH;FMTTYPE=image/jpeg:https://kropp.de/wp-content/uploads/2026/02/Fahrbuecherei_Kreis_Schleswig-Flensburg.jpg
END:VEVENT
BEGIN:VEVENT
DTSTART;TZID=Europe/Berlin:20281027T102500
DTEND;TZID=Europe/Berlin:20281027T104000
DTSTAMP:20260424T111252
CREATED:20260216T074549Z
LAST-MODIFIED:20260216T074549Z
UID:10007927-1856255100-1856256000@kropp.de
SUMMARY:Fahrbücherei Meggerdorf
DESCRIPTION:Die Fahrbücherei ist unterwegs
URL:https://kropp.de/veranstaltung/fahrbuecherei-meggerdorf/2028-10-27/
LOCATION:Johanniberg KiGa
ATTACH;FMTTYPE=image/jpeg:https://kropp.de/wp-content/uploads/2026/02/Fahrbuecherei_Kreis_Schleswig-Flensburg.jpg
END:VEVENT
BEGIN:VEVENT
DTSTART;TZID=Europe/Berlin:20281124T102500
DTEND;TZID=Europe/Berlin:20281124T104000
DTSTAMP:20260424T111252
CREATED:20260216T074549Z
LAST-MODIFIED:20260216T074549Z
UID:10007928-1858674300-1858675200@kropp.de
SUMMARY:Fahrbücherei Meggerdorf
DESCRIPTION:Die Fahrbücherei ist unterwegs
URL:https://kropp.de/veranstaltung/fahrbuecherei-meggerdorf/2028-11-24/
LOCATION:Johanniberg KiGa
ATTACH;FMTTYPE=image/jpeg:https://kropp.de/wp-content/uploads/2026/02/Fahrbuecherei_Kreis_Schleswig-Flensburg.jpg
END:VEVENT
BEGIN:VEVENT
DTSTART;TZID=Europe/Berlin:20281222T102500
DTEND;TZID=Europe/Berlin:20281222T104000
DTSTAMP:20260424T111252
CREATED:20260216T074549Z
LAST-MODIFIED:20260216T074549Z
UID:10007929-1861093500-1861094400@kropp.de
SUMMARY:Fahrbücherei Meggerdorf
DESCRIPTION:Die Fahrbücherei ist unterwegs
URL:https://kropp.de/veranstaltung/fahrbuecherei-meggerdorf/2028-12-22/
LOCATION:Johanniberg KiGa
ATTACH;FMTTYPE=image/jpeg:https://kropp.de/wp-content/uploads/2026/02/Fahrbuecherei_Kreis_Schleswig-Flensburg.jpg
END:VEVENT
BEGIN:VEVENT
DTSTART;TZID=Europe/Berlin:20290126T102500
DTEND;TZID=Europe/Berlin:20290126T104000
DTSTAMP:20260424T111252
CREATED:20260216T074549Z
LAST-MODIFIED:20260216T074549Z
UID:10007930-1864117500-1864118400@kropp.de
SUMMARY:Fahrbücherei Meggerdorf
DESCRIPTION:Die Fahrbücherei ist unterwegs
URL:https://kropp.de/veranstaltung/fahrbuecherei-meggerdorf/2029-01-26/
LOCATION:Johanniberg KiGa
ATTACH;FMTTYPE=image/jpeg:https://kropp.de/wp-content/uploads/2026/02/Fahrbuecherei_Kreis_Schleswig-Flensburg.jpg
END:VEVENT
BEGIN:VEVENT
DTSTART;TZID=Europe/Berlin:20290223T102500
DTEND;TZID=Europe/Berlin:20290223T104000
DTSTAMP:20260424T111252
CREATED:20260216T074549Z
LAST-MODIFIED:20260216T074549Z
UID:10007931-1866536700-1866537600@kropp.de
SUMMARY:Fahrbücherei Meggerdorf
DESCRIPTION:Die Fahrbücherei ist unterwegs
URL:https://kropp.de/veranstaltung/fahrbuecherei-meggerdorf/2029-02-23/
LOCATION:Johanniberg KiGa
ATTACH;FMTTYPE=image/jpeg:https://kropp.de/wp-content/uploads/2026/02/Fahrbuecherei_Kreis_Schleswig-Flensburg.jpg
END:VEVENT
BEGIN:VEVENT
DTSTART;TZID=Europe/Berlin:20290323T102500
DTEND;TZID=Europe/Berlin:20290323T104000
DTSTAMP:20260424T111252
CREATED:20260216T074549Z
LAST-MODIFIED:20260216T074549Z
UID:10007932-1868955900-1868956800@kropp.de
SUMMARY:Fahrbücherei Meggerdorf
DESCRIPTION:Die Fahrbücherei ist unterwegs
URL:https://kropp.de/veranstaltung/fahrbuecherei-meggerdorf/2029-03-23/
LOCATION:Johanniberg KiGa
ATTACH;FMTTYPE=image/jpeg:https://kropp.de/wp-content/uploads/2026/02/Fahrbuecherei_Kreis_Schleswig-Flensburg.jpg
END:VEVENT
BEGIN:VEVENT
DTSTART;TZID=Europe/Berlin:20290427T102500
DTEND;TZID=Europe/Berlin:20290427T104000
DTSTAMP:20260424T111252
CREATED:20260216T074549Z
LAST-MODIFIED:20260216T074549Z
UID:10007933-1871979900-1871980800@kropp.de
SUMMARY:Fahrbücherei Meggerdorf
DESCRIPTION:Die Fahrbücherei ist unterwegs
URL:https://kropp.de/veranstaltung/fahrbuecherei-meggerdorf/2029-04-27/
LOCATION:Johanniberg KiGa
ATTACH;FMTTYPE=image/jpeg:https://kropp.de/wp-content/uploads/2026/02/Fahrbuecherei_Kreis_Schleswig-Flensburg.jpg
END:VEVENT
BEGIN:VEVENT
DTSTART;TZID=Europe/Berlin:20290525T102500
DTEND;TZID=Europe/Berlin:20290525T104000
DTSTAMP:20260424T111252
CREATED:20260216T074549Z
LAST-MODIFIED:20260216T074549Z
UID:10007934-1874399100-1874400000@kropp.de
SUMMARY:Fahrbücherei Meggerdorf
DESCRIPTION:Die Fahrbücherei ist unterwegs
URL:https://kropp.de/veranstaltung/fahrbuecherei-meggerdorf/2029-05-25/
LOCATION:Johanniberg KiGa
ATTACH;FMTTYPE=image/jpeg:https://kropp.de/wp-content/uploads/2026/02/Fahrbuecherei_Kreis_Schleswig-Flensburg.jpg
END:VEVENT
BEGIN:VEVENT
DTSTART;TZID=Europe/Berlin:20290622T102500
DTEND;TZID=Europe/Berlin:20290622T104000
DTSTAMP:20260424T111252
CREATED:20260216T074549Z
LAST-MODIFIED:20260216T074549Z
UID:10007935-1876818300-1876819200@kropp.de
SUMMARY:Fahrbücherei Meggerdorf
DESCRIPTION:Die Fahrbücherei ist unterwegs
URL:https://kropp.de/veranstaltung/fahrbuecherei-meggerdorf/2029-06-22/
LOCATION:Johanniberg KiGa
ATTACH;FMTTYPE=image/jpeg:https://kropp.de/wp-content/uploads/2026/02/Fahrbuecherei_Kreis_Schleswig-Flensburg.jpg
END:VEVENT
BEGIN:VEVENT
DTSTART;TZID=Europe/Berlin:20290727T102500
DTEND;TZID=Europe/Berlin:20290727T104000
DTSTAMP:20260424T111252
CREATED:20260216T074549Z
LAST-MODIFIED:20260216T074549Z
UID:10007936-1879842300-1879843200@kropp.de
SUMMARY:Fahrbücherei Meggerdorf
DESCRIPTION:Die Fahrbücherei ist unterwegs
URL:https://kropp.de/veranstaltung/fahrbuecherei-meggerdorf/2029-07-27/
LOCATION:Johanniberg KiGa
ATTACH;FMTTYPE=image/jpeg:https://kropp.de/wp-content/uploads/2026/02/Fahrbuecherei_Kreis_Schleswig-Flensburg.jpg
END:VEVENT
BEGIN:VEVENT
DTSTART;TZID=Europe/Berlin:20290824T102500
DTEND;TZID=Europe/Berlin:20290824T104000
DTSTAMP:20260424T111252
CREATED:20260216T074549Z
LAST-MODIFIED:20260216T074549Z
UID:10007937-1882261500-1882262400@kropp.de
SUMMARY:Fahrbücherei Meggerdorf
DESCRIPTION:Die Fahrbücherei ist unterwegs
URL:https://kropp.de/veranstaltung/fahrbuecherei-meggerdorf/2029-08-24/
LOCATION:Johanniberg KiGa
ATTACH;FMTTYPE=image/jpeg:https://kropp.de/wp-content/uploads/2026/02/Fahrbuecherei_Kreis_Schleswig-Flensburg.jpg
END:VEVENT
BEGIN:VEVENT
DTSTART;TZID=Europe/Berlin:20290928T102500
DTEND;TZID=Europe/Berlin:20290928T104000
DTSTAMP:20260424T111252
CREATED:20260216T074549Z
LAST-MODIFIED:20260216T074549Z
UID:10007938-1885285500-1885286400@kropp.de
SUMMARY:Fahrbücherei Meggerdorf
DESCRIPTION:Die Fahrbücherei ist unterwegs
URL:https://kropp.de/veranstaltung/fahrbuecherei-meggerdorf/2029-09-28/
LOCATION:Johanniberg KiGa
ATTACH;FMTTYPE=image/jpeg:https://kropp.de/wp-content/uploads/2026/02/Fahrbuecherei_Kreis_Schleswig-Flensburg.jpg
END:VEVENT
BEGIN:VEVENT
DTSTART;TZID=Europe/Berlin:20291026T102500
DTEND;TZID=Europe/Berlin:20291026T104000
DTSTAMP:20260424T111252
CREATED:20260216T074549Z
LAST-MODIFIED:20260216T074549Z
UID:10007939-1887704700-1887705600@kropp.de
SUMMARY:Fahrbücherei Meggerdorf
DESCRIPTION:Die Fahrbücherei ist unterwegs
URL:https://kropp.de/veranstaltung/fahrbuecherei-meggerdorf/2029-10-26/
LOCATION:Johanniberg KiGa
ATTACH;FMTTYPE=image/jpeg:https://kropp.de/wp-content/uploads/2026/02/Fahrbuecherei_Kreis_Schleswig-Flensburg.jpg
END:VEVENT
BEGIN:VEVENT
DTSTART;TZID=Europe/Berlin:20291123T102500
DTEND;TZID=Europe/Berlin:20291123T104000
DTSTAMP:20260424T111252
CREATED:20260216T074549Z
LAST-MODIFIED:20260216T074549Z
UID:10007940-1890123900-1890124800@kropp.de
SUMMARY:Fahrbücherei Meggerdorf
DESCRIPTION:Die Fahrbücherei ist unterwegs
URL:https://kropp.de/veranstaltung/fahrbuecherei-meggerdorf/2029-11-23/
LOCATION:Johanniberg KiGa
ATTACH;FMTTYPE=image/jpeg:https://kropp.de/wp-content/uploads/2026/02/Fahrbuecherei_Kreis_Schleswig-Flensburg.jpg
END:VEVENT
BEGIN:VEVENT
DTSTART;TZID=Europe/Berlin:20291228T102500
DTEND;TZID=Europe/Berlin:20291228T104000
DTSTAMP:20260424T111252
CREATED:20260216T074549Z
LAST-MODIFIED:20260216T074549Z
UID:10007941-1893147900-1893148800@kropp.de
SUMMARY:Fahrbücherei Meggerdorf
DESCRIPTION:Die Fahrbücherei ist unterwegs
URL:https://kropp.de/veranstaltung/fahrbuecherei-meggerdorf/2029-12-28/
LOCATION:Johanniberg KiGa
ATTACH;FMTTYPE=image/jpeg:https://kropp.de/wp-content/uploads/2026/02/Fahrbuecherei_Kreis_Schleswig-Flensburg.jpg
END:VEVENT
BEGIN:VEVENT
DTSTART;TZID=Europe/Berlin:20300125T102500
DTEND;TZID=Europe/Berlin:20300125T104000
DTSTAMP:20260424T111252
CREATED:20260216T074549Z
LAST-MODIFIED:20260216T074549Z
UID:10007942-1895567100-1895568000@kropp.de
SUMMARY:Fahrbücherei Meggerdorf
DESCRIPTION:Die Fahrbücherei ist unterwegs
URL:https://kropp.de/veranstaltung/fahrbuecherei-meggerdorf/2030-01-25/
LOCATION:Johanniberg KiGa
ATTACH;FMTTYPE=image/jpeg:https://kropp.de/wp-content/uploads/2026/02/Fahrbuecherei_Kreis_Schleswig-Flensburg.jpg
END:VEVENT
BEGIN:VEVENT
DTSTART;TZID=Europe/Berlin:20300222T102500
DTEND;TZID=Europe/Berlin:20300222T104000
DTSTAMP:20260424T111252
CREATED:20260216T074549Z
LAST-MODIFIED:20260216T074549Z
UID:10007943-1897986300-1897987200@kropp.de
SUMMARY:Fahrbücherei Meggerdorf
DESCRIPTION:Die Fahrbücherei ist unterwegs
URL:https://kropp.de/veranstaltung/fahrbuecherei-meggerdorf/2030-02-22/
LOCATION:Johanniberg KiGa
ATTACH;FMTTYPE=image/jpeg:https://kropp.de/wp-content/uploads/2026/02/Fahrbuecherei_Kreis_Schleswig-Flensburg.jpg
END:VEVENT
BEGIN:VEVENT
DTSTART;TZID=Europe/Berlin:20300322T102500
DTEND;TZID=Europe/Berlin:20300322T104000
DTSTAMP:20260424T111252
CREATED:20260216T074549Z
LAST-MODIFIED:20260216T074549Z
UID:10007944-1900405500-1900406400@kropp.de
SUMMARY:Fahrbücherei Meggerdorf
DESCRIPTION:Die Fahrbücherei ist unterwegs
URL:https://kropp.de/veranstaltung/fahrbuecherei-meggerdorf/2030-03-22/
LOCATION:Johanniberg KiGa
ATTACH;FMTTYPE=image/jpeg:https://kropp.de/wp-content/uploads/2026/02/Fahrbuecherei_Kreis_Schleswig-Flensburg.jpg
END:VEVENT
BEGIN:VEVENT
DTSTART;TZID=Europe/Berlin:20300426T102500
DTEND;TZID=Europe/Berlin:20300426T104000
DTSTAMP:20260424T111252
CREATED:20260216T074549Z
LAST-MODIFIED:20260216T074549Z
UID:10007945-1903429500-1903430400@kropp.de
SUMMARY:Fahrbücherei Meggerdorf
DESCRIPTION:Die Fahrbücherei ist unterwegs
URL:https://kropp.de/veranstaltung/fahrbuecherei-meggerdorf/2030-04-26/
LOCATION:Johanniberg KiGa
ATTACH;FMTTYPE=image/jpeg:https://kropp.de/wp-content/uploads/2026/02/Fahrbuecherei_Kreis_Schleswig-Flensburg.jpg
END:VEVENT
BEGIN:VEVENT
DTSTART;TZID=Europe/Berlin:20300524T102500
DTEND;TZID=Europe/Berlin:20300524T104000
DTSTAMP:20260424T111252
CREATED:20260216T074549Z
LAST-MODIFIED:20260216T074549Z
UID:10007946-1905848700-1905849600@kropp.de
SUMMARY:Fahrbücherei Meggerdorf
DESCRIPTION:Die Fahrbücherei ist unterwegs
URL:https://kropp.de/veranstaltung/fahrbuecherei-meggerdorf/2030-05-24/
LOCATION:Johanniberg KiGa
ATTACH;FMTTYPE=image/jpeg:https://kropp.de/wp-content/uploads/2026/02/Fahrbuecherei_Kreis_Schleswig-Flensburg.jpg
END:VEVENT
BEGIN:VEVENT
DTSTART;TZID=Europe/Berlin:20300628T102500
DTEND;TZID=Europe/Berlin:20300628T104000
DTSTAMP:20260424T111252
CREATED:20260216T074549Z
LAST-MODIFIED:20260216T074549Z
UID:10007947-1908872700-1908873600@kropp.de
SUMMARY:Fahrbücherei Meggerdorf
DESCRIPTION:Die Fahrbücherei ist unterwegs
URL:https://kropp.de/veranstaltung/fahrbuecherei-meggerdorf/2030-06-28/
LOCATION:Johanniberg KiGa
ATTACH;FMTTYPE=image/jpeg:https://kropp.de/wp-content/uploads/2026/02/Fahrbuecherei_Kreis_Schleswig-Flensburg.jpg
END:VEVENT
BEGIN:VEVENT
DTSTART;TZID=Europe/Berlin:20300726T102500
DTEND;TZID=Europe/Berlin:20300726T104000
DTSTAMP:20260424T111252
CREATED:20260216T074549Z
LAST-MODIFIED:20260216T074549Z
UID:10007948-1911291900-1911292800@kropp.de
SUMMARY:Fahrbücherei Meggerdorf
DESCRIPTION:Die Fahrbücherei ist unterwegs
URL:https://kropp.de/veranstaltung/fahrbuecherei-meggerdorf/2030-07-26/
LOCATION:Johanniberg KiGa
ATTACH;FMTTYPE=image/jpeg:https://kropp.de/wp-content/uploads/2026/02/Fahrbuecherei_Kreis_Schleswig-Flensburg.jpg
END:VEVENT
BEGIN:VEVENT
DTSTART;TZID=Europe/Berlin:20300823T102500
DTEND;TZID=Europe/Berlin:20300823T104000
DTSTAMP:20260424T111252
CREATED:20260216T074549Z
LAST-MODIFIED:20260216T074549Z
UID:10007949-1913711100-1913712000@kropp.de
SUMMARY:Fahrbücherei Meggerdorf
DESCRIPTION:Die Fahrbücherei ist unterwegs
URL:https://kropp.de/veranstaltung/fahrbuecherei-meggerdorf/2030-08-23/
LOCATION:Johanniberg KiGa
ATTACH;FMTTYPE=image/jpeg:https://kropp.de/wp-content/uploads/2026/02/Fahrbuecherei_Kreis_Schleswig-Flensburg.jpg
END:VEVENT
BEGIN:VEVENT
DTSTART;TZID=Europe/Berlin:20300927T102500
DTEND;TZID=Europe/Berlin:20300927T104000
DTSTAMP:20260424T111252
CREATED:20260216T074549Z
LAST-MODIFIED:20260216T074549Z
UID:10007950-1916735100-1916736000@kropp.de
SUMMARY:Fahrbücherei Meggerdorf
DESCRIPTION:Die Fahrbücherei ist unterwegs
URL:https://kropp.de/veranstaltung/fahrbuecherei-meggerdorf/2030-09-27/
LOCATION:Johanniberg KiGa
ATTACH;FMTTYPE=image/jpeg:https://kropp.de/wp-content/uploads/2026/02/Fahrbuecherei_Kreis_Schleswig-Flensburg.jpg
END:VEVENT
BEGIN:VEVENT
DTSTART;TZID=Europe/Berlin:20301025T102500
DTEND;TZID=Europe/Berlin:20301025T104000
DTSTAMP:20260424T111252
CREATED:20260216T074549Z
LAST-MODIFIED:20260216T074549Z
UID:10007951-1919154300-1919155200@kropp.de
SUMMARY:Fahrbücherei Meggerdorf
DESCRIPTION:Die Fahrbücherei ist unterwegs
URL:https://kropp.de/veranstaltung/fahrbuecherei-meggerdorf/2030-10-25/
LOCATION:Johanniberg KiGa
ATTACH;FMTTYPE=image/jpeg:https://kropp.de/wp-content/uploads/2026/02/Fahrbuecherei_Kreis_Schleswig-Flensburg.jpg
END:VEVENT
END:VCALENDAR