BEGIN:VCALENDAR
VERSION:2.0
PRODID:-//Gemeinde Kropp - ECPv6.15.20//NONSGML v1.0//EN
CALSCALE:GREGORIAN
METHOD:PUBLISH
X-ORIGINAL-URL:https://kropp.de
X-WR-CALDESC:Veranstaltungen für Gemeinde Kropp
REFRESH-INTERVAL;VALUE=DURATION:PT1H
X-Robots-Tag:noindex
X-PUBLISHED-TTL:PT1H
BEGIN:VTIMEZONE
TZID:Europe/Berlin
BEGIN:DAYLIGHT
TZOFFSETFROM:+0100
TZOFFSETTO:+0200
TZNAME:CEST
DTSTART:20250330T010000
END:DAYLIGHT
BEGIN:STANDARD
TZOFFSETFROM:+0200
TZOFFSETTO:+0100
TZNAME:CET
DTSTART:20251026T010000
END:STANDARD
BEGIN:DAYLIGHT
TZOFFSETFROM:+0100
TZOFFSETTO:+0200
TZNAME:CEST
DTSTART:20260329T010000
END:DAYLIGHT
BEGIN:STANDARD
TZOFFSETFROM:+0200
TZOFFSETTO:+0100
TZNAME:CET
DTSTART:20261025T010000
END:STANDARD
BEGIN:DAYLIGHT
TZOFFSETFROM:+0100
TZOFFSETTO:+0200
TZNAME:CEST
DTSTART:20270328T010000
END:DAYLIGHT
BEGIN:STANDARD
TZOFFSETFROM:+0200
TZOFFSETTO:+0100
TZNAME:CET
DTSTART:20271031T010000
END:STANDARD
END:VTIMEZONE
BEGIN:VEVENT
DTSTART;TZID=Europe/Berlin:20260423T150000
DTEND;TZID=Europe/Berlin:20260423T170000
DTSTAMP:20260421T000939
CREATED:20260205T094303Z
LAST-MODIFIED:20260205T094303Z
UID:10006811-1776956400-1776963600@kropp.de
SUMMARY:Spielkreis für Kinder ab 1 Jahr
DESCRIPTION:  \n 
URL:https://kropp.de/veranstaltung/spielkreis-fuer-kinder-ab-1-jahr/2026-04-23/
LOCATION:Kindergarten Börm\, Koogstraße 2\, Börm\, Bundesstaat wählen:\, 24863\, Germany
END:VEVENT
BEGIN:VEVENT
DTSTART;TZID=Europe/Berlin:20260430T150000
DTEND;TZID=Europe/Berlin:20260430T170000
DTSTAMP:20260421T000939
CREATED:20260205T094303Z
LAST-MODIFIED:20260205T094303Z
UID:10006812-1777561200-1777568400@kropp.de
SUMMARY:Spielkreis für Kinder ab 1 Jahr
DESCRIPTION:  \n 
URL:https://kropp.de/veranstaltung/spielkreis-fuer-kinder-ab-1-jahr/2026-04-30/
LOCATION:Kindergarten Börm\, Koogstraße 2\, Börm\, Bundesstaat wählen:\, 24863\, Germany
END:VEVENT
BEGIN:VEVENT
DTSTART;TZID=Europe/Berlin:20260507T150000
DTEND;TZID=Europe/Berlin:20260507T170000
DTSTAMP:20260421T000939
CREATED:20260205T094303Z
LAST-MODIFIED:20260205T094303Z
UID:10006813-1778166000-1778173200@kropp.de
SUMMARY:Spielkreis für Kinder ab 1 Jahr
DESCRIPTION:  \n 
URL:https://kropp.de/veranstaltung/spielkreis-fuer-kinder-ab-1-jahr/2026-05-07/
LOCATION:Kindergarten Börm\, Koogstraße 2\, Börm\, Bundesstaat wählen:\, 24863\, Germany
END:VEVENT
BEGIN:VEVENT
DTSTART;TZID=Europe/Berlin:20260514T150000
DTEND;TZID=Europe/Berlin:20260514T170000
DTSTAMP:20260421T000939
CREATED:20260205T094303Z
LAST-MODIFIED:20260205T094303Z
UID:10006814-1778770800-1778778000@kropp.de
SUMMARY:Spielkreis für Kinder ab 1 Jahr
DESCRIPTION:  \n 
URL:https://kropp.de/veranstaltung/spielkreis-fuer-kinder-ab-1-jahr/2026-05-14/
LOCATION:Kindergarten Börm\, Koogstraße 2\, Börm\, Bundesstaat wählen:\, 24863\, Germany
END:VEVENT
BEGIN:VEVENT
DTSTART;TZID=Europe/Berlin:20260521T150000
DTEND;TZID=Europe/Berlin:20260521T170000
DTSTAMP:20260421T000939
CREATED:20260205T094303Z
LAST-MODIFIED:20260205T094303Z
UID:10006815-1779375600-1779382800@kropp.de
SUMMARY:Spielkreis für Kinder ab 1 Jahr
DESCRIPTION:  \n 
URL:https://kropp.de/veranstaltung/spielkreis-fuer-kinder-ab-1-jahr/2026-05-21/
LOCATION:Kindergarten Börm\, Koogstraße 2\, Börm\, Bundesstaat wählen:\, 24863\, Germany
END:VEVENT
BEGIN:VEVENT
DTSTART;TZID=Europe/Berlin:20260528T150000
DTEND;TZID=Europe/Berlin:20260528T170000
DTSTAMP:20260421T000939
CREATED:20260205T094303Z
LAST-MODIFIED:20260205T094303Z
UID:10006816-1779980400-1779987600@kropp.de
SUMMARY:Spielkreis für Kinder ab 1 Jahr
DESCRIPTION:  \n 
URL:https://kropp.de/veranstaltung/spielkreis-fuer-kinder-ab-1-jahr/2026-05-28/
LOCATION:Kindergarten Börm\, Koogstraße 2\, Börm\, Bundesstaat wählen:\, 24863\, Germany
END:VEVENT
BEGIN:VEVENT
DTSTART;TZID=Europe/Berlin:20260604T150000
DTEND;TZID=Europe/Berlin:20260604T170000
DTSTAMP:20260421T000939
CREATED:20260205T094303Z
LAST-MODIFIED:20260205T094303Z
UID:10006817-1780585200-1780592400@kropp.de
SUMMARY:Spielkreis für Kinder ab 1 Jahr
DESCRIPTION:  \n 
URL:https://kropp.de/veranstaltung/spielkreis-fuer-kinder-ab-1-jahr/2026-06-04/
LOCATION:Kindergarten Börm\, Koogstraße 2\, Börm\, Bundesstaat wählen:\, 24863\, Germany
END:VEVENT
BEGIN:VEVENT
DTSTART;TZID=Europe/Berlin:20260611T150000
DTEND;TZID=Europe/Berlin:20260611T170000
DTSTAMP:20260421T000939
CREATED:20260205T094303Z
LAST-MODIFIED:20260205T094303Z
UID:10006818-1781190000-1781197200@kropp.de
SUMMARY:Spielkreis für Kinder ab 1 Jahr
DESCRIPTION:  \n 
URL:https://kropp.de/veranstaltung/spielkreis-fuer-kinder-ab-1-jahr/2026-06-11/
LOCATION:Kindergarten Börm\, Koogstraße 2\, Börm\, Bundesstaat wählen:\, 24863\, Germany
END:VEVENT
BEGIN:VEVENT
DTSTART;TZID=Europe/Berlin:20260618T150000
DTEND;TZID=Europe/Berlin:20260618T170000
DTSTAMP:20260421T000939
CREATED:20260205T094303Z
LAST-MODIFIED:20260205T094303Z
UID:10006819-1781794800-1781802000@kropp.de
SUMMARY:Spielkreis für Kinder ab 1 Jahr
DESCRIPTION:  \n 
URL:https://kropp.de/veranstaltung/spielkreis-fuer-kinder-ab-1-jahr/2026-06-18/
LOCATION:Kindergarten Börm\, Koogstraße 2\, Börm\, Bundesstaat wählen:\, 24863\, Germany
END:VEVENT
BEGIN:VEVENT
DTSTART;TZID=Europe/Berlin:20260625T150000
DTEND;TZID=Europe/Berlin:20260625T170000
DTSTAMP:20260421T000939
CREATED:20260205T094303Z
LAST-MODIFIED:20260205T094303Z
UID:10006820-1782399600-1782406800@kropp.de
SUMMARY:Spielkreis für Kinder ab 1 Jahr
DESCRIPTION:  \n 
URL:https://kropp.de/veranstaltung/spielkreis-fuer-kinder-ab-1-jahr/2026-06-25/
LOCATION:Kindergarten Börm\, Koogstraße 2\, Börm\, Bundesstaat wählen:\, 24863\, Germany
END:VEVENT
BEGIN:VEVENT
DTSTART;TZID=Europe/Berlin:20260702T150000
DTEND;TZID=Europe/Berlin:20260702T170000
DTSTAMP:20260421T000939
CREATED:20260205T094303Z
LAST-MODIFIED:20260205T094303Z
UID:10006821-1783004400-1783011600@kropp.de
SUMMARY:Spielkreis für Kinder ab 1 Jahr
DESCRIPTION:  \n 
URL:https://kropp.de/veranstaltung/spielkreis-fuer-kinder-ab-1-jahr/2026-07-02/
LOCATION:Kindergarten Börm\, Koogstraße 2\, Börm\, Bundesstaat wählen:\, 24863\, Germany
END:VEVENT
BEGIN:VEVENT
DTSTART;TZID=Europe/Berlin:20260709T150000
DTEND;TZID=Europe/Berlin:20260709T170000
DTSTAMP:20260421T000939
CREATED:20260205T094303Z
LAST-MODIFIED:20260205T094303Z
UID:10006822-1783609200-1783616400@kropp.de
SUMMARY:Spielkreis für Kinder ab 1 Jahr
DESCRIPTION:  \n 
URL:https://kropp.de/veranstaltung/spielkreis-fuer-kinder-ab-1-jahr/2026-07-09/
LOCATION:Kindergarten Börm\, Koogstraße 2\, Börm\, Bundesstaat wählen:\, 24863\, Germany
END:VEVENT
BEGIN:VEVENT
DTSTART;TZID=Europe/Berlin:20260716T150000
DTEND;TZID=Europe/Berlin:20260716T170000
DTSTAMP:20260421T000939
CREATED:20260205T094303Z
LAST-MODIFIED:20260205T094303Z
UID:10006823-1784214000-1784221200@kropp.de
SUMMARY:Spielkreis für Kinder ab 1 Jahr
DESCRIPTION:  \n 
URL:https://kropp.de/veranstaltung/spielkreis-fuer-kinder-ab-1-jahr/2026-07-16/
LOCATION:Kindergarten Börm\, Koogstraße 2\, Börm\, Bundesstaat wählen:\, 24863\, Germany
END:VEVENT
BEGIN:VEVENT
DTSTART;TZID=Europe/Berlin:20260723T150000
DTEND;TZID=Europe/Berlin:20260723T170000
DTSTAMP:20260421T000939
CREATED:20260205T094303Z
LAST-MODIFIED:20260205T094303Z
UID:10006824-1784818800-1784826000@kropp.de
SUMMARY:Spielkreis für Kinder ab 1 Jahr
DESCRIPTION:  \n 
URL:https://kropp.de/veranstaltung/spielkreis-fuer-kinder-ab-1-jahr/2026-07-23/
LOCATION:Kindergarten Börm\, Koogstraße 2\, Börm\, Bundesstaat wählen:\, 24863\, Germany
END:VEVENT
BEGIN:VEVENT
DTSTART;TZID=Europe/Berlin:20260730T150000
DTEND;TZID=Europe/Berlin:20260730T170000
DTSTAMP:20260421T000939
CREATED:20260205T094303Z
LAST-MODIFIED:20260205T094303Z
UID:10006825-1785423600-1785430800@kropp.de
SUMMARY:Spielkreis für Kinder ab 1 Jahr
DESCRIPTION:  \n 
URL:https://kropp.de/veranstaltung/spielkreis-fuer-kinder-ab-1-jahr/2026-07-30/
LOCATION:Kindergarten Börm\, Koogstraße 2\, Börm\, Bundesstaat wählen:\, 24863\, Germany
END:VEVENT
BEGIN:VEVENT
DTSTART;TZID=Europe/Berlin:20260806T150000
DTEND;TZID=Europe/Berlin:20260806T170000
DTSTAMP:20260421T000939
CREATED:20260205T094303Z
LAST-MODIFIED:20260205T094303Z
UID:10006826-1786028400-1786035600@kropp.de
SUMMARY:Spielkreis für Kinder ab 1 Jahr
DESCRIPTION:  \n 
URL:https://kropp.de/veranstaltung/spielkreis-fuer-kinder-ab-1-jahr/2026-08-06/
LOCATION:Kindergarten Börm\, Koogstraße 2\, Börm\, Bundesstaat wählen:\, 24863\, Germany
END:VEVENT
BEGIN:VEVENT
DTSTART;TZID=Europe/Berlin:20260813T150000
DTEND;TZID=Europe/Berlin:20260813T170000
DTSTAMP:20260421T000939
CREATED:20260205T094303Z
LAST-MODIFIED:20260205T094303Z
UID:10006827-1786633200-1786640400@kropp.de
SUMMARY:Spielkreis für Kinder ab 1 Jahr
DESCRIPTION:  \n 
URL:https://kropp.de/veranstaltung/spielkreis-fuer-kinder-ab-1-jahr/2026-08-13/
LOCATION:Kindergarten Börm\, Koogstraße 2\, Börm\, Bundesstaat wählen:\, 24863\, Germany
END:VEVENT
BEGIN:VEVENT
DTSTART;TZID=Europe/Berlin:20260820T150000
DTEND;TZID=Europe/Berlin:20260820T170000
DTSTAMP:20260421T000939
CREATED:20260205T094303Z
LAST-MODIFIED:20260205T094303Z
UID:10006828-1787238000-1787245200@kropp.de
SUMMARY:Spielkreis für Kinder ab 1 Jahr
DESCRIPTION:  \n 
URL:https://kropp.de/veranstaltung/spielkreis-fuer-kinder-ab-1-jahr/2026-08-20/
LOCATION:Kindergarten Börm\, Koogstraße 2\, Börm\, Bundesstaat wählen:\, 24863\, Germany
END:VEVENT
BEGIN:VEVENT
DTSTART;TZID=Europe/Berlin:20260827T150000
DTEND;TZID=Europe/Berlin:20260827T170000
DTSTAMP:20260421T000939
CREATED:20260205T094303Z
LAST-MODIFIED:20260205T094303Z
UID:10006829-1787842800-1787850000@kropp.de
SUMMARY:Spielkreis für Kinder ab 1 Jahr
DESCRIPTION:  \n 
URL:https://kropp.de/veranstaltung/spielkreis-fuer-kinder-ab-1-jahr/2026-08-27/
LOCATION:Kindergarten Börm\, Koogstraße 2\, Börm\, Bundesstaat wählen:\, 24863\, Germany
END:VEVENT
BEGIN:VEVENT
DTSTART;TZID=Europe/Berlin:20260903T150000
DTEND;TZID=Europe/Berlin:20260903T170000
DTSTAMP:20260421T000939
CREATED:20260205T094303Z
LAST-MODIFIED:20260205T094303Z
UID:10006830-1788447600-1788454800@kropp.de
SUMMARY:Spielkreis für Kinder ab 1 Jahr
DESCRIPTION:  \n 
URL:https://kropp.de/veranstaltung/spielkreis-fuer-kinder-ab-1-jahr/2026-09-03/
LOCATION:Kindergarten Börm\, Koogstraße 2\, Börm\, Bundesstaat wählen:\, 24863\, Germany
END:VEVENT
BEGIN:VEVENT
DTSTART;TZID=Europe/Berlin:20260910T150000
DTEND;TZID=Europe/Berlin:20260910T170000
DTSTAMP:20260421T000939
CREATED:20260205T094303Z
LAST-MODIFIED:20260205T094303Z
UID:10006831-1789052400-1789059600@kropp.de
SUMMARY:Spielkreis für Kinder ab 1 Jahr
DESCRIPTION:  \n 
URL:https://kropp.de/veranstaltung/spielkreis-fuer-kinder-ab-1-jahr/2026-09-10/
LOCATION:Kindergarten Börm\, Koogstraße 2\, Börm\, Bundesstaat wählen:\, 24863\, Germany
END:VEVENT
BEGIN:VEVENT
DTSTART;TZID=Europe/Berlin:20260917T150000
DTEND;TZID=Europe/Berlin:20260917T170000
DTSTAMP:20260421T000939
CREATED:20260205T094303Z
LAST-MODIFIED:20260205T094303Z
UID:10006832-1789657200-1789664400@kropp.de
SUMMARY:Spielkreis für Kinder ab 1 Jahr
DESCRIPTION:  \n 
URL:https://kropp.de/veranstaltung/spielkreis-fuer-kinder-ab-1-jahr/2026-09-17/
LOCATION:Kindergarten Börm\, Koogstraße 2\, Börm\, Bundesstaat wählen:\, 24863\, Germany
END:VEVENT
BEGIN:VEVENT
DTSTART;TZID=Europe/Berlin:20260924T150000
DTEND;TZID=Europe/Berlin:20260924T170000
DTSTAMP:20260421T000939
CREATED:20260205T094303Z
LAST-MODIFIED:20260205T094303Z
UID:10006833-1790262000-1790269200@kropp.de
SUMMARY:Spielkreis für Kinder ab 1 Jahr
DESCRIPTION:  \n 
URL:https://kropp.de/veranstaltung/spielkreis-fuer-kinder-ab-1-jahr/2026-09-24/
LOCATION:Kindergarten Börm\, Koogstraße 2\, Börm\, Bundesstaat wählen:\, 24863\, Germany
END:VEVENT
BEGIN:VEVENT
DTSTART;TZID=Europe/Berlin:20261001T150000
DTEND;TZID=Europe/Berlin:20261001T170000
DTSTAMP:20260421T000939
CREATED:20260205T094303Z
LAST-MODIFIED:20260205T094303Z
UID:10006834-1790866800-1790874000@kropp.de
SUMMARY:Spielkreis für Kinder ab 1 Jahr
DESCRIPTION:  \n 
URL:https://kropp.de/veranstaltung/spielkreis-fuer-kinder-ab-1-jahr/2026-10-01/
LOCATION:Kindergarten Börm\, Koogstraße 2\, Börm\, Bundesstaat wählen:\, 24863\, Germany
END:VEVENT
BEGIN:VEVENT
DTSTART;TZID=Europe/Berlin:20261008T150000
DTEND;TZID=Europe/Berlin:20261008T170000
DTSTAMP:20260421T000939
CREATED:20260205T094303Z
LAST-MODIFIED:20260205T094303Z
UID:10006835-1791471600-1791478800@kropp.de
SUMMARY:Spielkreis für Kinder ab 1 Jahr
DESCRIPTION:  \n 
URL:https://kropp.de/veranstaltung/spielkreis-fuer-kinder-ab-1-jahr/2026-10-08/
LOCATION:Kindergarten Börm\, Koogstraße 2\, Börm\, Bundesstaat wählen:\, 24863\, Germany
END:VEVENT
BEGIN:VEVENT
DTSTART;TZID=Europe/Berlin:20261015T150000
DTEND;TZID=Europe/Berlin:20261015T170000
DTSTAMP:20260421T000939
CREATED:20260205T094303Z
LAST-MODIFIED:20260205T094303Z
UID:10006836-1792076400-1792083600@kropp.de
SUMMARY:Spielkreis für Kinder ab 1 Jahr
DESCRIPTION:  \n 
URL:https://kropp.de/veranstaltung/spielkreis-fuer-kinder-ab-1-jahr/2026-10-15/
LOCATION:Kindergarten Börm\, Koogstraße 2\, Börm\, Bundesstaat wählen:\, 24863\, Germany
END:VEVENT
BEGIN:VEVENT
DTSTART;TZID=Europe/Berlin:20261022T150000
DTEND;TZID=Europe/Berlin:20261022T170000
DTSTAMP:20260421T000939
CREATED:20260205T094303Z
LAST-MODIFIED:20260205T094303Z
UID:10006837-1792681200-1792688400@kropp.de
SUMMARY:Spielkreis für Kinder ab 1 Jahr
DESCRIPTION:  \n 
URL:https://kropp.de/veranstaltung/spielkreis-fuer-kinder-ab-1-jahr/2026-10-22/
LOCATION:Kindergarten Börm\, Koogstraße 2\, Börm\, Bundesstaat wählen:\, 24863\, Germany
END:VEVENT
BEGIN:VEVENT
DTSTART;TZID=Europe/Berlin:20261029T150000
DTEND;TZID=Europe/Berlin:20261029T170000
DTSTAMP:20260421T000939
CREATED:20260205T094303Z
LAST-MODIFIED:20260205T094303Z
UID:10006838-1793286000-1793293200@kropp.de
SUMMARY:Spielkreis für Kinder ab 1 Jahr
DESCRIPTION:  \n 
URL:https://kropp.de/veranstaltung/spielkreis-fuer-kinder-ab-1-jahr/2026-10-29/
LOCATION:Kindergarten Börm\, Koogstraße 2\, Börm\, Bundesstaat wählen:\, 24863\, Germany
END:VEVENT
BEGIN:VEVENT
DTSTART;TZID=Europe/Berlin:20261105T150000
DTEND;TZID=Europe/Berlin:20261105T170000
DTSTAMP:20260421T000939
CREATED:20260205T094303Z
LAST-MODIFIED:20260205T094303Z
UID:10006839-1793890800-1793898000@kropp.de
SUMMARY:Spielkreis für Kinder ab 1 Jahr
DESCRIPTION:  \n 
URL:https://kropp.de/veranstaltung/spielkreis-fuer-kinder-ab-1-jahr/2026-11-05/
LOCATION:Kindergarten Börm\, Koogstraße 2\, Börm\, Bundesstaat wählen:\, 24863\, Germany
END:VEVENT
BEGIN:VEVENT
DTSTART;TZID=Europe/Berlin:20261112T150000
DTEND;TZID=Europe/Berlin:20261112T170000
DTSTAMP:20260421T000939
CREATED:20260205T094303Z
LAST-MODIFIED:20260205T094303Z
UID:10006840-1794495600-1794502800@kropp.de
SUMMARY:Spielkreis für Kinder ab 1 Jahr
DESCRIPTION:  \n 
URL:https://kropp.de/veranstaltung/spielkreis-fuer-kinder-ab-1-jahr/2026-11-12/
LOCATION:Kindergarten Börm\, Koogstraße 2\, Börm\, Bundesstaat wählen:\, 24863\, Germany
END:VEVENT
END:VCALENDAR