BEGIN:VCALENDAR
VERSION:2.0
PRODID:-//Gemeinde Kropp - ECPv6.15.20//NONSGML v1.0//EN
CALSCALE:GREGORIAN
METHOD:PUBLISH
X-ORIGINAL-URL:https://kropp.de
X-WR-CALDESC:Veranstaltungen für Gemeinde Kropp
REFRESH-INTERVAL;VALUE=DURATION:PT1H
X-Robots-Tag:noindex
X-PUBLISHED-TTL:PT1H
BEGIN:VTIMEZONE
TZID:Europe/Berlin
BEGIN:DAYLIGHT
TZOFFSETFROM:+0100
TZOFFSETTO:+0200
TZNAME:CEST
DTSTART:20260329T010000
END:DAYLIGHT
BEGIN:STANDARD
TZOFFSETFROM:+0200
TZOFFSETTO:+0100
TZNAME:CET
DTSTART:20261025T010000
END:STANDARD
BEGIN:DAYLIGHT
TZOFFSETFROM:+0100
TZOFFSETTO:+0200
TZNAME:CEST
DTSTART:20270328T010000
END:DAYLIGHT
BEGIN:STANDARD
TZOFFSETFROM:+0200
TZOFFSETTO:+0100
TZNAME:CET
DTSTART:20271031T010000
END:STANDARD
BEGIN:DAYLIGHT
TZOFFSETFROM:+0100
TZOFFSETTO:+0200
TZNAME:CEST
DTSTART:20280326T010000
END:DAYLIGHT
BEGIN:STANDARD
TZOFFSETFROM:+0200
TZOFFSETTO:+0100
TZNAME:CET
DTSTART:20281029T010000
END:STANDARD
BEGIN:DAYLIGHT
TZOFFSETFROM:+0100
TZOFFSETTO:+0200
TZNAME:CEST
DTSTART:20290325T010000
END:DAYLIGHT
BEGIN:STANDARD
TZOFFSETFROM:+0200
TZOFFSETTO:+0100
TZNAME:CET
DTSTART:20291028T010000
END:STANDARD
END:VTIMEZONE
BEGIN:VEVENT
DTSTART;TZID=Europe/Berlin:20271209T150000
DTEND;TZID=Europe/Berlin:20271209T170000
DTSTAMP:20260423T183743
CREATED:20260205T094303Z
LAST-MODIFIED:20260205T094303Z
UID:10006896-1828364400-1828371600@kropp.de
SUMMARY:Spielkreis für Kinder ab 1 Jahr
DESCRIPTION:  \n 
URL:https://kropp.de/veranstaltung/spielkreis-fuer-kinder-ab-1-jahr/2027-12-09/
LOCATION:Kindergarten Börm\, Koogstraße 2\, Börm\, Bundesstaat wählen:\, 24863\, Germany
END:VEVENT
BEGIN:VEVENT
DTSTART;TZID=Europe/Berlin:20271216T150000
DTEND;TZID=Europe/Berlin:20271216T170000
DTSTAMP:20260423T183743
CREATED:20260205T094303Z
LAST-MODIFIED:20260205T094303Z
UID:10006897-1828969200-1828976400@kropp.de
SUMMARY:Spielkreis für Kinder ab 1 Jahr
DESCRIPTION:  \n 
URL:https://kropp.de/veranstaltung/spielkreis-fuer-kinder-ab-1-jahr/2027-12-16/
LOCATION:Kindergarten Börm\, Koogstraße 2\, Börm\, Bundesstaat wählen:\, 24863\, Germany
END:VEVENT
BEGIN:VEVENT
DTSTART;TZID=Europe/Berlin:20271223T150000
DTEND;TZID=Europe/Berlin:20271223T170000
DTSTAMP:20260423T183744
CREATED:20260205T094303Z
LAST-MODIFIED:20260205T094303Z
UID:10006898-1829574000-1829581200@kropp.de
SUMMARY:Spielkreis für Kinder ab 1 Jahr
DESCRIPTION:  \n 
URL:https://kropp.de/veranstaltung/spielkreis-fuer-kinder-ab-1-jahr/2027-12-23/
LOCATION:Kindergarten Börm\, Koogstraße 2\, Börm\, Bundesstaat wählen:\, 24863\, Germany
END:VEVENT
BEGIN:VEVENT
DTSTART;TZID=Europe/Berlin:20271230T150000
DTEND;TZID=Europe/Berlin:20271230T170000
DTSTAMP:20260423T183744
CREATED:20260205T094303Z
LAST-MODIFIED:20260205T094303Z
UID:10006899-1830178800-1830186000@kropp.de
SUMMARY:Spielkreis für Kinder ab 1 Jahr
DESCRIPTION:  \n 
URL:https://kropp.de/veranstaltung/spielkreis-fuer-kinder-ab-1-jahr/2027-12-30/
LOCATION:Kindergarten Börm\, Koogstraße 2\, Börm\, Bundesstaat wählen:\, 24863\, Germany
END:VEVENT
BEGIN:VEVENT
DTSTART;TZID=Europe/Berlin:20280106T150000
DTEND;TZID=Europe/Berlin:20280106T170000
DTSTAMP:20260423T183744
CREATED:20260205T094303Z
LAST-MODIFIED:20260205T094303Z
UID:10006900-1830783600-1830790800@kropp.de
SUMMARY:Spielkreis für Kinder ab 1 Jahr
DESCRIPTION:  \n 
URL:https://kropp.de/veranstaltung/spielkreis-fuer-kinder-ab-1-jahr/2028-01-06/
LOCATION:Kindergarten Börm\, Koogstraße 2\, Börm\, Bundesstaat wählen:\, 24863\, Germany
END:VEVENT
BEGIN:VEVENT
DTSTART;TZID=Europe/Berlin:20280113T150000
DTEND;TZID=Europe/Berlin:20280113T170000
DTSTAMP:20260423T183744
CREATED:20260205T094303Z
LAST-MODIFIED:20260205T094303Z
UID:10006901-1831388400-1831395600@kropp.de
SUMMARY:Spielkreis für Kinder ab 1 Jahr
DESCRIPTION:  \n 
URL:https://kropp.de/veranstaltung/spielkreis-fuer-kinder-ab-1-jahr/2028-01-13/
LOCATION:Kindergarten Börm\, Koogstraße 2\, Börm\, Bundesstaat wählen:\, 24863\, Germany
END:VEVENT
BEGIN:VEVENT
DTSTART;TZID=Europe/Berlin:20280120T150000
DTEND;TZID=Europe/Berlin:20280120T170000
DTSTAMP:20260423T183744
CREATED:20260205T094303Z
LAST-MODIFIED:20260205T094303Z
UID:10006902-1831993200-1832000400@kropp.de
SUMMARY:Spielkreis für Kinder ab 1 Jahr
DESCRIPTION:  \n 
URL:https://kropp.de/veranstaltung/spielkreis-fuer-kinder-ab-1-jahr/2028-01-20/
LOCATION:Kindergarten Börm\, Koogstraße 2\, Börm\, Bundesstaat wählen:\, 24863\, Germany
END:VEVENT
BEGIN:VEVENT
DTSTART;TZID=Europe/Berlin:20280127T150000
DTEND;TZID=Europe/Berlin:20280127T170000
DTSTAMP:20260423T183744
CREATED:20260205T094303Z
LAST-MODIFIED:20260205T094303Z
UID:10006903-1832598000-1832605200@kropp.de
SUMMARY:Spielkreis für Kinder ab 1 Jahr
DESCRIPTION:  \n 
URL:https://kropp.de/veranstaltung/spielkreis-fuer-kinder-ab-1-jahr/2028-01-27/
LOCATION:Kindergarten Börm\, Koogstraße 2\, Börm\, Bundesstaat wählen:\, 24863\, Germany
END:VEVENT
BEGIN:VEVENT
DTSTART;TZID=Europe/Berlin:20280203T150000
DTEND;TZID=Europe/Berlin:20280203T170000
DTSTAMP:20260423T183744
CREATED:20260205T094303Z
LAST-MODIFIED:20260205T094303Z
UID:10006904-1833202800-1833210000@kropp.de
SUMMARY:Spielkreis für Kinder ab 1 Jahr
DESCRIPTION:  \n 
URL:https://kropp.de/veranstaltung/spielkreis-fuer-kinder-ab-1-jahr/2028-02-03/
LOCATION:Kindergarten Börm\, Koogstraße 2\, Börm\, Bundesstaat wählen:\, 24863\, Germany
END:VEVENT
BEGIN:VEVENT
DTSTART;TZID=Europe/Berlin:20280210T150000
DTEND;TZID=Europe/Berlin:20280210T170000
DTSTAMP:20260423T183744
CREATED:20260205T094303Z
LAST-MODIFIED:20260205T094303Z
UID:10006905-1833807600-1833814800@kropp.de
SUMMARY:Spielkreis für Kinder ab 1 Jahr
DESCRIPTION:  \n 
URL:https://kropp.de/veranstaltung/spielkreis-fuer-kinder-ab-1-jahr/2028-02-10/
LOCATION:Kindergarten Börm\, Koogstraße 2\, Börm\, Bundesstaat wählen:\, 24863\, Germany
END:VEVENT
BEGIN:VEVENT
DTSTART;TZID=Europe/Berlin:20280217T150000
DTEND;TZID=Europe/Berlin:20280217T170000
DTSTAMP:20260423T183744
CREATED:20260205T094303Z
LAST-MODIFIED:20260205T094303Z
UID:10006906-1834412400-1834419600@kropp.de
SUMMARY:Spielkreis für Kinder ab 1 Jahr
DESCRIPTION:  \n 
URL:https://kropp.de/veranstaltung/spielkreis-fuer-kinder-ab-1-jahr/2028-02-17/
LOCATION:Kindergarten Börm\, Koogstraße 2\, Börm\, Bundesstaat wählen:\, 24863\, Germany
END:VEVENT
BEGIN:VEVENT
DTSTART;TZID=Europe/Berlin:20280224T150000
DTEND;TZID=Europe/Berlin:20280224T170000
DTSTAMP:20260423T183744
CREATED:20260205T094303Z
LAST-MODIFIED:20260205T094303Z
UID:10006907-1835017200-1835024400@kropp.de
SUMMARY:Spielkreis für Kinder ab 1 Jahr
DESCRIPTION:  \n 
URL:https://kropp.de/veranstaltung/spielkreis-fuer-kinder-ab-1-jahr/2028-02-24/
LOCATION:Kindergarten Börm\, Koogstraße 2\, Börm\, Bundesstaat wählen:\, 24863\, Germany
END:VEVENT
BEGIN:VEVENT
DTSTART;TZID=Europe/Berlin:20280302T150000
DTEND;TZID=Europe/Berlin:20280302T170000
DTSTAMP:20260423T183744
CREATED:20260205T094303Z
LAST-MODIFIED:20260205T094303Z
UID:10006908-1835622000-1835629200@kropp.de
SUMMARY:Spielkreis für Kinder ab 1 Jahr
DESCRIPTION:  \n 
URL:https://kropp.de/veranstaltung/spielkreis-fuer-kinder-ab-1-jahr/2028-03-02/
LOCATION:Kindergarten Börm\, Koogstraße 2\, Börm\, Bundesstaat wählen:\, 24863\, Germany
END:VEVENT
BEGIN:VEVENT
DTSTART;TZID=Europe/Berlin:20280309T150000
DTEND;TZID=Europe/Berlin:20280309T170000
DTSTAMP:20260423T183744
CREATED:20260205T094303Z
LAST-MODIFIED:20260205T094303Z
UID:10006909-1836226800-1836234000@kropp.de
SUMMARY:Spielkreis für Kinder ab 1 Jahr
DESCRIPTION:  \n 
URL:https://kropp.de/veranstaltung/spielkreis-fuer-kinder-ab-1-jahr/2028-03-09/
LOCATION:Kindergarten Börm\, Koogstraße 2\, Börm\, Bundesstaat wählen:\, 24863\, Germany
END:VEVENT
BEGIN:VEVENT
DTSTART;TZID=Europe/Berlin:20280316T150000
DTEND;TZID=Europe/Berlin:20280316T170000
DTSTAMP:20260423T183744
CREATED:20260205T094303Z
LAST-MODIFIED:20260205T094303Z
UID:10006910-1836831600-1836838800@kropp.de
SUMMARY:Spielkreis für Kinder ab 1 Jahr
DESCRIPTION:  \n 
URL:https://kropp.de/veranstaltung/spielkreis-fuer-kinder-ab-1-jahr/2028-03-16/
LOCATION:Kindergarten Börm\, Koogstraße 2\, Börm\, Bundesstaat wählen:\, 24863\, Germany
END:VEVENT
BEGIN:VEVENT
DTSTART;TZID=Europe/Berlin:20280323T150000
DTEND;TZID=Europe/Berlin:20280323T170000
DTSTAMP:20260423T183744
CREATED:20260205T094303Z
LAST-MODIFIED:20260205T094303Z
UID:10006911-1837436400-1837443600@kropp.de
SUMMARY:Spielkreis für Kinder ab 1 Jahr
DESCRIPTION:  \n 
URL:https://kropp.de/veranstaltung/spielkreis-fuer-kinder-ab-1-jahr/2028-03-23/
LOCATION:Kindergarten Börm\, Koogstraße 2\, Börm\, Bundesstaat wählen:\, 24863\, Germany
END:VEVENT
BEGIN:VEVENT
DTSTART;TZID=Europe/Berlin:20280330T150000
DTEND;TZID=Europe/Berlin:20280330T170000
DTSTAMP:20260423T183744
CREATED:20260205T094303Z
LAST-MODIFIED:20260205T094303Z
UID:10006912-1838041200-1838048400@kropp.de
SUMMARY:Spielkreis für Kinder ab 1 Jahr
DESCRIPTION:  \n 
URL:https://kropp.de/veranstaltung/spielkreis-fuer-kinder-ab-1-jahr/2028-03-30/
LOCATION:Kindergarten Börm\, Koogstraße 2\, Börm\, Bundesstaat wählen:\, 24863\, Germany
END:VEVENT
BEGIN:VEVENT
DTSTART;TZID=Europe/Berlin:20280406T150000
DTEND;TZID=Europe/Berlin:20280406T170000
DTSTAMP:20260423T183744
CREATED:20260205T094303Z
LAST-MODIFIED:20260205T094303Z
UID:10006913-1838646000-1838653200@kropp.de
SUMMARY:Spielkreis für Kinder ab 1 Jahr
DESCRIPTION:  \n 
URL:https://kropp.de/veranstaltung/spielkreis-fuer-kinder-ab-1-jahr/2028-04-06/
LOCATION:Kindergarten Börm\, Koogstraße 2\, Börm\, Bundesstaat wählen:\, 24863\, Germany
END:VEVENT
BEGIN:VEVENT
DTSTART;TZID=Europe/Berlin:20280413T150000
DTEND;TZID=Europe/Berlin:20280413T170000
DTSTAMP:20260423T183744
CREATED:20260205T094303Z
LAST-MODIFIED:20260205T094303Z
UID:10006914-1839250800-1839258000@kropp.de
SUMMARY:Spielkreis für Kinder ab 1 Jahr
DESCRIPTION:  \n 
URL:https://kropp.de/veranstaltung/spielkreis-fuer-kinder-ab-1-jahr/2028-04-13/
LOCATION:Kindergarten Börm\, Koogstraße 2\, Börm\, Bundesstaat wählen:\, 24863\, Germany
END:VEVENT
BEGIN:VEVENT
DTSTART;TZID=Europe/Berlin:20280420T150000
DTEND;TZID=Europe/Berlin:20280420T170000
DTSTAMP:20260423T183744
CREATED:20260205T094303Z
LAST-MODIFIED:20260205T094303Z
UID:10006915-1839855600-1839862800@kropp.de
SUMMARY:Spielkreis für Kinder ab 1 Jahr
DESCRIPTION:  \n 
URL:https://kropp.de/veranstaltung/spielkreis-fuer-kinder-ab-1-jahr/2028-04-20/
LOCATION:Kindergarten Börm\, Koogstraße 2\, Börm\, Bundesstaat wählen:\, 24863\, Germany
END:VEVENT
BEGIN:VEVENT
DTSTART;TZID=Europe/Berlin:20280427T150000
DTEND;TZID=Europe/Berlin:20280427T170000
DTSTAMP:20260423T183744
CREATED:20260205T094303Z
LAST-MODIFIED:20260205T094303Z
UID:10006916-1840460400-1840467600@kropp.de
SUMMARY:Spielkreis für Kinder ab 1 Jahr
DESCRIPTION:  \n 
URL:https://kropp.de/veranstaltung/spielkreis-fuer-kinder-ab-1-jahr/2028-04-27/
LOCATION:Kindergarten Börm\, Koogstraße 2\, Börm\, Bundesstaat wählen:\, 24863\, Germany
END:VEVENT
BEGIN:VEVENT
DTSTART;TZID=Europe/Berlin:20280504T150000
DTEND;TZID=Europe/Berlin:20280504T170000
DTSTAMP:20260423T183744
CREATED:20260205T094303Z
LAST-MODIFIED:20260205T094303Z
UID:10006917-1841065200-1841072400@kropp.de
SUMMARY:Spielkreis für Kinder ab 1 Jahr
DESCRIPTION:  \n 
URL:https://kropp.de/veranstaltung/spielkreis-fuer-kinder-ab-1-jahr/2028-05-04/
LOCATION:Kindergarten Börm\, Koogstraße 2\, Börm\, Bundesstaat wählen:\, 24863\, Germany
END:VEVENT
BEGIN:VEVENT
DTSTART;TZID=Europe/Berlin:20280511T150000
DTEND;TZID=Europe/Berlin:20280511T170000
DTSTAMP:20260423T183744
CREATED:20260205T094303Z
LAST-MODIFIED:20260205T094303Z
UID:10006918-1841670000-1841677200@kropp.de
SUMMARY:Spielkreis für Kinder ab 1 Jahr
DESCRIPTION:  \n 
URL:https://kropp.de/veranstaltung/spielkreis-fuer-kinder-ab-1-jahr/2028-05-11/
LOCATION:Kindergarten Börm\, Koogstraße 2\, Börm\, Bundesstaat wählen:\, 24863\, Germany
END:VEVENT
BEGIN:VEVENT
DTSTART;TZID=Europe/Berlin:20280518T150000
DTEND;TZID=Europe/Berlin:20280518T170000
DTSTAMP:20260423T183744
CREATED:20260205T094303Z
LAST-MODIFIED:20260205T094303Z
UID:10006919-1842274800-1842282000@kropp.de
SUMMARY:Spielkreis für Kinder ab 1 Jahr
DESCRIPTION:  \n 
URL:https://kropp.de/veranstaltung/spielkreis-fuer-kinder-ab-1-jahr/2028-05-18/
LOCATION:Kindergarten Börm\, Koogstraße 2\, Börm\, Bundesstaat wählen:\, 24863\, Germany
END:VEVENT
BEGIN:VEVENT
DTSTART;TZID=Europe/Berlin:20280525T150000
DTEND;TZID=Europe/Berlin:20280525T170000
DTSTAMP:20260423T183744
CREATED:20260205T094303Z
LAST-MODIFIED:20260205T094303Z
UID:10006920-1842879600-1842886800@kropp.de
SUMMARY:Spielkreis für Kinder ab 1 Jahr
DESCRIPTION:  \n 
URL:https://kropp.de/veranstaltung/spielkreis-fuer-kinder-ab-1-jahr/2028-05-25/
LOCATION:Kindergarten Börm\, Koogstraße 2\, Börm\, Bundesstaat wählen:\, 24863\, Germany
END:VEVENT
BEGIN:VEVENT
DTSTART;TZID=Europe/Berlin:20280601T150000
DTEND;TZID=Europe/Berlin:20280601T170000
DTSTAMP:20260423T183744
CREATED:20260205T094303Z
LAST-MODIFIED:20260205T094303Z
UID:10006921-1843484400-1843491600@kropp.de
SUMMARY:Spielkreis für Kinder ab 1 Jahr
DESCRIPTION:  \n 
URL:https://kropp.de/veranstaltung/spielkreis-fuer-kinder-ab-1-jahr/2028-06-01/
LOCATION:Kindergarten Börm\, Koogstraße 2\, Börm\, Bundesstaat wählen:\, 24863\, Germany
END:VEVENT
BEGIN:VEVENT
DTSTART;TZID=Europe/Berlin:20280608T150000
DTEND;TZID=Europe/Berlin:20280608T170000
DTSTAMP:20260423T183744
CREATED:20260205T094303Z
LAST-MODIFIED:20260205T094303Z
UID:10006922-1844089200-1844096400@kropp.de
SUMMARY:Spielkreis für Kinder ab 1 Jahr
DESCRIPTION:  \n 
URL:https://kropp.de/veranstaltung/spielkreis-fuer-kinder-ab-1-jahr/2028-06-08/
LOCATION:Kindergarten Börm\, Koogstraße 2\, Börm\, Bundesstaat wählen:\, 24863\, Germany
END:VEVENT
BEGIN:VEVENT
DTSTART;TZID=Europe/Berlin:20280615T150000
DTEND;TZID=Europe/Berlin:20280615T170000
DTSTAMP:20260423T183744
CREATED:20260205T094303Z
LAST-MODIFIED:20260205T094303Z
UID:10006923-1844694000-1844701200@kropp.de
SUMMARY:Spielkreis für Kinder ab 1 Jahr
DESCRIPTION:  \n 
URL:https://kropp.de/veranstaltung/spielkreis-fuer-kinder-ab-1-jahr/2028-06-15/
LOCATION:Kindergarten Börm\, Koogstraße 2\, Börm\, Bundesstaat wählen:\, 24863\, Germany
END:VEVENT
BEGIN:VEVENT
DTSTART;TZID=Europe/Berlin:20280622T150000
DTEND;TZID=Europe/Berlin:20280622T170000
DTSTAMP:20260423T183744
CREATED:20260205T094303Z
LAST-MODIFIED:20260205T094303Z
UID:10006924-1845298800-1845306000@kropp.de
SUMMARY:Spielkreis für Kinder ab 1 Jahr
DESCRIPTION:  \n 
URL:https://kropp.de/veranstaltung/spielkreis-fuer-kinder-ab-1-jahr/2028-06-22/
LOCATION:Kindergarten Börm\, Koogstraße 2\, Börm\, Bundesstaat wählen:\, 24863\, Germany
END:VEVENT
BEGIN:VEVENT
DTSTART;TZID=Europe/Berlin:20280629T150000
DTEND;TZID=Europe/Berlin:20280629T170000
DTSTAMP:20260423T183744
CREATED:20260205T094303Z
LAST-MODIFIED:20260205T094303Z
UID:10006925-1845903600-1845910800@kropp.de
SUMMARY:Spielkreis für Kinder ab 1 Jahr
DESCRIPTION:  \n 
URL:https://kropp.de/veranstaltung/spielkreis-fuer-kinder-ab-1-jahr/2028-06-29/
LOCATION:Kindergarten Börm\, Koogstraße 2\, Börm\, Bundesstaat wählen:\, 24863\, Germany
END:VEVENT
END:VCALENDAR